{"text_format":"1","workbook":"xlsx","n_sheets":5,"sheets":["Instructions","Data","Chart","Lookup","Calcs"],"not_rendered":{"charts":1,"images":2,"macros":1,"external_links":0,"defined_names":9,"comments":0,"pivot_tables":0},"unopened":[],"bounds":{"document_bytes":16777216,"sheet_cells":100000,"rows_first":2000,"rows_last":500,"rows_between":2000,"halvings":0,"cell_chars":16384,"cell_head_chars":4096},"cells_cut":0,"cells_raw":0,"read":"whole","date_system":"1900"}

{"sheet":"Instructions","index":0,"n_rows":10,"n_cols":2,"rows_kept":10,"cut":false,"hidden":false,"merged":[[0,0,0,5],[8,1,8,8],[11,0,11,8],[2,0,2,8],[4,1,4,8],[5,1,5,8],[6,1,6,8],[7,1,7,8]]}
["Instructions"]
[]
["This template produces a funnel plot to help you highlight variation in your data. Each coloured dot is a data point. The central line is the overall mean. The dotted lines show two standard deviations from the mean. Points inside the dotted lines are within the limits of normal variation and are shaded blue. Points below the lower limit are shaded orange and points above the upper limit are shaded green. To produce a chart:"]
[]
[1,"Go to the Data sheet."]
[2,"Clear any existing data using the 'Clear Data' button."]
[3,"Copy and paste your data into cell A6 of the data sheet. The template is set up for two columns of data."]
[4,"Add your chart title and axis labels at the top of the sheet."]
[5,"Click the chart button. This will sort your data and produce your chart."]
[6,"To review your data or produce a new chart, click the Data button."]

{"sheet":"Data","index":1,"n_rows":5,"n_cols":3,"rows_kept":5,"cut":false,"hidden":false,"merged":[]}
["Chart title","Time to triage"]
["X axis","Number of patients"]
["Y axis","Mean time to triage"]
[]
["Staff name","N","Val"]

{"sheet":"Chart","index":2,"n_rows":2,"n_cols":15,"rows_kept":2,"cut":false,"hidden":false,"merged":[]}
[null,null,null,null,null,null,null,null,null,null,null,null,null,null,"Show outlier names?"]
[null,null,null,null,null,null,null,null,null,null,null,null,null,null,"No"]

{"sheet":"Lookup","index":3,"n_rows":2,"n_cols":1,"rows_kept":2,"cut":false,"hidden":true,"merged":[]}
["Yes"]
["No"]

{"sheet":"Calcs","index":4,"n_rows":205,"n_cols":11,"rows_kept":205,"cut":false,"hidden":true,"merged":[]}
["Range","N patients","Val","Avg","Lower","Upper","Orange","Blue","Green","STDEV","Label"]
[{"$f":"IF(B2=\"\",\"\",1)","v":""},{"$f":"IF(Data!B6=\"\",\"\",Data!B6)","v":""},{"$f":"IF(Data!C6=\"\",\"\",Data!C6)","v":""},{"$f":"IF(B2=\"\",\"\",AVERAGE(Data!C:C))","v":""},{"$f":"IF(B2=\"\",\"\",IF((AVERAGE(Data!C:C)-2*J2)<0,0,AVERAGE(Data!C:C)-2*J2))","v":""},{"$f":"IF(B2=\"\",\"\",AVERAGE(Data!C:C)+2*J2)","v":""},{"$f":"IF(B2=\"\",\"\",IF(Data!C6<E2,Data!C6,#N/A))","v":""},{"$f":"IF(B2=\"\",\"\",IF(AND(Data!C6>=E2,Data!C6<=F2)=TRUE,Data!C6,\"\"))","v":""},{"$f":"IF(B2=\"\",\"\",IF(Data!C6>F2,Data!C6,#N/A))","v":""},{"$f":"STDEV(Data!C:C)/SQRT(Data!B6)","v":{"$error":"#DIV/0!"}},{"$f":"IF(AND(Data!A6<>\"\",Chart!$O$2=\"Yes\"),Data!A6,\"\")","v":""}]
[{"$f":"IF(B3=\"\",\"\",1)","v":""},{"$f":"IF(Data!B7=\"\",\"\",Data!B7)","v":""},{"$f":"IF(Data!C7=\"\",\"\",Data!C7)","v":""},{"$f":"IF(B3=\"\",\"\",AVERAGE(Data!C:C))","v":""},{"$f":"IF(B3=\"\",\"\",IF((AVERAGE(Data!C:C)-2*J3)<0,0,AVERAGE(Data!C:C)-2*J3))","v":""},{"$f":"IF(B3=\"\",\"\",AVERAGE(Data!C:C)+2*J3)","v":""},{"$f":"IF(B3=\"\",\"\",IF(Data!C7<E3,Data!C7,#N/A))","v":""},{"$f":"IF(AND(Data!C7>=E3,Data!C7<=F3)=TRUE,Data!C7,#N/A)","v":0},{"$f":"IF(B3=\"\",\"\",IF(Data!C7>F3,Data!C7,#N/A))","v":""},{"$f":"STDEV(Data!C:C)/SQRT(Data!B7)","v":{"$error":"#DIV/0!"}},{"$f":"IF(AND(Data!A7<>\"\",Chart!$O$2=\"Yes\"),Data!A7,\"\")","v":""}]
["",{"$f":"IF(Data!B8=\"\",\"\",Data!B8)","v":""},{"$f":"IF(Data!C8=\"\",\"\",Data!C8)","v":""},{"$f":"IF(B4=\"\",\"\",AVERAGE(Data!C:C))","v":""},{"$f":"IF(B4=\"\",\"\",IF((AVERAGE(Data!C:C)-2*J4)<0,0,AVERAGE(Data!C:C)-2*J4))","v":""},{"$f":"IF(B4=\"\",\"\",AVERAGE(Data!C:C)+2*J4)","v":""},{"$f":"IF(B4=\"\",\"\",IF(Data!C8<E4,Data!C8,#N/A))","v":""},{"$f":"IF(AND(Data!C8>=E4,Data!C8<=F4)=TRUE,Data!C8,#N/A)","v":0},{"$f":"IF(B4=\"\",\"\",IF(Data!C8>F4,Data!C8,#N/A))","v":""},{"$f":"STDEV(Data!C:C)/SQRT(Data!B8)","v":{"$error":"#DIV/0!"}},{"$f":"IF(AND(Data!A8<>\"\",Chart!$O$2=\"Yes\"),Data!A8,\"\")","v":""}]
["",{"$f":"IF(Data!B9=\"\",\"\",Data!B9)","v":""},{"$f":"IF(Data!C9=\"\",\"\",Data!C9)","v":""},{"$f":"IF(B5=\"\",\"\",AVERAGE(Data!C:C))","v":""},{"$f":"IF(B5=\"\",\"\",IF((AVERAGE(Data!C:C)-2*J5)<0,0,AVERAGE(Data!C:C)-2*J5))","v":""},{"$f":"IF(B5=\"\",\"\",AVERAGE(Data!C:C)+2*J5)","v":""},{"$f":"IF(B5=\"\",\"\",IF(Data!C9<E5,Data!C9,#N/A))","v":""},{"$f":"IF(AND(Data!C9>=E5,Data!C9<=F5)=TRUE,Data!C9,#N/A)","v":0},{"$f":"IF(B5=\"\",\"\",IF(Data!C9>F5,Data!C9,#N/A))","v":""},{"$f":"STDEV(Data!C:C)/SQRT(Data!B9)","v":{"$error":"#DIV/0!"}},{"$f":"IF(AND(Data!A9<>\"\",Chart!$O$2=\"Yes\"),Data!A9,\"\")","v":""}]
["",{"$f":"IF(Data!B10=\"\",\"\",Data!B10)","v":""},{"$f":"IF(Data!C10=\"\",\"\",Data!C10)","v":""},{"$f":"IF(B6=\"\",\"\",AVERAGE(Data!C:C))","v":""},{"$f":"IF(B6=\"\",\"\",IF((AVERAGE(Data!C:C)-2*J6)<0,0,AVERAGE(Data!C:C)-2*J6))","v":""},{"$f":"IF(B6=\"\",\"\",AVERAGE(Data!C:C)+2*J6)","v":""},{"$f":"IF(B6=\"\",\"\",IF(Data!C10<E6,Data!C10,#N/A))","v":""},{"$f":"IF(AND(Data!C10>=E6,Data!C10<=F6)=TRUE,Data!C10,#N/A)","v":0},{"$f":"IF(B6=\"\",\"\",IF(Data!C10>F6,Data!C10,#N/A))","v":""},{"$f":"STDEV(Data!C:C)/SQRT(Data!B10)","v":{"$error":"#DIV/0!"}},{"$f":"IF(AND(Data!A10<>\"\",Chart!$O$2=\"Yes\"),Data!A10,\"\")","v":""}]
["",{"$f":"IF(Data!B11=\"\",\"\",Data!B11)","v":""},{"$f":"IF(Data!C11=\"\",\"\",Data!C11)","v":""},{"$f":"IF(B7=\"\",\"\",AVERAGE(Data!C:C))","v":""},{"$f":"IF(B7=\"\",\"\",IF((AVERAGE(Data!C:C)-2*J7)<0,0,AVERAGE(Data!C:C)-2*J7))","v":""},{"$f":"IF(B7=\"\",\"\",AVERAGE(Data!C:C)+2*J7)","v":""},{"$f":"IF(B7=\"\",\"\",IF(Data!C11<E7,Data!C11,#N/A))","v":""},{"$f":"IF(AND(Data!C11>=E7,Data!C11<=F7)=TRUE,Data!C11,#N/A)","v":0},{"$f":"IF(B7=\"\",\"\",IF(Data!C11>F7,Data!C11,#N/A))","v":""},{"$f":"STDEV(Data!C:C)/SQRT(Data!B11)","v":{"$error":"#DIV/0!"}},{"$f":"IF(AND(Data!A11<>\"\",Chart!$O$2=\"Yes\"),Data!A11,\"\")","v":""}]
["",{"$f":"IF(Data!B12=\"\",\"\",Data!B12)","v":""},{"$f":"IF(Data!C12=\"\",\"\",Data!C12)","v":""},{"$f":"IF(B8=\"\",\"\",AVERAGE(Data!C:C))","v":""},{"$f":"IF(B8=\"\",\"\",IF((AVERAGE(Data!C:C)-2*J8)<0,0,AVERAGE(Data!C:C)-2*J8))","v":""},{"$f":"IF(B8=\"\",\"\",AVERAGE(Data!C:C)+2*J8)","v":""},{"$f":"IF(B8=\"\",\"\",IF(Data!C12<E8,Data!C12,#N/A))","v":""},{"$f":"IF(AND(Data!C12>=E8,Data!C12<=F8)=TRUE,Data!C12,#N/A)","v":0},{"$f":"IF(B8=\"\",\"\",IF(Data!C12>F8,Data!C12,#N/A))","v":""},{"$f":"STDEV(Data!C:C)/SQRT(Data!B12)","v":{"$error":"#DIV/0!"}},{"$f":"IF(AND(Data!A12<>\"\",Chart!$O$2=\"Yes\"),Data!A12,\"\")","v":""}]
["",{"$f":"IF(Data!B13=\"\",\"\",Data!B13)","v":""},{"$f":"IF(Data!C13=\"\",\"\",Data!C13)","v":""},{"$f":"IF(B9=\"\",\"\",AVERAGE(Data!C:C))","v":""},{"$f":"IF(B9=\"\",\"\",IF((AVERAGE(Data!C:C)-2*J9)<0,0,AVERAGE(Data!C:C)-2*J9))","v":""},{"$f":"IF(B9=\"\",\"\",AVERAGE(Data!C:C)+2*J9)","v":""},{"$f":"IF(B9=\"\",\"\",IF(Data!C13<E9,Data!C13,#N/A))","v":""},{"$f":"IF(AND(Data!C13>=E9,Data!C13<=F9)=TRUE,Data!C13,#N/A)","v":0},{"$f":"IF(B9=\"\",\"\",IF(Data!C13>F9,Data!C13,#N/A))","v":""},{"$f":"STDEV(Data!C:C)/SQRT(Data!B13)","v":{"$error":"#DIV/0!"}},{"$f":"IF(AND(Data!A13<>\"\",Chart!$O$2=\"Yes\"),Data!A13,\"\")","v":""}]
["",{"$f":"IF(Data!B14=\"\",\"\",Data!B14)","v":""},{"$f":"IF(Data!C14=\"\",\"\",Data!C14)","v":""},{"$f":"IF(B10=\"\",\"\",AVERAGE(Data!C:C))","v":""},{"$f":"IF(B10=\"\",\"\",IF((AVERAGE(Data!C:C)-2*J10)<0,0,AVERAGE(Data!C:C)-2*J10))","v":""},{"$f":"IF(B10=\"\",\"\",AVERAGE(Data!C:C)+2*J10)","v":""},{"$f":"IF(B10=\"\",\"\",IF(Data!C14<E10,Data!C14,#N/A))","v":""},{"$f":"IF(AND(Data!C14>=E10,Data!C14<=F10)=TRUE,Data!C14,#N/A)","v":0},{"$f":"IF(B10=\"\",\"\",IF(Data!C14>F10,Data!C14,#N/A))","v":""},{"$f":"STDEV(Data!C:C)/SQRT(Data!B14)","v":{"$error":"#DIV/0!"}},{"$f":"IF(AND(Data!A14<>\"\",Chart!$O$2=\"Yes\"),Data!A14,\"\")","v":""}]
["",{"$f":"IF(Data!B15=\"\",\"\",Data!B15)","v":""},{"$f":"IF(Data!C15=\"\",\"\",Data!C15)","v":""},{"$f":"IF(B11=\"\",\"\",AVERAGE(Data!C:C))","v":""},{"$f":"IF(B11=\"\",\"\",IF((AVERAGE(Data!C:C)-2*J11)<0,0,AVERAGE(Data!C:C)-2*J11))","v":""},{"$f":"IF(B11=\"\",\"\",AVERAGE(Data!C:C)+2*J11)","v":""},{"$f":"IF(B11=\"\",\"\",IF(Data!C15<E11,Data!C15,#N/A))","v":""},{"$f":"IF(AND(Data!C15>=E11,Data!C15<=F11)=TRUE,Data!C15,#N/A)","v":0},{"$f":"IF(B11=\"\",\"\",IF(Data!C15>F11,Data!C15,#N/A))","v":""},{"$f":"STDEV(Data!C:C)/SQRT(Data!B15)","v":{"$error":"#DIV/0!"}},{"$f":"IF(AND(Data!A15<>\"\",Chart!$O$2=\"Yes\"),Data!A15,\"\")","v":""}]
["",{"$f":"IF(Data!B16=\"\",\"\",Data!B16)","v":""},{"$f":"IF(Data!C16=\"\",\"\",Data!C16)","v":""},{"$f":"IF(B12=\"\",\"\",AVERAGE(Data!C:C))","v":""},{"$f":"IF(B12=\"\",\"\",IF((AVERAGE(Data!C:C)-2*J12)<0,0,AVERAGE(Data!C:C)-2*J12))","v":""},{"$f":"IF(B12=\"\",\"\",AVERAGE(Data!C:C)+2*J12)","v":""},{"$f":"IF(B12=\"\",\"\",IF(Data!C16<E12,Data!C16,#N/A))","v":""},{"$f":"IF(AND(Data!C16>=E12,Data!C16<=F12)=TRUE,Data!C16,#N/A)","v":0},{"$f":"IF(B12=\"\",\"\",IF(Data!C16>F12,Data!C16,#N/A))","v":""},{"$f":"STDEV(Data!C:C)/SQRT(Data!B16)","v":{"$error":"#DIV/0!"}},{"$f":"IF(AND(Data!A16<>\"\",Chart!$O$2=\"Yes\"),Data!A16,\"\")","v":""}]
["",{"$f":"IF(Data!B17=\"\",\"\",Data!B17)","v":""},{"$f":"IF(Data!C17=\"\",\"\",Data!C17)","v":""},{"$f":"IF(B13=\"\",\"\",AVERAGE(Data!C:C))","v":""},{"$f":"IF(B13=\"\",\"\",IF((AVERAGE(Data!C:C)-2*J13)<0,0,AVERAGE(Data!C:C)-2*J13))","v":""},{"$f":"IF(B13=\"\",\"\",AVERAGE(Data!C:C)+2*J13)","v":""},{"$f":"IF(B13=\"\",\"\",IF(Data!C17<E13,Data!C17,#N/A))","v":""},{"$f":"IF(AND(Data!C17>=E13,Data!C17<=F13)=TRUE,Data!C17,#N/A)","v":0},{"$f":"IF(B13=\"\",\"\",IF(Data!C17>F13,Data!C17,#N/A))","v":""},{"$f":"STDEV(Data!C:C)/SQRT(Data!B17)","v":{"$error":"#DIV/0!"}},{"$f":"IF(AND(Data!A17<>\"\",Chart!$O$2=\"Yes\"),Data!A17,\"\")","v":""}]
["",{"$f":"IF(Data!B18=\"\",\"\",Data!B18)","v":""},{"$f":"IF(Data!C18=\"\",\"\",Data!C18)","v":""},{"$f":"IF(B14=\"\",\"\",AVERAGE(Data!C:C))","v":""},{"$f":"IF(B14=\"\",\"\",IF((AVERAGE(Data!C:C)-2*J14)<0,0,AVERAGE(Data!C:C)-2*J14))","v":""},{"$f":"IF(B14=\"\",\"\",AVERAGE(Data!C:C)+2*J14)","v":""},{"$f":"IF(B14=\"\",\"\",IF(Data!C18<E14,Data!C18,#N/A))","v":""},{"$f":"IF(AND(Data!C18>=E14,Data!C18<=F14)=TRUE,Data!C18,#N/A)","v":0},{"$f":"IF(B14=\"\",\"\",IF(Data!C18>F14,Data!C18,#N/A))","v":""},{"$f":"STDEV(Data!C:C)/SQRT(Data!B18)","v":{"$error":"#DIV/0!"}},{"$f":"IF(AND(Data!A18<>\"\",Chart!$O$2=\"Yes\"),Data!A18,\"\")","v":""}]
["",{"$f":"IF(Data!B19=\"\",\"\",Data!B19)","v":""},{"$f":"IF(Data!C19=\"\",\"\",Data!C19)","v":""},{"$f":"IF(B15=\"\",\"\",AVERAGE(Data!C:C))","v":""},{"$f":"IF(B15=\"\",\"\",IF((AVERAGE(Data!C:C)-2*J15)<0,0,AVERAGE(Data!C:C)-2*J15))","v":""},{"$f":"IF(B15=\"\",\"\",AVERAGE(Data!C:C)+2*J15)","v":""},{"$f":"IF(B15=\"\",\"\",IF(Data!C19<E15,Data!C19,#N/A))","v":""},{"$f":"IF(AND(Data!C19>=E15,Data!C19<=F15)=TRUE,Data!C19,#N/A)","v":0},{"$f":"IF(B15=\"\",\"\",IF(Data!C19>F15,Data!C19,#N/A))","v":""},{"$f":"STDEV(Data!C:C)/SQRT(Data!B19)","v":{"$error":"#DIV/0!"}},{"$f":"IF(AND(Data!A19<>\"\",Chart!$O$2=\"Yes\"),Data!A19,\"\")","v":""}]
["",{"$f":"IF(Data!B20=\"\",\"\",Data!B20)","v":""},{"$f":"IF(Data!C20=\"\",\"\",Data!C20)","v":""},{"$f":"IF(B16=\"\",\"\",AVERAGE(Data!C:C))","v":""},{"$f":"IF(B16=\"\",\"\",IF((AVERAGE(Data!C:C)-2*J16)<0,0,AVERAGE(Data!C:C)-2*J16))","v":""},{"$f":"IF(B16=\"\",\"\",AVERAGE(Data!C:C)+2*J16)","v":""},{"$f":"IF(B16=\"\",\"\",IF(Data!C20<E16,Data!C20,#N/A))","v":""},{"$f":"IF(AND(Data!C20>=E16,Data!C20<=F16)=TRUE,Data!C20,#N/A)","v":0},{"$f":"IF(B16=\"\",\"\",IF(Data!C20>F16,Data!C20,#N/A))","v":""},{"$f":"STDEV(Data!C:C)/SQRT(Data!B20)","v":{"$error":"#DIV/0!"}},{"$f":"IF(AND(Data!A20<>\"\",Chart!$O$2=\"Yes\"),Data!A20,\"\")","v":""}]
["",{"$f":"IF(Data!B21=\"\",\"\",Data!B21)","v":""},{"$f":"IF(Data!C21=\"\",\"\",Data!C21)","v":""},{"$f":"IF(B17=\"\",\"\",AVERAGE(Data!C:C))","v":""},{"$f":"IF(B17=\"\",\"\",IF((AVERAGE(Data!C:C)-2*J17)<0,0,AVERAGE(Data!C:C)-2*J17))","v":""},{"$f":"IF(B17=\"\",\"\",AVERAGE(Data!C:C)+2*J17)","v":""},{"$f":"IF(B17=\"\",\"\",IF(Data!C21<E17,Data!C21,#N/A))","v":""},{"$f":"IF(AND(Data!C21>=E17,Data!C21<=F17)=TRUE,Data!C21,#N/A)","v":0},{"$f":"IF(B17=\"\",\"\",IF(Data!C21>F17,Data!C21,#N/A))","v":""},{"$f":"STDEV(Data!C:C)/SQRT(Data!B21)","v":{"$error":"#DIV/0!"}},{"$f":"IF(AND(Data!A21<>\"\",Chart!$O$2=\"Yes\"),Data!A21,\"\")","v":""}]
["",{"$f":"IF(Data!B22=\"\",\"\",Data!B22)","v":""},{"$f":"IF(Data!C22=\"\",\"\",Data!C22)","v":""},{"$f":"IF(B18=\"\",\"\",AVERAGE(Data!C:C))","v":""},{"$f":"IF(B18=\"\",\"\",IF((AVERAGE(Data!C:C)-2*J18)<0,0,AVERAGE(Data!C:C)-2*J18))","v":""},{"$f":"IF(B18=\"\",\"\",AVERAGE(Data!C:C)+2*J18)","v":""},{"$f":"IF(B18=\"\",\"\",IF(Data!C22<E18,Data!C22,#N/A))","v":""},{"$f":"IF(AND(Data!C22>=E18,Data!C22<=F18)=TRUE,Data!C22,#N/A)","v":0},{"$f":"IF(B18=\"\",\"\",IF(Data!C22>F18,Data!C22,#N/A))","v":""},{"$f":"STDEV(Data!C:C)/SQRT(Data!B22)","v":{"$error":"#DIV/0!"}},{"$f":"IF(AND(Data!A22<>\"\",Chart!$O$2=\"Yes\"),Data!A22,\"\")","v":""}]
["",{"$f":"IF(Data!B23=\"\",\"\",Data!B23)","v":""},{"$f":"IF(Data!C23=\"\",\"\",Data!C23)","v":""},{"$f":"IF(B19=\"\",\"\",AVERAGE(Data!C:C))","v":""},{"$f":"IF(B19=\"\",\"\",IF((AVERAGE(Data!C:C)-2*J19)<0,0,AVERAGE(Data!C:C)-2*J19))","v":""},{"$f":"IF(B19=\"\",\"\",AVERAGE(Data!C:C)+2*J19)","v":""},{"$f":"IF(B19=\"\",\"\",IF(Data!C23<E19,Data!C23,#N/A))","v":""},{"$f":"IF(AND(Data!C23>=E19,Data!C23<=F19)=TRUE,Data!C23,#N/A)","v":0},{"$f":"IF(B19=\"\",\"\",IF(Data!C23>F19,Data!C23,#N/A))","v":""},{"$f":"STDEV(Data!C:C)/SQRT(Data!B23)","v":{"$error":"#DIV/0!"}},{"$f":"IF(AND(Data!A23<>\"\",Chart!$O$2=\"Yes\"),Data!A23,\"\")","v":""}]
["",{"$f":"IF(Data!B24=\"\",\"\",Data!B24)","v":""},{"$f":"IF(Data!C24=\"\",\"\",Data!C24)","v":""},{"$f":"IF(B20=\"\",\"\",AVERAGE(Data!C:C))","v":""},{"$f":"IF(B20=\"\",\"\",IF((AVERAGE(Data!C:C)-2*J20)<0,0,AVERAGE(Data!C:C)-2*J20))","v":""},{"$f":"IF(B20=\"\",\"\",AVERAGE(Data!C:C)+2*J20)","v":""},{"$f":"IF(B20=\"\",\"\",IF(Data!C24<E20,Data!C24,#N/A))","v":""},{"$f":"IF(AND(Data!C24>=E20,Data!C24<=F20)=TRUE,Data!C24,#N/A)","v":0},{"$f":"IF(B20=\"\",\"\",IF(Data!C24>F20,Data!C24,#N/A))","v":""},{"$f":"STDEV(Data!C:C)/SQRT(Data!B24)","v":{"$error":"#DIV/0!"}},{"$f":"IF(AND(Data!A24<>\"\",Chart!$O$2=\"Yes\"),Data!A24,\"\")","v":""}]
["",{"$f":"IF(Data!B25=\"\",\"\",Data!B25)","v":""},{"$f":"IF(Data!C25=\"\",\"\",Data!C25)","v":""},{"$f":"IF(B21=\"\",\"\",AVERAGE(Data!C:C))","v":""},{"$f":"IF(B21=\"\",\"\",IF((AVERAGE(Data!C:C)-2*J21)<0,0,AVERAGE(Data!C:C)-2*J21))","v":""},{"$f":"IF(B21=\"\",\"\",AVERAGE(Data!C:C)+2*J21)","v":""},{"$f":"IF(B21=\"\",\"\",IF(Data!C25<E21,Data!C25,#N/A))","v":""},{"$f":"IF(AND(Data!C25>=E21,Data!C25<=F21)=TRUE,Data!C25,#N/A)","v":0},{"$f":"IF(B21=\"\",\"\",IF(Data!C25>F21,Data!C25,#N/A))","v":""},{"$f":"STDEV(Data!C:C)/SQRT(Data!B25)","v":{"$error":"#DIV/0!"}},{"$f":"IF(AND(Data!A25<>\"\",Chart!$O$2=\"Yes\"),Data!A25,\"\")","v":""}]
["",{"$f":"IF(Data!B26=\"\",\"\",Data!B26)","v":""},{"$f":"IF(Data!C26=\"\",\"\",Data!C26)","v":""},{"$f":"IF(B22=\"\",\"\",AVERAGE(Data!C:C))","v":""},{"$f":"IF(B22=\"\",\"\",IF((AVERAGE(Data!C:C)-2*J22)<0,0,AVERAGE(Data!C:C)-2*J22))","v":""},{"$f":"IF(B22=\"\",\"\",AVERAGE(Data!C:C)+2*J22)","v":""},{"$f":"IF(B22=\"\",\"\",IF(Data!C26<E22,Data!C26,#N/A))","v":""},{"$f":"IF(AND(Data!C26>=E22,Data!C26<=F22)=TRUE,Data!C26,#N/A)","v":0},{"$f":"IF(B22=\"\",\"\",IF(Data!C26>F22,Data!C26,#N/A))","v":""},{"$f":"STDEV(Data!C:C)/SQRT(Data!B26)","v":{"$error":"#DIV/0!"}},{"$f":"IF(AND(Data!A26<>\"\",Chart!$O$2=\"Yes\"),Data!A26,\"\")","v":""}]
["",{"$f":"IF(Data!B27=\"\",\"\",Data!B27)","v":""},{"$f":"IF(Data!C27=\"\",\"\",Data!C27)","v":""},{"$f":"IF(B23=\"\",\"\",AVERAGE(Data!C:C))","v":""},{"$f":"IF(B23=\"\",\"\",IF((AVERAGE(Data!C:C)-2*J23)<0,0,AVERAGE(Data!C:C)-2*J23))","v":""},{"$f":"IF(B23=\"\",\"\",AVERAGE(Data!C:C)+2*J23)","v":""},{"$f":"IF(B23=\"\",\"\",IF(Data!C27<E23,Data!C27,#N/A))","v":""},{"$f":"IF(AND(Data!C27>=E23,Data!C27<=F23)=TRUE,Data!C27,#N/A)","v":0},{"$f":"IF(B23=\"\",\"\",IF(Data!C27>F23,Data!C27,#N/A))","v":""},{"$f":"STDEV(Data!C:C)/SQRT(Data!B27)","v":{"$error":"#DIV/0!"}},{"$f":"IF(AND(Data!A27<>\"\",Chart!$O$2=\"Yes\"),Data!A27,\"\")","v":""}]
["",{"$f":"IF(Data!B28=\"\",\"\",Data!B28)","v":""},{"$f":"IF(Data!C28=\"\",\"\",Data!C28)","v":""},{"$f":"IF(B24=\"\",\"\",AVERAGE(Data!C:C))","v":""},{"$f":"IF(B24=\"\",\"\",IF((AVERAGE(Data!C:C)-2*J24)<0,0,AVERAGE(Data!C:C)-2*J24))","v":""},{"$f":"IF(B24=\"\",\"\",AVERAGE(Data!C:C)+2*J24)","v":""},{"$f":"IF(B24=\"\",\"\",IF(Data!C28<E24,Data!C28,#N/A))","v":""},{"$f":"IF(AND(Data!C28>=E24,Data!C28<=F24)=TRUE,Data!C28,#N/A)","v":0},{"$f":"IF(B24=\"\",\"\",IF(Data!C28>F24,Data!C28,#N/A))","v":""},{"$f":"STDEV(Data!C:C)/SQRT(Data!B28)","v":{"$error":"#DIV/0!"}},{"$f":"IF(AND(Data!A28<>\"\",Chart!$O$2=\"Yes\"),Data!A28,\"\")","v":""}]
["",{"$f":"IF(Data!B29=\"\",\"\",Data!B29)","v":""},{"$f":"IF(Data!C29=\"\",\"\",Data!C29)","v":""},{"$f":"IF(B25=\"\",\"\",AVERAGE(Data!C:C))","v":""},{"$f":"IF(B25=\"\",\"\",IF((AVERAGE(Data!C:C)-2*J25)<0,0,AVERAGE(Data!C:C)-2*J25))","v":""},{"$f":"IF(B25=\"\",\"\",AVERAGE(Data!C:C)+2*J25)","v":""},{"$f":"IF(B25=\"\",\"\",IF(Data!C29<E25,Data!C29,#N/A))","v":""},{"$f":"IF(AND(Data!C29>=E25,Data!C29<=F25)=TRUE,Data!C29,#N/A)","v":0},{"$f":"IF(B25=\"\",\"\",IF(Data!C29>F25,Data!C29,#N/A))","v":""},{"$f":"STDEV(Data!C:C)/SQRT(Data!B29)","v":{"$error":"#DIV/0!"}},{"$f":"IF(AND(Data!A29<>\"\",Chart!$O$2=\"Yes\"),Data!A29,\"\")","v":""}]
["",{"$f":"IF(Data!B30=\"\",\"\",Data!B30)","v":""},{"$f":"IF(Data!C30=\"\",\"\",Data!C30)","v":""},{"$f":"IF(B26=\"\",\"\",AVERAGE(Data!C:C))","v":""},{"$f":"IF(B26=\"\",\"\",IF((AVERAGE(Data!C:C)-2*J26)<0,0,AVERAGE(Data!C:C)-2*J26))","v":""},{"$f":"IF(B26=\"\",\"\",AVERAGE(Data!C:C)+2*J26)","v":""},{"$f":"IF(B26=\"\",\"\",IF(Data!C30<E26,Data!C30,#N/A))","v":""},{"$f":"IF(AND(Data!C30>=E26,Data!C30<=F26)=TRUE,Data!C30,#N/A)","v":0},{"$f":"IF(B26=\"\",\"\",IF(Data!C30>F26,Data!C30,#N/A))","v":""},{"$f":"STDEV(Data!C:C)/SQRT(Data!B30)","v":{"$error":"#DIV/0!"}},{"$f":"IF(AND(Data!A30<>\"\",Chart!$O$2=\"Yes\"),Data!A30,\"\")","v":""}]
["",{"$f":"IF(Data!B31=\"\",\"\",Data!B31)","v":""},{"$f":"IF(Data!C31=\"\",\"\",Data!C31)","v":""},{"$f":"IF(B27=\"\",\"\",AVERAGE(Data!C:C))","v":""},{"$f":"IF(B27=\"\",\"\",IF((AVERAGE(Data!C:C)-2*J27)<0,0,AVERAGE(Data!C:C)-2*J27))","v":""},{"$f":"IF(B27=\"\",\"\",AVERAGE(Data!C:C)+2*J27)","v":""},{"$f":"IF(B27=\"\",\"\",IF(Data!C31<E27,Data!C31,#N/A))","v":""},{"$f":"IF(AND(Data!C31>=E27,Data!C31<=F27)=TRUE,Data!C31,#N/A)","v":0},{"$f":"IF(B27=\"\",\"\",IF(Data!C31>F27,Data!C31,#N/A))","v":""},{"$f":"STDEV(Data!C:C)/SQRT(Data!B31)","v":{"$error":"#DIV/0!"}},{"$f":"IF(AND(Data!A31<>\"\",Chart!$O$2=\"Yes\"),Data!A31,\"\")","v":""}]
["",{"$f":"IF(Data!B32=\"\",\"\",Data!B32)","v":""},{"$f":"IF(Data!C32=\"\",\"\",Data!C32)","v":""},{"$f":"IF(B28=\"\",\"\",AVERAGE(Data!C:C))","v":""},{"$f":"IF(B28=\"\",\"\",IF((AVERAGE(Data!C:C)-2*J28)<0,0,AVERAGE(Data!C:C)-2*J28))","v":""},{"$f":"IF(B28=\"\",\"\",AVERAGE(Data!C:C)+2*J28)","v":""},{"$f":"IF(B28=\"\",\"\",IF(Data!C32<E28,Data!C32,#N/A))","v":""},{"$f":"IF(AND(Data!C32>=E28,Data!C32<=F28)=TRUE,Data!C32,#N/A)","v":0},{"$f":"IF(B28=\"\",\"\",IF(Data!C32>F28,Data!C32,#N/A))","v":""},{"$f":"STDEV(Data!C:C)/SQRT(Data!B32)","v":{"$error":"#DIV/0!"}},{"$f":"IF(AND(Data!A32<>\"\",Chart!$O$2=\"Yes\"),Data!A32,\"\")","v":""}]
["",{"$f":"IF(Data!B33=\"\",\"\",Data!B33)","v":""},{"$f":"IF(Data!C33=\"\",\"\",Data!C33)","v":""},{"$f":"IF(B29=\"\",\"\",AVERAGE(Data!C:C))","v":""},{"$f":"IF(B29=\"\",\"\",IF((AVERAGE(Data!C:C)-2*J29)<0,0,AVERAGE(Data!C:C)-2*J29))","v":""},{"$f":"IF(B29=\"\",\"\",AVERAGE(Data!C:C)+2*J29)","v":""},{"$f":"IF(B29=\"\",\"\",IF(Data!C33<E29,Data!C33,#N/A))","v":""},{"$f":"IF(AND(Data!C33>=E29,Data!C33<=F29)=TRUE,Data!C33,#N/A)","v":0},{"$f":"IF(B29=\"\",\"\",IF(Data!C33>F29,Data!C33,#N/A))","v":""},{"$f":"STDEV(Data!C:C)/SQRT(Data!B33)","v":{"$error":"#DIV/0!"}},{"$f":"IF(AND(Data!A33<>\"\",Chart!$O$2=\"Yes\"),Data!A33,\"\")","v":""}]
["",{"$f":"IF(Data!B34=\"\",\"\",Data!B34)","v":""},{"$f":"IF(Data!C34=\"\",\"\",Data!C34)","v":""},{"$f":"IF(B30=\"\",\"\",AVERAGE(Data!C:C))","v":""},{"$f":"IF(B30=\"\",\"\",IF((AVERAGE(Data!C:C)-2*J30)<0,0,AVERAGE(Data!C:C)-2*J30))","v":""},{"$f":"IF(B30=\"\",\"\",AVERAGE(Data!C:C)+2*J30)","v":""},{"$f":"IF(B30=\"\",\"\",IF(Data!C34<E30,Data!C34,#N/A))","v":""},{"$f":"IF(AND(Data!C34>=E30,Data!C34<=F30)=TRUE,Data!C34,#N/A)","v":0},{"$f":"IF(B30=\"\",\"\",IF(Data!C34>F30,Data!C34,#N/A))","v":""},{"$f":"STDEV(Data!C:C)/SQRT(Data!B34)","v":{"$error":"#DIV/0!"}},{"$f":"IF(AND(Data!A34<>\"\",Chart!$O$2=\"Yes\"),Data!A34,\"\")","v":""}]
["",{"$f":"IF(Data!B35=\"\",\"\",Data!B35)","v":""},{"$f":"IF(Data!C35=\"\",\"\",Data!C35)","v":""},{"$f":"IF(B31=\"\",\"\",AVERAGE(Data!C:C))","v":""},{"$f":"IF(B31=\"\",\"\",IF((AVERAGE(Data!C:C)-2*J31)<0,0,AVERAGE(Data!C:C)-2*J31))","v":""},{"$f":"IF(B31=\"\",\"\",AVERAGE(Data!C:C)+2*J31)","v":""},{"$f":"IF(B31=\"\",\"\",IF(Data!C35<E31,Data!C35,#N/A))","v":""},{"$f":"IF(AND(Data!C35>=E31,Data!C35<=F31)=TRUE,Data!C35,#N/A)","v":0},{"$f":"IF(B31=\"\",\"\",IF(Data!C35>F31,Data!C35,#N/A))","v":""},{"$f":"STDEV(Data!C:C)/SQRT(Data!B35)","v":{"$error":"#DIV/0!"}},{"$f":"IF(AND(Data!A35<>\"\",Chart!$O$2=\"Yes\"),Data!A35,\"\")","v":""}]
["",{"$f":"IF(Data!B36=\"\",\"\",Data!B36)","v":""},{"$f":"IF(Data!C36=\"\",\"\",Data!C36)","v":""},{"$f":"IF(B32=\"\",\"\",AVERAGE(Data!C:C))","v":""},{"$f":"IF(B32=\"\",\"\",IF((AVERAGE(Data!C:C)-2*J32)<0,0,AVERAGE(Data!C:C)-2*J32))","v":""},{"$f":"IF(B32=\"\",\"\",AVERAGE(Data!C:C)+2*J32)","v":""},{"$f":"IF(B32=\"\",\"\",IF(Data!C36<E32,Data!C36,#N/A))","v":""},{"$f":"IF(AND(Data!C36>=E32,Data!C36<=F32)=TRUE,Data!C36,#N/A)","v":0},{"$f":"IF(B32=\"\",\"\",IF(Data!C36>F32,Data!C36,#N/A))","v":""},{"$f":"STDEV(Data!C:C)/SQRT(Data!B36)","v":{"$error":"#DIV/0!"}},{"$f":"IF(AND(Data!A36<>\"\",Chart!$O$2=\"Yes\"),Data!A36,\"\")","v":""}]
["",{"$f":"IF(Data!B37=\"\",\"\",Data!B37)","v":""},{"$f":"IF(Data!C37=\"\",\"\",Data!C37)","v":""},{"$f":"IF(B33=\"\",\"\",AVERAGE(Data!C:C))","v":""},{"$f":"IF(B33=\"\",\"\",IF((AVERAGE(Data!C:C)-2*J33)<0,0,AVERAGE(Data!C:C)-2*J33))","v":""},{"$f":"IF(B33=\"\",\"\",AVERAGE(Data!C:C)+2*J33)","v":""},{"$f":"IF(B33=\"\",\"\",IF(Data!C37<E33,Data!C37,#N/A))","v":""},{"$f":"IF(AND(Data!C37>=E33,Data!C37<=F33)=TRUE,Data!C37,#N/A)","v":0},{"$f":"IF(B33=\"\",\"\",IF(Data!C37>F33,Data!C37,#N/A))","v":""},{"$f":"STDEV(Data!C:C)/SQRT(Data!B37)","v":{"$error":"#DIV/0!"}},{"$f":"IF(AND(Data!A37<>\"\",Chart!$O$2=\"Yes\"),Data!A37,\"\")","v":""}]
["",{"$f":"IF(Data!B38=\"\",\"\",Data!B38)","v":""},{"$f":"IF(Data!C38=\"\",\"\",Data!C38)","v":""},{"$f":"IF(B34=\"\",\"\",AVERAGE(Data!C:C))","v":""},{"$f":"IF(B34=\"\",\"\",IF((AVERAGE(Data!C:C)-2*J34)<0,0,AVERAGE(Data!C:C)-2*J34))","v":""},{"$f":"IF(B34=\"\",\"\",AVERAGE(Data!C:C)+2*J34)","v":""},{"$f":"IF(B34=\"\",\"\",IF(Data!C38<E34,Data!C38,#N/A))","v":""},{"$f":"IF(AND(Data!C38>=E34,Data!C38<=F34)=TRUE,Data!C38,#N/A)","v":0},{"$f":"IF(B34=\"\",\"\",IF(Data!C38>F34,Data!C38,#N/A))","v":""},{"$f":"STDEV(Data!C:C)/SQRT(Data!B38)","v":{"$error":"#DIV/0!"}},{"$f":"IF(AND(Data!A38<>\"\",Chart!$O$2=\"Yes\"),Data!A38,\"\")","v":""}]
["",{"$f":"IF(Data!B39=\"\",\"\",Data!B39)","v":""},{"$f":"IF(Data!C39=\"\",\"\",Data!C39)","v":""},{"$f":"IF(B35=\"\",\"\",AVERAGE(Data!C:C))","v":""},{"$f":"IF(B35=\"\",\"\",IF((AVERAGE(Data!C:C)-2*J35)<0,0,AVERAGE(Data!C:C)-2*J35))","v":""},{"$f":"IF(B35=\"\",\"\",AVERAGE(Data!C:C)+2*J35)","v":""},{"$f":"IF(B35=\"\",\"\",IF(Data!C39<E35,Data!C39,#N/A))","v":""},{"$f":"IF(AND(Data!C39>=E35,Data!C39<=F35)=TRUE,Data!C39,#N/A)","v":0},{"$f":"IF(B35=\"\",\"\",IF(Data!C39>F35,Data!C39,#N/A))","v":""},{"$f":"STDEV(Data!C:C)/SQRT(Data!B39)","v":{"$error":"#DIV/0!"}},{"$f":"IF(AND(Data!A39<>\"\",Chart!$O$2=\"Yes\"),Data!A39,\"\")","v":""}]
["",{"$f":"IF(Data!B40=\"\",\"\",Data!B40)","v":""},{"$f":"IF(Data!C40=\"\",\"\",Data!C40)","v":""},{"$f":"IF(B36=\"\",\"\",AVERAGE(Data!C:C))","v":""},{"$f":"IF(B36=\"\",\"\",IF((AVERAGE(Data!C:C)-2*J36)<0,0,AVERAGE(Data!C:C)-2*J36))","v":""},{"$f":"IF(B36=\"\",\"\",AVERAGE(Data!C:C)+2*J36)","v":""},{"$f":"IF(B36=\"\",\"\",IF(Data!C40<E36,Data!C40,#N/A))","v":""},{"$f":"IF(AND(Data!C40>=E36,Data!C40<=F36)=TRUE,Data!C40,#N/A)","v":0},{"$f":"IF(B36=\"\",\"\",IF(Data!C40>F36,Data!C40,#N/A))","v":""},{"$f":"STDEV(Data!C:C)/SQRT(Data!B40)","v":{"$error":"#DIV/0!"}},{"$f":"IF(AND(Data!A40<>\"\",Chart!$O$2=\"Yes\"),Data!A40,\"\")","v":""}]
["",{"$f":"IF(Data!B41=\"\",\"\",Data!B41)","v":""},{"$f":"IF(Data!C41=\"\",\"\",Data!C41)","v":""},{"$f":"IF(B37=\"\",\"\",AVERAGE(Data!C:C))","v":""},{"$f":"IF(B37=\"\",\"\",IF((AVERAGE(Data!C:C)-2*J37)<0,0,AVERAGE(Data!C:C)-2*J37))","v":""},{"$f":"IF(B37=\"\",\"\",AVERAGE(Data!C:C)+2*J37)","v":""},{"$f":"IF(B37=\"\",\"\",IF(Data!C41<E37,Data!C41,#N/A))","v":""},{"$f":"IF(AND(Data!C41>=E37,Data!C41<=F37)=TRUE,Data!C41,#N/A)","v":0},{"$f":"IF(B37=\"\",\"\",IF(Data!C41>F37,Data!C41,#N/A))","v":""},{"$f":"STDEV(Data!C:C)/SQRT(Data!B41)","v":{"$error":"#DIV/0!"}},{"$f":"IF(AND(Data!A41<>\"\",Chart!$O$2=\"Yes\"),Data!A41,\"\")","v":""}]
["",{"$f":"IF(Data!B42=\"\",\"\",Data!B42)","v":""},{"$f":"IF(Data!C42=\"\",\"\",Data!C42)","v":""},{"$f":"IF(B38=\"\",\"\",AVERAGE(Data!C:C))","v":""},{"$f":"IF(B38=\"\",\"\",IF((AVERAGE(Data!C:C)-2*J38)<0,0,AVERAGE(Data!C:C)-2*J38))","v":""},{"$f":"IF(B38=\"\",\"\",AVERAGE(Data!C:C)+2*J38)","v":""},{"$f":"IF(B38=\"\",\"\",IF(Data!C42<E38,Data!C42,#N/A))","v":""},{"$f":"IF(AND(Data!C42>=E38,Data!C42<=F38)=TRUE,Data!C42,#N/A)","v":0},{"$f":"IF(B38=\"\",\"\",IF(Data!C42>F38,Data!C42,#N/A))","v":""},{"$f":"STDEV(Data!C:C)/SQRT(Data!B42)","v":{"$error":"#DIV/0!"}},{"$f":"IF(AND(Data!A42<>\"\",Chart!$O$2=\"Yes\"),Data!A42,\"\")","v":""}]
["",{"$f":"IF(Data!B43=\"\",\"\",Data!B43)","v":""},{"$f":"IF(Data!C43=\"\",\"\",Data!C43)","v":""},{"$f":"IF(B39=\"\",\"\",AVERAGE(Data!C:C))","v":""},{"$f":"IF(B39=\"\",\"\",IF((AVERAGE(Data!C:C)-2*J39)<0,0,AVERAGE(Data!C:C)-2*J39))","v":""},{"$f":"IF(B39=\"\",\"\",AVERAGE(Data!C:C)+2*J39)","v":""},{"$f":"IF(B39=\"\",\"\",IF(Data!C43<E39,Data!C43,#N/A))","v":""},{"$f":"IF(AND(Data!C43>=E39,Data!C43<=F39)=TRUE,Data!C43,#N/A)","v":0},{"$f":"IF(B39=\"\",\"\",IF(Data!C43>F39,Data!C43,#N/A))","v":""},{"$f":"STDEV(Data!C:C)/SQRT(Data!B43)","v":{"$error":"#DIV/0!"}},{"$f":"IF(AND(Data!A43<>\"\",Chart!$O$2=\"Yes\"),Data!A43,\"\")","v":""}]
["",{"$f":"IF(Data!B44=\"\",\"\",Data!B44)","v":""},{"$f":"IF(Data!C44=\"\",\"\",Data!C44)","v":""},{"$f":"IF(B40=\"\",\"\",AVERAGE(Data!C:C))","v":""},{"$f":"IF(B40=\"\",\"\",IF((AVERAGE(Data!C:C)-2*J40)<0,0,AVERAGE(Data!C:C)-2*J40))","v":""},{"$f":"IF(B40=\"\",\"\",AVERAGE(Data!C:C)+2*J40)","v":""},{"$f":"IF(B40=\"\",\"\",IF(Data!C44<E40,Data!C44,#N/A))","v":""},{"$f":"IF(AND(Data!C44>=E40,Data!C44<=F40)=TRUE,Data!C44,#N/A)","v":0},{"$f":"IF(B40=\"\",\"\",IF(Data!C44>F40,Data!C44,#N/A))","v":""},{"$f":"STDEV(Data!C:C)/SQRT(Data!B44)","v":{"$error":"#DIV/0!"}},{"$f":"IF(AND(Data!A44<>\"\",Chart!$O$2=\"Yes\"),Data!A44,\"\")","v":""}]
["",{"$f":"IF(Data!B45=\"\",\"\",Data!B45)","v":""},{"$f":"IF(Data!C45=\"\",\"\",Data!C45)","v":""},{"$f":"IF(B41=\"\",\"\",AVERAGE(Data!C:C))","v":""},{"$f":"IF(B41=\"\",\"\",IF((AVERAGE(Data!C:C)-2*J41)<0,0,AVERAGE(Data!C:C)-2*J41))","v":""},{"$f":"IF(B41=\"\",\"\",AVERAGE(Data!C:C)+2*J41)","v":""},{"$f":"IF(B41=\"\",\"\",IF(Data!C45<E41,Data!C45,#N/A))","v":""},{"$f":"IF(AND(Data!C45>=E41,Data!C45<=F41)=TRUE,Data!C45,#N/A)","v":0},{"$f":"IF(B41=\"\",\"\",IF(Data!C45>F41,Data!C45,#N/A))","v":""},{"$f":"STDEV(Data!C:C)/SQRT(Data!B45)","v":{"$error":"#DIV/0!"}},{"$f":"IF(AND(Data!A45<>\"\",Chart!$O$2=\"Yes\"),Data!A45,\"\")","v":""}]
["",{"$f":"IF(Data!B46=\"\",\"\",Data!B46)","v":""},{"$f":"IF(Data!C46=\"\",\"\",Data!C46)","v":""},{"$f":"IF(B42=\"\",\"\",AVERAGE(Data!C:C))","v":""},{"$f":"IF(B42=\"\",\"\",IF((AVERAGE(Data!C:C)-2*J42)<0,0,AVERAGE(Data!C:C)-2*J42))","v":""},{"$f":"IF(B42=\"\",\"\",AVERAGE(Data!C:C)+2*J42)","v":""},{"$f":"IF(B42=\"\",\"\",IF(Data!C46<E42,Data!C46,#N/A))","v":""},{"$f":"IF(AND(Data!C46>=E42,Data!C46<=F42)=TRUE,Data!C46,#N/A)","v":0},{"$f":"IF(B42=\"\",\"\",IF(Data!C46>F42,Data!C46,#N/A))","v":""},{"$f":"STDEV(Data!C:C)/SQRT(Data!B46)","v":{"$error":"#DIV/0!"}},{"$f":"IF(AND(Data!A46<>\"\",Chart!$O$2=\"Yes\"),Data!A46,\"\")","v":""}]
["",{"$f":"IF(Data!B47=\"\",\"\",Data!B47)","v":""},{"$f":"IF(Data!C47=\"\",\"\",Data!C47)","v":""},{"$f":"IF(B43=\"\",\"\",AVERAGE(Data!C:C))","v":""},{"$f":"IF(B43=\"\",\"\",IF((AVERAGE(Data!C:C)-2*J43)<0,0,AVERAGE(Data!C:C)-2*J43))","v":""},{"$f":"IF(B43=\"\",\"\",AVERAGE(Data!C:C)+2*J43)","v":""},{"$f":"IF(B43=\"\",\"\",IF(Data!C47<E43,Data!C47,#N/A))","v":""},{"$f":"IF(AND(Data!C47>=E43,Data!C47<=F43)=TRUE,Data!C47,#N/A)","v":0},{"$f":"IF(B43=\"\",\"\",IF(Data!C47>F43,Data!C47,#N/A))","v":""},{"$f":"STDEV(Data!C:C)/SQRT(Data!B47)","v":{"$error":"#DIV/0!"}},{"$f":"IF(AND(Data!A47<>\"\",Chart!$O$2=\"Yes\"),Data!A47,\"\")","v":""}]
["",{"$f":"IF(Data!B48=\"\",\"\",Data!B48)","v":""},{"$f":"IF(Data!C48=\"\",\"\",Data!C48)","v":""},{"$f":"IF(B44=\"\",\"\",AVERAGE(Data!C:C))","v":""},{"$f":"IF(B44=\"\",\"\",IF((AVERAGE(Data!C:C)-2*J44)<0,0,AVERAGE(Data!C:C)-2*J44))","v":""},{"$f":"IF(B44=\"\",\"\",AVERAGE(Data!C:C)+2*J44)","v":""},{"$f":"IF(B44=\"\",\"\",IF(Data!C48<E44,Data!C48,#N/A))","v":""},{"$f":"IF(AND(Data!C48>=E44,Data!C48<=F44)=TRUE,Data!C48,#N/A)","v":0},{"$f":"IF(B44=\"\",\"\",IF(Data!C48>F44,Data!C48,#N/A))","v":""},{"$f":"STDEV(Data!C:C)/SQRT(Data!B48)","v":{"$error":"#DIV/0!"}},{"$f":"IF(AND(Data!A48<>\"\",Chart!$O$2=\"Yes\"),Data!A48,\"\")","v":""}]
["",{"$f":"IF(Data!B49=\"\",\"\",Data!B49)","v":""},{"$f":"IF(Data!C49=\"\",\"\",Data!C49)","v":""},{"$f":"IF(B45=\"\",\"\",AVERAGE(Data!C:C))","v":""},{"$f":"IF(B45=\"\",\"\",IF((AVERAGE(Data!C:C)-2*J45)<0,0,AVERAGE(Data!C:C)-2*J45))","v":""},{"$f":"IF(B45=\"\",\"\",AVERAGE(Data!C:C)+2*J45)","v":""},{"$f":"IF(B45=\"\",\"\",IF(Data!C49<E45,Data!C49,#N/A))","v":""},{"$f":"IF(AND(Data!C49>=E45,Data!C49<=F45)=TRUE,Data!C49,#N/A)","v":0},{"$f":"IF(B45=\"\",\"\",IF(Data!C49>F45,Data!C49,#N/A))","v":""},{"$f":"STDEV(Data!C:C)/SQRT(Data!B49)","v":{"$error":"#DIV/0!"}},{"$f":"IF(AND(Data!A49<>\"\",Chart!$O$2=\"Yes\"),Data!A49,\"\")","v":""}]
["",{"$f":"IF(Data!B50=\"\",\"\",Data!B50)","v":""},{"$f":"IF(Data!C50=\"\",\"\",Data!C50)","v":""},{"$f":"IF(B46=\"\",\"\",AVERAGE(Data!C:C))","v":""},{"$f":"IF(B46=\"\",\"\",IF((AVERAGE(Data!C:C)-2*J46)<0,0,AVERAGE(Data!C:C)-2*J46))","v":""},{"$f":"IF(B46=\"\",\"\",AVERAGE(Data!C:C)+2*J46)","v":""},{"$f":"IF(B46=\"\",\"\",IF(Data!C50<E46,Data!C50,#N/A))","v":""},{"$f":"IF(AND(Data!C50>=E46,Data!C50<=F46)=TRUE,Data!C50,#N/A)","v":0},{"$f":"IF(B46=\"\",\"\",IF(Data!C50>F46,Data!C50,#N/A))","v":""},{"$f":"STDEV(Data!C:C)/SQRT(Data!B50)","v":{"$error":"#DIV/0!"}},{"$f":"IF(AND(Data!A50<>\"\",Chart!$O$2=\"Yes\"),Data!A50,\"\")","v":""}]
["",{"$f":"IF(Data!B51=\"\",\"\",Data!B51)","v":""},{"$f":"IF(Data!C51=\"\",\"\",Data!C51)","v":""},{"$f":"IF(B47=\"\",\"\",AVERAGE(Data!C:C))","v":""},{"$f":"IF(B47=\"\",\"\",IF((AVERAGE(Data!C:C)-2*J47)<0,0,AVERAGE(Data!C:C)-2*J47))","v":""},{"$f":"IF(B47=\"\",\"\",AVERAGE(Data!C:C)+2*J47)","v":""},{"$f":"IF(B47=\"\",\"\",IF(Data!C51<E47,Data!C51,#N/A))","v":""},{"$f":"IF(AND(Data!C51>=E47,Data!C51<=F47)=TRUE,Data!C51,#N/A)","v":0},{"$f":"IF(B47=\"\",\"\",IF(Data!C51>F47,Data!C51,#N/A))","v":""},{"$f":"STDEV(Data!C:C)/SQRT(Data!B51)","v":{"$error":"#DIV/0!"}},{"$f":"IF(AND(Data!A51<>\"\",Chart!$O$2=\"Yes\"),Data!A51,\"\")","v":""}]
["",{"$f":"IF(Data!B52=\"\",\"\",Data!B52)","v":""},{"$f":"IF(Data!C52=\"\",\"\",Data!C52)","v":""},{"$f":"IF(B48=\"\",\"\",AVERAGE(Data!C:C))","v":""},{"$f":"IF(B48=\"\",\"\",IF((AVERAGE(Data!C:C)-2*J48)<0,0,AVERAGE(Data!C:C)-2*J48))","v":""},{"$f":"IF(B48=\"\",\"\",AVERAGE(Data!C:C)+2*J48)","v":""},{"$f":"IF(B48=\"\",\"\",IF(Data!C52<E48,Data!C52,#N/A))","v":""},{"$f":"IF(AND(Data!C52>=E48,Data!C52<=F48)=TRUE,Data!C52,#N/A)","v":0},{"$f":"IF(B48=\"\",\"\",IF(Data!C52>F48,Data!C52,#N/A))","v":""},{"$f":"STDEV(Data!C:C)/SQRT(Data!B52)","v":{"$error":"#DIV/0!"}},{"$f":"IF(AND(Data!A52<>\"\",Chart!$O$2=\"Yes\"),Data!A52,\"\")","v":""}]
["",{"$f":"IF(Data!B53=\"\",\"\",Data!B53)","v":""},{"$f":"IF(Data!C53=\"\",\"\",Data!C53)","v":""},{"$f":"IF(B49=\"\",\"\",AVERAGE(Data!C:C))","v":""},{"$f":"IF(B49=\"\",\"\",IF((AVERAGE(Data!C:C)-2*J49)<0,0,AVERAGE(Data!C:C)-2*J49))","v":""},{"$f":"IF(B49=\"\",\"\",AVERAGE(Data!C:C)+2*J49)","v":""},{"$f":"IF(B49=\"\",\"\",IF(Data!C53<E49,Data!C53,#N/A))","v":""},{"$f":"IF(AND(Data!C53>=E49,Data!C53<=F49)=TRUE,Data!C53,#N/A)","v":0},{"$f":"IF(B49=\"\",\"\",IF(Data!C53>F49,Data!C53,#N/A))","v":""},{"$f":"STDEV(Data!C:C)/SQRT(Data!B53)","v":{"$error":"#DIV/0!"}},{"$f":"IF(AND(Data!A53<>\"\",Chart!$O$2=\"Yes\"),Data!A53,\"\")","v":""}]
["",{"$f":"IF(Data!B54=\"\",\"\",Data!B54)","v":""},{"$f":"IF(Data!C54=\"\",\"\",Data!C54)","v":""},{"$f":"IF(B50=\"\",\"\",AVERAGE(Data!C:C))","v":""},{"$f":"IF(B50=\"\",\"\",IF((AVERAGE(Data!C:C)-2*J50)<0,0,AVERAGE(Data!C:C)-2*J50))","v":""},{"$f":"IF(B50=\"\",\"\",AVERAGE(Data!C:C)+2*J50)","v":""},{"$f":"IF(B50=\"\",\"\",IF(Data!C54<E50,Data!C54,#N/A))","v":""},{"$f":"IF(AND(Data!C54>=E50,Data!C54<=F50)=TRUE,Data!C54,#N/A)","v":0},{"$f":"IF(B50=\"\",\"\",IF(Data!C54>F50,Data!C54,#N/A))","v":""},{"$f":"STDEV(Data!C:C)/SQRT(Data!B54)","v":{"$error":"#DIV/0!"}},{"$f":"IF(AND(Data!A54<>\"\",Chart!$O$2=\"Yes\"),Data!A54,\"\")","v":""}]
["",{"$f":"IF(Data!B55=\"\",\"\",Data!B55)","v":""},{"$f":"IF(Data!C55=\"\",\"\",Data!C55)","v":""},{"$f":"IF(B51=\"\",\"\",AVERAGE(Data!C:C))","v":""},{"$f":"IF(B51=\"\",\"\",IF((AVERAGE(Data!C:C)-2*J51)<0,0,AVERAGE(Data!C:C)-2*J51))","v":""},{"$f":"IF(B51=\"\",\"\",AVERAGE(Data!C:C)+2*J51)","v":""},{"$f":"IF(B51=\"\",\"\",IF(Data!C55<E51,Data!C55,#N/A))","v":""},{"$f":"IF(AND(Data!C55>=E51,Data!C55<=F51)=TRUE,Data!C55,#N/A)","v":0},{"$f":"IF(B51=\"\",\"\",IF(Data!C55>F51,Data!C55,#N/A))","v":""},{"$f":"STDEV(Data!C:C)/SQRT(Data!B55)","v":{"$error":"#DIV/0!"}},{"$f":"IF(AND(Data!A55<>\"\",Chart!$O$2=\"Yes\"),Data!A55,\"\")","v":""}]
["",{"$f":"IF(Data!B56=\"\",\"\",Data!B56)","v":""},{"$f":"IF(Data!C56=\"\",\"\",Data!C56)","v":""},{"$f":"IF(B52=\"\",\"\",AVERAGE(Data!C:C))","v":""},{"$f":"IF(B52=\"\",\"\",IF((AVERAGE(Data!C:C)-2*J52)<0,0,AVERAGE(Data!C:C)-2*J52))","v":""},{"$f":"IF(B52=\"\",\"\",AVERAGE(Data!C:C)+2*J52)","v":""},{"$f":"IF(B52=\"\",\"\",IF(Data!C56<E52,Data!C56,#N/A))","v":""},{"$f":"IF(AND(Data!C56>=E52,Data!C56<=F52)=TRUE,Data!C56,#N/A)","v":0},{"$f":"IF(B52=\"\",\"\",IF(Data!C56>F52,Data!C56,#N/A))","v":""},{"$f":"STDEV(Data!C:C)/SQRT(Data!B56)","v":{"$error":"#DIV/0!"}},{"$f":"IF(AND(Data!A56<>\"\",Chart!$O$2=\"Yes\"),Data!A56,\"\")","v":""}]
["",{"$f":"IF(Data!B57=\"\",\"\",Data!B57)","v":""},{"$f":"IF(Data!C57=\"\",\"\",Data!C57)","v":""},{"$f":"IF(B53=\"\",\"\",AVERAGE(Data!C:C))","v":""},{"$f":"IF(B53=\"\",\"\",IF((AVERAGE(Data!C:C)-2*J53)<0,0,AVERAGE(Data!C:C)-2*J53))","v":""},{"$f":"IF(B53=\"\",\"\",AVERAGE(Data!C:C)+2*J53)","v":""},{"$f":"IF(B53=\"\",\"\",IF(Data!C57<E53,Data!C57,#N/A))","v":""},{"$f":"IF(AND(Data!C57>=E53,Data!C57<=F53)=TRUE,Data!C57,#N/A)","v":0},{"$f":"IF(B53=\"\",\"\",IF(Data!C57>F53,Data!C57,#N/A))","v":""},{"$f":"STDEV(Data!C:C)/SQRT(Data!B57)","v":{"$error":"#DIV/0!"}},{"$f":"IF(AND(Data!A57<>\"\",Chart!$O$2=\"Yes\"),Data!A57,\"\")","v":""}]
["",{"$f":"IF(Data!B58=\"\",\"\",Data!B58)","v":""},{"$f":"IF(Data!C58=\"\",\"\",Data!C58)","v":""},{"$f":"IF(B54=\"\",\"\",AVERAGE(Data!C:C))","v":""},{"$f":"IF(B54=\"\",\"\",IF((AVERAGE(Data!C:C)-2*J54)<0,0,AVERAGE(Data!C:C)-2*J54))","v":""},{"$f":"IF(B54=\"\",\"\",AVERAGE(Data!C:C)+2*J54)","v":""},{"$f":"IF(B54=\"\",\"\",IF(Data!C58<E54,Data!C58,#N/A))","v":""},{"$f":"IF(AND(Data!C58>=E54,Data!C58<=F54)=TRUE,Data!C58,#N/A)","v":0},{"$f":"IF(B54=\"\",\"\",IF(Data!C58>F54,Data!C58,#N/A))","v":""},{"$f":"STDEV(Data!C:C)/SQRT(Data!B58)","v":{"$error":"#DIV/0!"}},{"$f":"IF(AND(Data!A58<>\"\",Chart!$O$2=\"Yes\"),Data!A58,\"\")","v":""}]
["",{"$f":"IF(Data!B59=\"\",\"\",Data!B59)","v":""},{"$f":"IF(Data!C59=\"\",\"\",Data!C59)","v":""},{"$f":"IF(B55=\"\",\"\",AVERAGE(Data!C:C))","v":""},{"$f":"IF(B55=\"\",\"\",IF((AVERAGE(Data!C:C)-2*J55)<0,0,AVERAGE(Data!C:C)-2*J55))","v":""},{"$f":"IF(B55=\"\",\"\",AVERAGE(Data!C:C)+2*J55)","v":""},{"$f":"IF(B55=\"\",\"\",IF(Data!C59<E55,Data!C59,#N/A))","v":""},{"$f":"IF(AND(Data!C59>=E55,Data!C59<=F55)=TRUE,Data!C59,#N/A)","v":0},{"$f":"IF(B55=\"\",\"\",IF(Data!C59>F55,Data!C59,#N/A))","v":""},{"$f":"STDEV(Data!C:C)/SQRT(Data!B59)","v":{"$error":"#DIV/0!"}},{"$f":"IF(AND(Data!A59<>\"\",Chart!$O$2=\"Yes\"),Data!A59,\"\")","v":""}]
["",{"$f":"IF(Data!B60=\"\",\"\",Data!B60)","v":""},{"$f":"IF(Data!C60=\"\",\"\",Data!C60)","v":""},{"$f":"IF(B56=\"\",\"\",AVERAGE(Data!C:C))","v":""},{"$f":"IF(B56=\"\",\"\",IF((AVERAGE(Data!C:C)-2*J56)<0,0,AVERAGE(Data!C:C)-2*J56))","v":""},{"$f":"IF(B56=\"\",\"\",AVERAGE(Data!C:C)+2*J56)","v":""},{"$f":"IF(B56=\"\",\"\",IF(Data!C60<E56,Data!C60,#N/A))","v":""},{"$f":"IF(AND(Data!C60>=E56,Data!C60<=F56)=TRUE,Data!C60,#N/A)","v":0},{"$f":"IF(B56=\"\",\"\",IF(Data!C60>F56,Data!C60,#N/A))","v":""},{"$f":"STDEV(Data!C:C)/SQRT(Data!B60)","v":{"$error":"#DIV/0!"}},{"$f":"IF(AND(Data!A60<>\"\",Chart!$O$2=\"Yes\"),Data!A60,\"\")","v":""}]
["",{"$f":"IF(Data!B61=\"\",\"\",Data!B61)","v":""},{"$f":"IF(Data!C61=\"\",\"\",Data!C61)","v":""},{"$f":"IF(B57=\"\",\"\",AVERAGE(Data!C:C))","v":""},{"$f":"IF(B57=\"\",\"\",IF((AVERAGE(Data!C:C)-2*J57)<0,0,AVERAGE(Data!C:C)-2*J57))","v":""},{"$f":"IF(B57=\"\",\"\",AVERAGE(Data!C:C)+2*J57)","v":""},{"$f":"IF(B57=\"\",\"\",IF(Data!C61<E57,Data!C61,#N/A))","v":""},{"$f":"IF(AND(Data!C61>=E57,Data!C61<=F57)=TRUE,Data!C61,#N/A)","v":0},{"$f":"IF(B57=\"\",\"\",IF(Data!C61>F57,Data!C61,#N/A))","v":""},{"$f":"STDEV(Data!C:C)/SQRT(Data!B61)","v":{"$error":"#DIV/0!"}},{"$f":"IF(AND(Data!A61<>\"\",Chart!$O$2=\"Yes\"),Data!A61,\"\")","v":""}]
["",{"$f":"IF(Data!B62=\"\",\"\",Data!B62)","v":""},{"$f":"IF(Data!C62=\"\",\"\",Data!C62)","v":""},{"$f":"IF(B58=\"\",\"\",AVERAGE(Data!C:C))","v":""},{"$f":"IF(B58=\"\",\"\",IF((AVERAGE(Data!C:C)-2*J58)<0,0,AVERAGE(Data!C:C)-2*J58))","v":""},{"$f":"IF(B58=\"\",\"\",AVERAGE(Data!C:C)+2*J58)","v":""},{"$f":"IF(B58=\"\",\"\",IF(Data!C62<E58,Data!C62,#N/A))","v":""},{"$f":"IF(AND(Data!C62>=E58,Data!C62<=F58)=TRUE,Data!C62,#N/A)","v":0},{"$f":"IF(B58=\"\",\"\",IF(Data!C62>F58,Data!C62,#N/A))","v":""},{"$f":"STDEV(Data!C:C)/SQRT(Data!B62)","v":{"$error":"#DIV/0!"}},{"$f":"IF(AND(Data!A62<>\"\",Chart!$O$2=\"Yes\"),Data!A62,\"\")","v":""}]
["",{"$f":"IF(Data!B63=\"\",\"\",Data!B63)","v":""},{"$f":"IF(Data!C63=\"\",\"\",Data!C63)","v":""},{"$f":"IF(B59=\"\",\"\",AVERAGE(Data!C:C))","v":""},{"$f":"IF(B59=\"\",\"\",IF((AVERAGE(Data!C:C)-2*J59)<0,0,AVERAGE(Data!C:C)-2*J59))","v":""},{"$f":"IF(B59=\"\",\"\",AVERAGE(Data!C:C)+2*J59)","v":""},{"$f":"IF(B59=\"\",\"\",IF(Data!C63<E59,Data!C63,#N/A))","v":""},{"$f":"IF(AND(Data!C63>=E59,Data!C63<=F59)=TRUE,Data!C63,#N/A)","v":0},{"$f":"IF(B59=\"\",\"\",IF(Data!C63>F59,Data!C63,#N/A))","v":""},{"$f":"STDEV(Data!C:C)/SQRT(Data!B63)","v":{"$error":"#DIV/0!"}},{"$f":"IF(AND(Data!A63<>\"\",Chart!$O$2=\"Yes\"),Data!A63,\"\")","v":""}]
["",{"$f":"IF(Data!B64=\"\",\"\",Data!B64)","v":""},{"$f":"IF(Data!C64=\"\",\"\",Data!C64)","v":""},{"$f":"IF(B60=\"\",\"\",AVERAGE(Data!C:C))","v":""},{"$f":"IF(B60=\"\",\"\",IF((AVERAGE(Data!C:C)-2*J60)<0,0,AVERAGE(Data!C:C)-2*J60))","v":""},{"$f":"IF(B60=\"\",\"\",AVERAGE(Data!C:C)+2*J60)","v":""},{"$f":"IF(B60=\"\",\"\",IF(Data!C64<E60,Data!C64,#N/A))","v":""},{"$f":"IF(AND(Data!C64>=E60,Data!C64<=F60)=TRUE,Data!C64,#N/A)","v":0},{"$f":"IF(B60=\"\",\"\",IF(Data!C64>F60,Data!C64,#N/A))","v":""},{"$f":"STDEV(Data!C:C)/SQRT(Data!B64)","v":{"$error":"#DIV/0!"}},{"$f":"IF(AND(Data!A64<>\"\",Chart!$O$2=\"Yes\"),Data!A64,\"\")","v":""}]
["",{"$f":"IF(Data!B65=\"\",\"\",Data!B65)","v":""},{"$f":"IF(Data!C65=\"\",\"\",Data!C65)","v":""},{"$f":"IF(B61=\"\",\"\",AVERAGE(Data!C:C))","v":""},{"$f":"IF(B61=\"\",\"\",IF((AVERAGE(Data!C:C)-2*J61)<0,0,AVERAGE(Data!C:C)-2*J61))","v":""},{"$f":"IF(B61=\"\",\"\",AVERAGE(Data!C:C)+2*J61)","v":""},{"$f":"IF(B61=\"\",\"\",IF(Data!C65<E61,Data!C65,#N/A))","v":""},{"$f":"IF(AND(Data!C65>=E61,Data!C65<=F61)=TRUE,Data!C65,#N/A)","v":0},{"$f":"IF(B61=\"\",\"\",IF(Data!C65>F61,Data!C65,#N/A))","v":""},{"$f":"STDEV(Data!C:C)/SQRT(Data!B65)","v":{"$error":"#DIV/0!"}},{"$f":"IF(AND(Data!A65<>\"\",Chart!$O$2=\"Yes\"),Data!A65,\"\")","v":""}]
["",{"$f":"IF(Data!B66=\"\",\"\",Data!B66)","v":""},{"$f":"IF(Data!C66=\"\",\"\",Data!C66)","v":""},{"$f":"IF(B62=\"\",\"\",AVERAGE(Data!C:C))","v":""},{"$f":"IF(B62=\"\",\"\",IF((AVERAGE(Data!C:C)-2*J62)<0,0,AVERAGE(Data!C:C)-2*J62))","v":""},{"$f":"IF(B62=\"\",\"\",AVERAGE(Data!C:C)+2*J62)","v":""},{"$f":"IF(B62=\"\",\"\",IF(Data!C66<E62,Data!C66,#N/A))","v":""},{"$f":"IF(AND(Data!C66>=E62,Data!C66<=F62)=TRUE,Data!C66,#N/A)","v":0},{"$f":"IF(B62=\"\",\"\",IF(Data!C66>F62,Data!C66,#N/A))","v":""},{"$f":"STDEV(Data!C:C)/SQRT(Data!B66)","v":{"$error":"#DIV/0!"}},{"$f":"IF(AND(Data!A66<>\"\",Chart!$O$2=\"Yes\"),Data!A66,\"\")","v":""}]
["",{"$f":"IF(Data!B67=\"\",\"\",Data!B67)","v":""},{"$f":"IF(Data!C67=\"\",\"\",Data!C67)","v":""},{"$f":"IF(B63=\"\",\"\",AVERAGE(Data!C:C))","v":""},{"$f":"IF(B63=\"\",\"\",IF((AVERAGE(Data!C:C)-2*J63)<0,0,AVERAGE(Data!C:C)-2*J63))","v":""},{"$f":"IF(B63=\"\",\"\",AVERAGE(Data!C:C)+2*J63)","v":""},{"$f":"IF(B63=\"\",\"\",IF(Data!C67<E63,Data!C67,#N/A))","v":""},{"$f":"IF(AND(Data!C67>=E63,Data!C67<=F63)=TRUE,Data!C67,#N/A)","v":0},{"$f":"IF(B63=\"\",\"\",IF(Data!C67>F63,Data!C67,#N/A))","v":""},{"$f":"STDEV(Data!C:C)/SQRT(Data!B67)","v":{"$error":"#DIV/0!"}},{"$f":"IF(AND(Data!A67<>\"\",Chart!$O$2=\"Yes\"),Data!A67,\"\")","v":""}]
["",{"$f":"IF(Data!B68=\"\",\"\",Data!B68)","v":""},{"$f":"IF(Data!C68=\"\",\"\",Data!C68)","v":""},{"$f":"IF(B64=\"\",\"\",AVERAGE(Data!C:C))","v":""},{"$f":"IF(B64=\"\",\"\",IF((AVERAGE(Data!C:C)-2*J64)<0,0,AVERAGE(Data!C:C)-2*J64))","v":""},{"$f":"IF(B64=\"\",\"\",AVERAGE(Data!C:C)+2*J64)","v":""},{"$f":"IF(B64=\"\",\"\",IF(Data!C68<E64,Data!C68,#N/A))","v":""},{"$f":"IF(AND(Data!C68>=E64,Data!C68<=F64)=TRUE,Data!C68,#N/A)","v":0},{"$f":"IF(B64=\"\",\"\",IF(Data!C68>F64,Data!C68,#N/A))","v":""},{"$f":"STDEV(Data!C:C)/SQRT(Data!B68)","v":{"$error":"#DIV/0!"}},{"$f":"IF(AND(Data!A68<>\"\",Chart!$O$2=\"Yes\"),Data!A68,\"\")","v":""}]
["",{"$f":"IF(Data!B69=\"\",\"\",Data!B69)","v":""},{"$f":"IF(Data!C69=\"\",\"\",Data!C69)","v":""},{"$f":"IF(B65=\"\",\"\",AVERAGE(Data!C:C))","v":""},{"$f":"IF(B65=\"\",\"\",IF((AVERAGE(Data!C:C)-2*J65)<0,0,AVERAGE(Data!C:C)-2*J65))","v":""},{"$f":"IF(B65=\"\",\"\",AVERAGE(Data!C:C)+2*J65)","v":""},{"$f":"IF(B65=\"\",\"\",IF(Data!C69<E65,Data!C69,#N/A))","v":""},{"$f":"IF(AND(Data!C69>=E65,Data!C69<=F65)=TRUE,Data!C69,#N/A)","v":0},{"$f":"IF(B65=\"\",\"\",IF(Data!C69>F65,Data!C69,#N/A))","v":""},{"$f":"STDEV(Data!C:C)/SQRT(Data!B69)","v":{"$error":"#DIV/0!"}},{"$f":"IF(AND(Data!A69<>\"\",Chart!$O$2=\"Yes\"),Data!A69,\"\")","v":""}]
["",{"$f":"IF(Data!B70=\"\",\"\",Data!B70)","v":""},{"$f":"IF(Data!C70=\"\",\"\",Data!C70)","v":""},{"$f":"IF(B66=\"\",\"\",AVERAGE(Data!C:C))","v":""},{"$f":"IF(B66=\"\",\"\",IF((AVERAGE(Data!C:C)-2*J66)<0,0,AVERAGE(Data!C:C)-2*J66))","v":""},{"$f":"IF(B66=\"\",\"\",AVERAGE(Data!C:C)+2*J66)","v":""},{"$f":"IF(B66=\"\",\"\",IF(Data!C70<E66,Data!C70,#N/A))","v":""},{"$f":"IF(AND(Data!C70>=E66,Data!C70<=F66)=TRUE,Data!C70,#N/A)","v":0},{"$f":"IF(B66=\"\",\"\",IF(Data!C70>F66,Data!C70,#N/A))","v":""},{"$f":"STDEV(Data!C:C)/SQRT(Data!B70)","v":{"$error":"#DIV/0!"}},{"$f":"IF(AND(Data!A70<>\"\",Chart!$O$2=\"Yes\"),Data!A70,\"\")","v":""}]
[{"$f":"IF(B67=\"\",\"\",1)","v":""},{"$f":"IF(Data!B71=\"\",\"\",Data!B71)","v":""},{"$f":"IF(Data!C71=\"\",\"\",Data!C71)","v":""},{"$f":"IF(B67=\"\",\"\",AVERAGE(Data!C:C))","v":""},{"$f":"IF(B67=\"\",\"\",IF((AVERAGE(Data!C:C)-2*J67)<0,0,AVERAGE(Data!C:C)-2*J67))","v":""},{"$f":"IF(B67=\"\",\"\",AVERAGE(Data!C:C)+2*J67)","v":""},{"$f":"IF(B67=\"\",\"\",IF(Data!C71<E67,Data!C71,#N/A))","v":""},{"$f":"IF(AND(Data!C71>=E67,Data!C71<=F67)=TRUE,Data!C71,#N/A)","v":0},{"$f":"IF(B67=\"\",\"\",IF(Data!C71>F67,Data!C71,#N/A))","v":""},{"$f":"STDEV(Data!C:C)/SQRT(Data!B71)","v":{"$error":"#DIV/0!"}},{"$f":"IF(AND(Data!A71<>\"\",Chart!$O$2=\"Yes\"),Data!A71,\"\")","v":""}]
["",{"$f":"IF(Data!B72=\"\",\"\",Data!B72)","v":""},{"$f":"IF(Data!C72=\"\",\"\",Data!C72)","v":""},{"$f":"IF(B68=\"\",\"\",AVERAGE(Data!C:C))","v":""},{"$f":"IF(B68=\"\",\"\",IF((AVERAGE(Data!C:C)-2*J68)<0,0,AVERAGE(Data!C:C)-2*J68))","v":""},{"$f":"IF(B68=\"\",\"\",AVERAGE(Data!C:C)+2*J68)","v":""},{"$f":"IF(B68=\"\",\"\",IF(Data!C72<E68,Data!C72,#N/A))","v":""},{"$f":"IF(AND(Data!C72>=E68,Data!C72<=F68)=TRUE,Data!C72,#N/A)","v":0},{"$f":"IF(B68=\"\",\"\",IF(Data!C72>F68,Data!C72,#N/A))","v":""},{"$f":"STDEV(Data!C:C)/SQRT(Data!B72)","v":{"$error":"#DIV/0!"}},{"$f":"IF(AND(Data!A72<>\"\",Chart!$O$2=\"Yes\"),Data!A72,\"\")","v":""}]
["",{"$f":"IF(Data!B73=\"\",\"\",Data!B73)","v":""},{"$f":"IF(Data!C73=\"\",\"\",Data!C73)","v":""},{"$f":"IF(B69=\"\",\"\",AVERAGE(Data!C:C))","v":""},{"$f":"IF(B69=\"\",\"\",IF((AVERAGE(Data!C:C)-2*J69)<0,0,AVERAGE(Data!C:C)-2*J69))","v":""},{"$f":"IF(B69=\"\",\"\",AVERAGE(Data!C:C)+2*J69)","v":""},{"$f":"IF(B69=\"\",\"\",IF(Data!C73<E69,Data!C73,#N/A))","v":""},{"$f":"IF(AND(Data!C73>=E69,Data!C73<=F69)=TRUE,Data!C73,#N/A)","v":0},{"$f":"IF(B69=\"\",\"\",IF(Data!C73>F69,Data!C73,#N/A))","v":""},{"$f":"STDEV(Data!C:C)/SQRT(Data!B73)","v":{"$error":"#DIV/0!"}},{"$f":"IF(AND(Data!A73<>\"\",Chart!$O$2=\"Yes\"),Data!A73,\"\")","v":""}]
["",{"$f":"IF(Data!B74=\"\",\"\",Data!B74)","v":""},{"$f":"IF(Data!C74=\"\",\"\",Data!C74)","v":""},{"$f":"IF(B70=\"\",\"\",AVERAGE(Data!C:C))","v":""},{"$f":"IF(B70=\"\",\"\",IF((AVERAGE(Data!C:C)-2*J70)<0,0,AVERAGE(Data!C:C)-2*J70))","v":""},{"$f":"IF(B70=\"\",\"\",AVERAGE(Data!C:C)+2*J70)","v":""},{"$f":"IF(B70=\"\",\"\",IF(Data!C74<E70,Data!C74,#N/A))","v":""},{"$f":"IF(AND(Data!C74>=E70,Data!C74<=F70)=TRUE,Data!C74,#N/A)","v":0},{"$f":"IF(B70=\"\",\"\",IF(Data!C74>F70,Data!C74,#N/A))","v":""},{"$f":"STDEV(Data!C:C)/SQRT(Data!B74)","v":{"$error":"#DIV/0!"}},{"$f":"IF(AND(Data!A74<>\"\",Chart!$O$2=\"Yes\"),Data!A74,\"\")","v":""}]
["",{"$f":"IF(Data!B75=\"\",\"\",Data!B75)","v":""},{"$f":"IF(Data!C75=\"\",\"\",Data!C75)","v":""},{"$f":"IF(B71=\"\",\"\",AVERAGE(Data!C:C))","v":""},{"$f":"IF(B71=\"\",\"\",IF((AVERAGE(Data!C:C)-2*J71)<0,0,AVERAGE(Data!C:C)-2*J71))","v":""},{"$f":"IF(B71=\"\",\"\",AVERAGE(Data!C:C)+2*J71)","v":""},{"$f":"IF(B71=\"\",\"\",IF(Data!C75<E71,Data!C75,#N/A))","v":""},{"$f":"IF(AND(Data!C75>=E71,Data!C75<=F71)=TRUE,Data!C75,#N/A)","v":0},{"$f":"IF(B71=\"\",\"\",IF(Data!C75>F71,Data!C75,#N/A))","v":""},{"$f":"STDEV(Data!C:C)/SQRT(Data!B75)","v":{"$error":"#DIV/0!"}},{"$f":"IF(AND(Data!A75<>\"\",Chart!$O$2=\"Yes\"),Data!A75,\"\")","v":""}]
["",{"$f":"IF(Data!B76=\"\",\"\",Data!B76)","v":""},{"$f":"IF(Data!C76=\"\",\"\",Data!C76)","v":""},{"$f":"IF(B72=\"\",\"\",AVERAGE(Data!C:C))","v":""},{"$f":"IF(B72=\"\",\"\",IF((AVERAGE(Data!C:C)-2*J72)<0,0,AVERAGE(Data!C:C)-2*J72))","v":""},{"$f":"IF(B72=\"\",\"\",AVERAGE(Data!C:C)+2*J72)","v":""},{"$f":"IF(B72=\"\",\"\",IF(Data!C76<E72,Data!C76,#N/A))","v":""},{"$f":"IF(AND(Data!C76>=E72,Data!C76<=F72)=TRUE,Data!C76,#N/A)","v":0},{"$f":"IF(B72=\"\",\"\",IF(Data!C76>F72,Data!C76,#N/A))","v":""},{"$f":"STDEV(Data!C:C)/SQRT(Data!B76)","v":{"$error":"#DIV/0!"}},{"$f":"IF(AND(Data!A76<>\"\",Chart!$O$2=\"Yes\"),Data!A76,\"\")","v":""}]
["",{"$f":"IF(Data!B77=\"\",\"\",Data!B77)","v":""},{"$f":"IF(Data!C77=\"\",\"\",Data!C77)","v":""},{"$f":"IF(B73=\"\",\"\",AVERAGE(Data!C:C))","v":""},{"$f":"IF(B73=\"\",\"\",IF((AVERAGE(Data!C:C)-2*J73)<0,0,AVERAGE(Data!C:C)-2*J73))","v":""},{"$f":"IF(B73=\"\",\"\",AVERAGE(Data!C:C)+2*J73)","v":""},{"$f":"IF(B73=\"\",\"\",IF(Data!C77<E73,Data!C77,#N/A))","v":""},{"$f":"IF(AND(Data!C77>=E73,Data!C77<=F73)=TRUE,Data!C77,#N/A)","v":0},{"$f":"IF(B73=\"\",\"\",IF(Data!C77>F73,Data!C77,#N/A))","v":""},{"$f":"STDEV(Data!C:C)/SQRT(Data!B77)","v":{"$error":"#DIV/0!"}},{"$f":"IF(AND(Data!A77<>\"\",Chart!$O$2=\"Yes\"),Data!A77,\"\")","v":""}]
["",{"$f":"IF(Data!B78=\"\",\"\",Data!B78)","v":""},{"$f":"IF(Data!C78=\"\",\"\",Data!C78)","v":""},{"$f":"IF(B74=\"\",\"\",AVERAGE(Data!C:C))","v":""},{"$f":"IF(B74=\"\",\"\",IF((AVERAGE(Data!C:C)-2*J74)<0,0,AVERAGE(Data!C:C)-2*J74))","v":""},{"$f":"IF(B74=\"\",\"\",AVERAGE(Data!C:C)+2*J74)","v":""},{"$f":"IF(B74=\"\",\"\",IF(Data!C78<E74,Data!C78,#N/A))","v":""},{"$f":"IF(AND(Data!C78>=E74,Data!C78<=F74)=TRUE,Data!C78,#N/A)","v":0},{"$f":"IF(B74=\"\",\"\",IF(Data!C78>F74,Data!C78,#N/A))","v":""},{"$f":"STDEV(Data!C:C)/SQRT(Data!B78)","v":{"$error":"#DIV/0!"}},{"$f":"IF(AND(Data!A78<>\"\",Chart!$O$2=\"Yes\"),Data!A78,\"\")","v":""}]
["",{"$f":"IF(Data!B79=\"\",\"\",Data!B79)","v":""},{"$f":"IF(Data!C79=\"\",\"\",Data!C79)","v":""},{"$f":"IF(B75=\"\",\"\",AVERAGE(Data!C:C))","v":""},{"$f":"IF(B75=\"\",\"\",IF((AVERAGE(Data!C:C)-2*J75)<0,0,AVERAGE(Data!C:C)-2*J75))","v":""},{"$f":"IF(B75=\"\",\"\",AVERAGE(Data!C:C)+2*J75)","v":""},{"$f":"IF(B75=\"\",\"\",IF(Data!C79<E75,Data!C79,#N/A))","v":""},{"$f":"IF(AND(Data!C79>=E75,Data!C79<=F75)=TRUE,Data!C79,#N/A)","v":0},{"$f":"IF(B75=\"\",\"\",IF(Data!C79>F75,Data!C79,#N/A))","v":""},{"$f":"STDEV(Data!C:C)/SQRT(Data!B79)","v":{"$error":"#DIV/0!"}},{"$f":"IF(AND(Data!A79<>\"\",Chart!$O$2=\"Yes\"),Data!A79,\"\")","v":""}]
["",{"$f":"IF(Data!B80=\"\",\"\",Data!B80)","v":""},{"$f":"IF(Data!C80=\"\",\"\",Data!C80)","v":""},{"$f":"IF(B76=\"\",\"\",AVERAGE(Data!C:C))","v":""},{"$f":"IF(B76=\"\",\"\",IF((AVERAGE(Data!C:C)-2*J76)<0,0,AVERAGE(Data!C:C)-2*J76))","v":""},{"$f":"IF(B76=\"\",\"\",AVERAGE(Data!C:C)+2*J76)","v":""},{"$f":"IF(B76=\"\",\"\",IF(Data!C80<E76,Data!C80,#N/A))","v":""},{"$f":"IF(AND(Data!C80>=E76,Data!C80<=F76)=TRUE,Data!C80,#N/A)","v":0},{"$f":"IF(B76=\"\",\"\",IF(Data!C80>F76,Data!C80,#N/A))","v":""},{"$f":"STDEV(Data!C:C)/SQRT(Data!B80)","v":{"$error":"#DIV/0!"}},{"$f":"IF(AND(Data!A80<>\"\",Chart!$O$2=\"Yes\"),Data!A80,\"\")","v":""}]
["",{"$f":"IF(Data!B81=\"\",\"\",Data!B81)","v":""},{"$f":"IF(Data!C81=\"\",\"\",Data!C81)","v":""},{"$f":"IF(B77=\"\",\"\",AVERAGE(Data!C:C))","v":""},{"$f":"IF(B77=\"\",\"\",IF((AVERAGE(Data!C:C)-2*J77)<0,0,AVERAGE(Data!C:C)-2*J77))","v":""},{"$f":"IF(B77=\"\",\"\",AVERAGE(Data!C:C)+2*J77)","v":""},{"$f":"IF(B77=\"\",\"\",IF(Data!C81<E77,Data!C81,#N/A))","v":""},{"$f":"IF(AND(Data!C81>=E77,Data!C81<=F77)=TRUE,Data!C81,#N/A)","v":0},{"$f":"IF(B77=\"\",\"\",IF(Data!C81>F77,Data!C81,#N/A))","v":""},{"$f":"STDEV(Data!C:C)/SQRT(Data!B81)","v":{"$error":"#DIV/0!"}},{"$f":"IF(AND(Data!A81<>\"\",Chart!$O$2=\"Yes\"),Data!A81,\"\")","v":""}]
["",{"$f":"IF(Data!B82=\"\",\"\",Data!B82)","v":""},{"$f":"IF(Data!C82=\"\",\"\",Data!C82)","v":""},{"$f":"IF(B78=\"\",\"\",AVERAGE(Data!C:C))","v":""},{"$f":"IF(B78=\"\",\"\",IF((AVERAGE(Data!C:C)-2*J78)<0,0,AVERAGE(Data!C:C)-2*J78))","v":""},{"$f":"IF(B78=\"\",\"\",AVERAGE(Data!C:C)+2*J78)","v":""},{"$f":"IF(B78=\"\",\"\",IF(Data!C82<E78,Data!C82,#N/A))","v":""},{"$f":"IF(AND(Data!C82>=E78,Data!C82<=F78)=TRUE,Data!C82,#N/A)","v":0},{"$f":"IF(B78=\"\",\"\",IF(Data!C82>F78,Data!C82,#N/A))","v":""},{"$f":"STDEV(Data!C:C)/SQRT(Data!B82)","v":{"$error":"#DIV/0!"}},{"$f":"IF(AND(Data!A82<>\"\",Chart!$O$2=\"Yes\"),Data!A82,\"\")","v":""}]
["",{"$f":"IF(Data!B83=\"\",\"\",Data!B83)","v":""},{"$f":"IF(Data!C83=\"\",\"\",Data!C83)","v":""},{"$f":"IF(B79=\"\",\"\",AVERAGE(Data!C:C))","v":""},{"$f":"IF(B79=\"\",\"\",IF((AVERAGE(Data!C:C)-2*J79)<0,0,AVERAGE(Data!C:C)-2*J79))","v":""},{"$f":"IF(B79=\"\",\"\",AVERAGE(Data!C:C)+2*J79)","v":""},{"$f":"IF(B79=\"\",\"\",IF(Data!C83<E79,Data!C83,#N/A))","v":""},{"$f":"IF(AND(Data!C83>=E79,Data!C83<=F79)=TRUE,Data!C83,#N/A)","v":0},{"$f":"IF(B79=\"\",\"\",IF(Data!C83>F79,Data!C83,#N/A))","v":""},{"$f":"STDEV(Data!C:C)/SQRT(Data!B83)","v":{"$error":"#DIV/0!"}},{"$f":"IF(AND(Data!A83<>\"\",Chart!$O$2=\"Yes\"),Data!A83,\"\")","v":""}]
["",{"$f":"IF(Data!B84=\"\",\"\",Data!B84)","v":""},{"$f":"IF(Data!C84=\"\",\"\",Data!C84)","v":""},{"$f":"IF(B80=\"\",\"\",AVERAGE(Data!C:C))","v":""},{"$f":"IF(B80=\"\",\"\",IF((AVERAGE(Data!C:C)-2*J80)<0,0,AVERAGE(Data!C:C)-2*J80))","v":""},{"$f":"IF(B80=\"\",\"\",AVERAGE(Data!C:C)+2*J80)","v":""},{"$f":"IF(B80=\"\",\"\",IF(Data!C84<E80,Data!C84,#N/A))","v":""},{"$f":"IF(AND(Data!C84>=E80,Data!C84<=F80)=TRUE,Data!C84,#N/A)","v":0},{"$f":"IF(B80=\"\",\"\",IF(Data!C84>F80,Data!C84,#N/A))","v":""},{"$f":"STDEV(Data!C:C)/SQRT(Data!B84)","v":{"$error":"#DIV/0!"}},{"$f":"IF(AND(Data!A84<>\"\",Chart!$O$2=\"Yes\"),Data!A84,\"\")","v":""}]
["",{"$f":"IF(Data!B85=\"\",\"\",Data!B85)","v":""},{"$f":"IF(Data!C85=\"\",\"\",Data!C85)","v":""},{"$f":"IF(B81=\"\",\"\",AVERAGE(Data!C:C))","v":""},{"$f":"IF(B81=\"\",\"\",IF((AVERAGE(Data!C:C)-2*J81)<0,0,AVERAGE(Data!C:C)-2*J81))","v":""},{"$f":"IF(B81=\"\",\"\",AVERAGE(Data!C:C)+2*J81)","v":""},{"$f":"IF(B81=\"\",\"\",IF(Data!C85<E81,Data!C85,#N/A))","v":""},{"$f":"IF(AND(Data!C85>=E81,Data!C85<=F81)=TRUE,Data!C85,#N/A)","v":0},{"$f":"IF(B81=\"\",\"\",IF(Data!C85>F81,Data!C85,#N/A))","v":""},{"$f":"STDEV(Data!C:C)/SQRT(Data!B85)","v":{"$error":"#DIV/0!"}},{"$f":"IF(AND(Data!A85<>\"\",Chart!$O$2=\"Yes\"),Data!A85,\"\")","v":""}]
["",{"$f":"IF(Data!B86=\"\",\"\",Data!B86)","v":""},{"$f":"IF(Data!C86=\"\",\"\",Data!C86)","v":""},{"$f":"IF(B82=\"\",\"\",AVERAGE(Data!C:C))","v":""},{"$f":"IF(B82=\"\",\"\",IF((AVERAGE(Data!C:C)-2*J82)<0,0,AVERAGE(Data!C:C)-2*J82))","v":""},{"$f":"IF(B82=\"\",\"\",AVERAGE(Data!C:C)+2*J82)","v":""},{"$f":"IF(B82=\"\",\"\",IF(Data!C86<E82,Data!C86,#N/A))","v":""},{"$f":"IF(AND(Data!C86>=E82,Data!C86<=F82)=TRUE,Data!C86,#N/A)","v":0},{"$f":"IF(B82=\"\",\"\",IF(Data!C86>F82,Data!C86,#N/A))","v":""},{"$f":"STDEV(Data!C:C)/SQRT(Data!B86)","v":{"$error":"#DIV/0!"}},{"$f":"IF(AND(Data!A86<>\"\",Chart!$O$2=\"Yes\"),Data!A86,\"\")","v":""}]
["",{"$f":"IF(Data!B87=\"\",\"\",Data!B87)","v":""},{"$f":"IF(Data!C87=\"\",\"\",Data!C87)","v":""},{"$f":"IF(B83=\"\",\"\",AVERAGE(Data!C:C))","v":""},{"$f":"IF(B83=\"\",\"\",IF((AVERAGE(Data!C:C)-2*J83)<0,0,AVERAGE(Data!C:C)-2*J83))","v":""},{"$f":"IF(B83=\"\",\"\",AVERAGE(Data!C:C)+2*J83)","v":""},{"$f":"IF(B83=\"\",\"\",IF(Data!C87<E83,Data!C87,#N/A))","v":""},{"$f":"IF(AND(Data!C87>=E83,Data!C87<=F83)=TRUE,Data!C87,#N/A)","v":0},{"$f":"IF(B83=\"\",\"\",IF(Data!C87>F83,Data!C87,#N/A))","v":""},{"$f":"STDEV(Data!C:C)/SQRT(Data!B87)","v":{"$error":"#DIV/0!"}},{"$f":"IF(AND(Data!A87<>\"\",Chart!$O$2=\"Yes\"),Data!A87,\"\")","v":""}]
["",{"$f":"IF(Data!B88=\"\",\"\",Data!B88)","v":""},{"$f":"IF(Data!C88=\"\",\"\",Data!C88)","v":""},{"$f":"IF(B84=\"\",\"\",AVERAGE(Data!C:C))","v":""},{"$f":"IF(B84=\"\",\"\",IF((AVERAGE(Data!C:C)-2*J84)<0,0,AVERAGE(Data!C:C)-2*J84))","v":""},{"$f":"IF(B84=\"\",\"\",AVERAGE(Data!C:C)+2*J84)","v":""},{"$f":"IF(B84=\"\",\"\",IF(Data!C88<E84,Data!C88,#N/A))","v":""},{"$f":"IF(AND(Data!C88>=E84,Data!C88<=F84)=TRUE,Data!C88,#N/A)","v":0},{"$f":"IF(B84=\"\",\"\",IF(Data!C88>F84,Data!C88,#N/A))","v":""},{"$f":"STDEV(Data!C:C)/SQRT(Data!B88)","v":{"$error":"#DIV/0!"}},{"$f":"IF(AND(Data!A88<>\"\",Chart!$O$2=\"Yes\"),Data!A88,\"\")","v":""}]
["",{"$f":"IF(Data!B89=\"\",\"\",Data!B89)","v":""},{"$f":"IF(Data!C89=\"\",\"\",Data!C89)","v":""},{"$f":"IF(B85=\"\",\"\",AVERAGE(Data!C:C))","v":""},{"$f":"IF(B85=\"\",\"\",IF((AVERAGE(Data!C:C)-2*J85)<0,0,AVERAGE(Data!C:C)-2*J85))","v":""},{"$f":"IF(B85=\"\",\"\",AVERAGE(Data!C:C)+2*J85)","v":""},{"$f":"IF(B85=\"\",\"\",IF(Data!C89<E85,Data!C89,#N/A))","v":""},{"$f":"IF(AND(Data!C89>=E85,Data!C89<=F85)=TRUE,Data!C89,#N/A)","v":0},{"$f":"IF(B85=\"\",\"\",IF(Data!C89>F85,Data!C89,#N/A))","v":""},{"$f":"STDEV(Data!C:C)/SQRT(Data!B89)","v":{"$error":"#DIV/0!"}},{"$f":"IF(AND(Data!A89<>\"\",Chart!$O$2=\"Yes\"),Data!A89,\"\")","v":""}]
["",{"$f":"IF(Data!B90=\"\",\"\",Data!B90)","v":""},{"$f":"IF(Data!C90=\"\",\"\",Data!C90)","v":""},{"$f":"IF(B86=\"\",\"\",AVERAGE(Data!C:C))","v":""},{"$f":"IF(B86=\"\",\"\",IF((AVERAGE(Data!C:C)-2*J86)<0,0,AVERAGE(Data!C:C)-2*J86))","v":""},{"$f":"IF(B86=\"\",\"\",AVERAGE(Data!C:C)+2*J86)","v":""},{"$f":"IF(B86=\"\",\"\",IF(Data!C90<E86,Data!C90,#N/A))","v":""},{"$f":"IF(AND(Data!C90>=E86,Data!C90<=F86)=TRUE,Data!C90,#N/A)","v":0},{"$f":"IF(B86=\"\",\"\",IF(Data!C90>F86,Data!C90,#N/A))","v":""},{"$f":"STDEV(Data!C:C)/SQRT(Data!B90)","v":{"$error":"#DIV/0!"}},{"$f":"IF(AND(Data!A90<>\"\",Chart!$O$2=\"Yes\"),Data!A90,\"\")","v":""}]
["",{"$f":"IF(Data!B91=\"\",\"\",Data!B91)","v":""},{"$f":"IF(Data!C91=\"\",\"\",Data!C91)","v":""},{"$f":"IF(B87=\"\",\"\",AVERAGE(Data!C:C))","v":""},{"$f":"IF(B87=\"\",\"\",IF((AVERAGE(Data!C:C)-2*J87)<0,0,AVERAGE(Data!C:C)-2*J87))","v":""},{"$f":"IF(B87=\"\",\"\",AVERAGE(Data!C:C)+2*J87)","v":""},{"$f":"IF(B87=\"\",\"\",IF(Data!C91<E87,Data!C91,#N/A))","v":""},{"$f":"IF(AND(Data!C91>=E87,Data!C91<=F87)=TRUE,Data!C91,#N/A)","v":0},{"$f":"IF(B87=\"\",\"\",IF(Data!C91>F87,Data!C91,#N/A))","v":""},{"$f":"STDEV(Data!C:C)/SQRT(Data!B91)","v":{"$error":"#DIV/0!"}},{"$f":"IF(AND(Data!A91<>\"\",Chart!$O$2=\"Yes\"),Data!A91,\"\")","v":""}]
["",{"$f":"IF(Data!B92=\"\",\"\",Data!B92)","v":""},{"$f":"IF(Data!C92=\"\",\"\",Data!C92)","v":""},{"$f":"IF(B88=\"\",\"\",AVERAGE(Data!C:C))","v":""},{"$f":"IF(B88=\"\",\"\",IF((AVERAGE(Data!C:C)-2*J88)<0,0,AVERAGE(Data!C:C)-2*J88))","v":""},{"$f":"IF(B88=\"\",\"\",AVERAGE(Data!C:C)+2*J88)","v":""},{"$f":"IF(B88=\"\",\"\",IF(Data!C92<E88,Data!C92,#N/A))","v":""},{"$f":"IF(AND(Data!C92>=E88,Data!C92<=F88)=TRUE,Data!C92,#N/A)","v":0},{"$f":"IF(B88=\"\",\"\",IF(Data!C92>F88,Data!C92,#N/A))","v":""},{"$f":"STDEV(Data!C:C)/SQRT(Data!B92)","v":{"$error":"#DIV/0!"}},{"$f":"IF(AND(Data!A92<>\"\",Chart!$O$2=\"Yes\"),Data!A92,\"\")","v":""}]
["",{"$f":"IF(Data!B93=\"\",\"\",Data!B93)","v":""},{"$f":"IF(Data!C93=\"\",\"\",Data!C93)","v":""},{"$f":"IF(B89=\"\",\"\",AVERAGE(Data!C:C))","v":""},{"$f":"IF(B89=\"\",\"\",IF((AVERAGE(Data!C:C)-2*J89)<0,0,AVERAGE(Data!C:C)-2*J89))","v":""},{"$f":"IF(B89=\"\",\"\",AVERAGE(Data!C:C)+2*J89)","v":""},{"$f":"IF(B89=\"\",\"\",IF(Data!C93<E89,Data!C93,#N/A))","v":""},{"$f":"IF(AND(Data!C93>=E89,Data!C93<=F89)=TRUE,Data!C93,#N/A)","v":0},{"$f":"IF(B89=\"\",\"\",IF(Data!C93>F89,Data!C93,#N/A))","v":""},{"$f":"STDEV(Data!C:C)/SQRT(Data!B93)","v":{"$error":"#DIV/0!"}},{"$f":"IF(AND(Data!A93<>\"\",Chart!$O$2=\"Yes\"),Data!A93,\"\")","v":""}]
["",{"$f":"IF(Data!B94=\"\",\"\",Data!B94)","v":""},{"$f":"IF(Data!C94=\"\",\"\",Data!C94)","v":""},{"$f":"IF(B90=\"\",\"\",AVERAGE(Data!C:C))","v":""},{"$f":"IF(B90=\"\",\"\",IF((AVERAGE(Data!C:C)-2*J90)<0,0,AVERAGE(Data!C:C)-2*J90))","v":""},{"$f":"IF(B90=\"\",\"\",AVERAGE(Data!C:C)+2*J90)","v":""},{"$f":"IF(B90=\"\",\"\",IF(Data!C94<E90,Data!C94,#N/A))","v":""},{"$f":"IF(AND(Data!C94>=E90,Data!C94<=F90)=TRUE,Data!C94,#N/A)","v":0},{"$f":"IF(B90=\"\",\"\",IF(Data!C94>F90,Data!C94,#N/A))","v":""},{"$f":"STDEV(Data!C:C)/SQRT(Data!B94)","v":{"$error":"#DIV/0!"}},{"$f":"IF(AND(Data!A94<>\"\",Chart!$O$2=\"Yes\"),Data!A94,\"\")","v":""}]
["",{"$f":"IF(Data!B95=\"\",\"\",Data!B95)","v":""},{"$f":"IF(Data!C95=\"\",\"\",Data!C95)","v":""},{"$f":"IF(B91=\"\",\"\",AVERAGE(Data!C:C))","v":""},{"$f":"IF(B91=\"\",\"\",IF((AVERAGE(Data!C:C)-2*J91)<0,0,AVERAGE(Data!C:C)-2*J91))","v":""},{"$f":"IF(B91=\"\",\"\",AVERAGE(Data!C:C)+2*J91)","v":""},{"$f":"IF(B91=\"\",\"\",IF(Data!C95<E91,Data!C95,#N/A))","v":""},{"$f":"IF(AND(Data!C95>=E91,Data!C95<=F91)=TRUE,Data!C95,#N/A)","v":0},{"$f":"IF(B91=\"\",\"\",IF(Data!C95>F91,Data!C95,#N/A))","v":""},{"$f":"STDEV(Data!C:C)/SQRT(Data!B95)","v":{"$error":"#DIV/0!"}},{"$f":"IF(AND(Data!A95<>\"\",Chart!$O$2=\"Yes\"),Data!A95,\"\")","v":""}]
["",{"$f":"IF(Data!B96=\"\",\"\",Data!B96)","v":""},{"$f":"IF(Data!C96=\"\",\"\",Data!C96)","v":""},{"$f":"IF(B92=\"\",\"\",AVERAGE(Data!C:C))","v":""},{"$f":"IF(B92=\"\",\"\",IF((AVERAGE(Data!C:C)-2*J92)<0,0,AVERAGE(Data!C:C)-2*J92))","v":""},{"$f":"IF(B92=\"\",\"\",AVERAGE(Data!C:C)+2*J92)","v":""},{"$f":"IF(B92=\"\",\"\",IF(Data!C96<E92,Data!C96,#N/A))","v":""},{"$f":"IF(AND(Data!C96>=E92,Data!C96<=F92)=TRUE,Data!C96,#N/A)","v":0},{"$f":"IF(B92=\"\",\"\",IF(Data!C96>F92,Data!C96,#N/A))","v":""},{"$f":"STDEV(Data!C:C)/SQRT(Data!B96)","v":{"$error":"#DIV/0!"}},{"$f":"IF(AND(Data!A96<>\"\",Chart!$O$2=\"Yes\"),Data!A96,\"\")","v":""}]
["",{"$f":"IF(Data!B97=\"\",\"\",Data!B97)","v":""},{"$f":"IF(Data!C97=\"\",\"\",Data!C97)","v":""},{"$f":"IF(B93=\"\",\"\",AVERAGE(Data!C:C))","v":""},{"$f":"IF(B93=\"\",\"\",IF((AVERAGE(Data!C:C)-2*J93)<0,0,AVERAGE(Data!C:C)-2*J93))","v":""},{"$f":"IF(B93=\"\",\"\",AVERAGE(Data!C:C)+2*J93)","v":""},{"$f":"IF(B93=\"\",\"\",IF(Data!C97<E93,Data!C97,#N/A))","v":""},{"$f":"IF(AND(Data!C97>=E93,Data!C97<=F93)=TRUE,Data!C97,#N/A)","v":0},{"$f":"IF(B93=\"\",\"\",IF(Data!C97>F93,Data!C97,#N/A))","v":""},{"$f":"STDEV(Data!C:C)/SQRT(Data!B97)","v":{"$error":"#DIV/0!"}},{"$f":"IF(AND(Data!A97<>\"\",Chart!$O$2=\"Yes\"),Data!A97,\"\")","v":""}]
["",{"$f":"IF(Data!B98=\"\",\"\",Data!B98)","v":""},{"$f":"IF(Data!C98=\"\",\"\",Data!C98)","v":""},{"$f":"IF(B94=\"\",\"\",AVERAGE(Data!C:C))","v":""},{"$f":"IF(B94=\"\",\"\",IF((AVERAGE(Data!C:C)-2*J94)<0,0,AVERAGE(Data!C:C)-2*J94))","v":""},{"$f":"IF(B94=\"\",\"\",AVERAGE(Data!C:C)+2*J94)","v":""},{"$f":"IF(B94=\"\",\"\",IF(Data!C98<E94,Data!C98,#N/A))","v":""},{"$f":"IF(AND(Data!C98>=E94,Data!C98<=F94)=TRUE,Data!C98,#N/A)","v":0},{"$f":"IF(B94=\"\",\"\",IF(Data!C98>F94,Data!C98,#N/A))","v":""},{"$f":"STDEV(Data!C:C)/SQRT(Data!B98)","v":{"$error":"#DIV/0!"}},{"$f":"IF(AND(Data!A98<>\"\",Chart!$O$2=\"Yes\"),Data!A98,\"\")","v":""}]
["",{"$f":"IF(Data!B99=\"\",\"\",Data!B99)","v":""},{"$f":"IF(Data!C99=\"\",\"\",Data!C99)","v":""},{"$f":"IF(B95=\"\",\"\",AVERAGE(Data!C:C))","v":""},{"$f":"IF(B95=\"\",\"\",IF((AVERAGE(Data!C:C)-2*J95)<0,0,AVERAGE(Data!C:C)-2*J95))","v":""},{"$f":"IF(B95=\"\",\"\",AVERAGE(Data!C:C)+2*J95)","v":""},{"$f":"IF(B95=\"\",\"\",IF(Data!C99<E95,Data!C99,#N/A))","v":""},{"$f":"IF(AND(Data!C99>=E95,Data!C99<=F95)=TRUE,Data!C99,#N/A)","v":0},{"$f":"IF(B95=\"\",\"\",IF(Data!C99>F95,Data!C99,#N/A))","v":""},{"$f":"STDEV(Data!C:C)/SQRT(Data!B99)","v":{"$error":"#DIV/0!"}},{"$f":"IF(AND(Data!A99<>\"\",Chart!$O$2=\"Yes\"),Data!A99,\"\")","v":""}]
["",{"$f":"IF(Data!B100=\"\",\"\",Data!B100)","v":""},{"$f":"IF(Data!C100=\"\",\"\",Data!C100)","v":""},{"$f":"IF(B96=\"\",\"\",AVERAGE(Data!C:C))","v":""},{"$f":"IF(B96=\"\",\"\",IF((AVERAGE(Data!C:C)-2*J96)<0,0,AVERAGE(Data!C:C)-2*J96))","v":""},{"$f":"IF(B96=\"\",\"\",AVERAGE(Data!C:C)+2*J96)","v":""},{"$f":"IF(B96=\"\",\"\",IF(Data!C100<E96,Data!C100,#N/A))","v":""},{"$f":"IF(AND(Data!C100>=E96,Data!C100<=F96)=TRUE,Data!C100,#N/A)","v":0},{"$f":"IF(B96=\"\",\"\",IF(Data!C100>F96,Data!C100,#N/A))","v":""},{"$f":"STDEV(Data!C:C)/SQRT(Data!B100)","v":{"$error":"#DIV/0!"}},{"$f":"IF(AND(Data!A100<>\"\",Chart!$O$2=\"Yes\"),Data!A100,\"\")","v":""}]
["",{"$f":"IF(Data!B101=\"\",\"\",Data!B101)","v":""},{"$f":"IF(Data!C101=\"\",\"\",Data!C101)","v":""},{"$f":"IF(B97=\"\",\"\",AVERAGE(Data!C:C))","v":""},{"$f":"IF(B97=\"\",\"\",IF((AVERAGE(Data!C:C)-2*J97)<0,0,AVERAGE(Data!C:C)-2*J97))","v":""},{"$f":"IF(B97=\"\",\"\",AVERAGE(Data!C:C)+2*J97)","v":""},{"$f":"IF(B97=\"\",\"\",IF(Data!C101<E97,Data!C101,#N/A))","v":""},{"$f":"IF(AND(Data!C101>=E97,Data!C101<=F97)=TRUE,Data!C101,#N/A)","v":0},{"$f":"IF(B97=\"\",\"\",IF(Data!C101>F97,Data!C101,#N/A))","v":""},{"$f":"STDEV(Data!C:C)/SQRT(Data!B101)","v":{"$error":"#DIV/0!"}},{"$f":"IF(AND(Data!A101<>\"\",Chart!$O$2=\"Yes\"),Data!A101,\"\")","v":""}]
["",{"$f":"IF(Data!B102=\"\",\"\",Data!B102)","v":""},{"$f":"IF(Data!C102=\"\",\"\",Data!C102)","v":""},{"$f":"IF(B98=\"\",\"\",AVERAGE(Data!C:C))","v":""},{"$f":"IF(B98=\"\",\"\",IF((AVERAGE(Data!C:C)-2*J98)<0,0,AVERAGE(Data!C:C)-2*J98))","v":""},{"$f":"IF(B98=\"\",\"\",AVERAGE(Data!C:C)+2*J98)","v":""},{"$f":"IF(B98=\"\",\"\",IF(Data!C102<E98,Data!C102,#N/A))","v":""},{"$f":"IF(AND(Data!C102>=E98,Data!C102<=F98)=TRUE,Data!C102,#N/A)","v":0},{"$f":"IF(B98=\"\",\"\",IF(Data!C102>F98,Data!C102,#N/A))","v":""},{"$f":"STDEV(Data!C:C)/SQRT(Data!B102)","v":{"$error":"#DIV/0!"}},{"$f":"IF(AND(Data!A102<>\"\",Chart!$O$2=\"Yes\"),Data!A102,\"\")","v":""}]
["",{"$f":"IF(Data!B103=\"\",\"\",Data!B103)","v":""},{"$f":"IF(Data!C103=\"\",\"\",Data!C103)","v":""},{"$f":"IF(B99=\"\",\"\",AVERAGE(Data!C:C))","v":""},{"$f":"IF(B99=\"\",\"\",IF((AVERAGE(Data!C:C)-2*J99)<0,0,AVERAGE(Data!C:C)-2*J99))","v":""},{"$f":"IF(B99=\"\",\"\",AVERAGE(Data!C:C)+2*J99)","v":""},{"$f":"IF(B99=\"\",\"\",IF(Data!C103<E99,Data!C103,#N/A))","v":""},{"$f":"IF(AND(Data!C103>=E99,Data!C103<=F99)=TRUE,Data!C103,#N/A)","v":0},{"$f":"IF(B99=\"\",\"\",IF(Data!C103>F99,Data!C103,#N/A))","v":""},{"$f":"STDEV(Data!C:C)/SQRT(Data!B103)","v":{"$error":"#DIV/0!"}},{"$f":"IF(AND(Data!A103<>\"\",Chart!$O$2=\"Yes\"),Data!A103,\"\")","v":""}]
["",{"$f":"IF(Data!B104=\"\",\"\",Data!B104)","v":""},{"$f":"IF(Data!C104=\"\",\"\",Data!C104)","v":""},{"$f":"IF(B100=\"\",\"\",AVERAGE(Data!C:C))","v":""},{"$f":"IF(B100=\"\",\"\",IF((AVERAGE(Data!C:C)-2*J100)<0,0,AVERAGE(Data!C:C)-2*J100))","v":""},{"$f":"IF(B100=\"\",\"\",AVERAGE(Data!C:C)+2*J100)","v":""},{"$f":"IF(B100=\"\",\"\",IF(Data!C104<E100,Data!C104,#N/A))","v":""},{"$f":"IF(AND(Data!C104>=E100,Data!C104<=F100)=TRUE,Data!C104,#N/A)","v":0},{"$f":"IF(B100=\"\",\"\",IF(Data!C104>F100,Data!C104,#N/A))","v":""},{"$f":"STDEV(Data!C:C)/SQRT(Data!B104)","v":{"$error":"#DIV/0!"}},{"$f":"IF(AND(Data!A104<>\"\",Chart!$O$2=\"Yes\"),Data!A104,\"\")","v":""}]
["",{"$f":"IF(Data!B105=\"\",\"\",Data!B105)","v":""},{"$f":"IF(Data!C105=\"\",\"\",Data!C105)","v":""},{"$f":"IF(B101=\"\",\"\",AVERAGE(Data!C:C))","v":""},{"$f":"IF(B101=\"\",\"\",IF((AVERAGE(Data!C:C)-2*J101)<0,0,AVERAGE(Data!C:C)-2*J101))","v":""},{"$f":"IF(B101=\"\",\"\",AVERAGE(Data!C:C)+2*J101)","v":""},{"$f":"IF(B101=\"\",\"\",IF(Data!C105<E101,Data!C105,#N/A))","v":""},{"$f":"IF(AND(Data!C105>=E101,Data!C105<=F101)=TRUE,Data!C105,#N/A)","v":0},{"$f":"IF(B101=\"\",\"\",IF(Data!C105>F101,Data!C105,#N/A))","v":""},{"$f":"STDEV(Data!C:C)/SQRT(Data!B105)","v":{"$error":"#DIV/0!"}},{"$f":"IF(AND(Data!A105<>\"\",Chart!$O$2=\"Yes\"),Data!A105,\"\")","v":""}]
["",{"$f":"IF(Data!B106=\"\",\"\",Data!B106)","v":""},{"$f":"IF(Data!C106=\"\",\"\",Data!C106)","v":""},{"$f":"IF(B102=\"\",\"\",AVERAGE(Data!C:C))","v":""},{"$f":"IF(B102=\"\",\"\",IF((AVERAGE(Data!C:C)-2*J102)<0,0,AVERAGE(Data!C:C)-2*J102))","v":""},{"$f":"IF(B102=\"\",\"\",AVERAGE(Data!C:C)+2*J102)","v":""},{"$f":"IF(B102=\"\",\"\",IF(Data!C106<E102,Data!C106,#N/A))","v":""},{"$f":"IF(AND(Data!C106>=E102,Data!C106<=F102)=TRUE,Data!C106,#N/A)","v":0},{"$f":"IF(B102=\"\",\"\",IF(Data!C106>F102,Data!C106,#N/A))","v":""},{"$f":"STDEV(Data!C:C)/SQRT(Data!B106)","v":{"$error":"#DIV/0!"}},{"$f":"IF(AND(Data!A106<>\"\",Chart!$O$2=\"Yes\"),Data!A106,\"\")","v":""}]
["",{"$f":"IF(Data!B107=\"\",\"\",Data!B107)","v":""},{"$f":"IF(Data!C107=\"\",\"\",Data!C107)","v":""},{"$f":"IF(B103=\"\",\"\",AVERAGE(Data!C:C))","v":""},{"$f":"IF(B103=\"\",\"\",IF((AVERAGE(Data!C:C)-2*J103)<0,0,AVERAGE(Data!C:C)-2*J103))","v":""},{"$f":"IF(B103=\"\",\"\",AVERAGE(Data!C:C)+2*J103)","v":""},{"$f":"IF(B103=\"\",\"\",IF(Data!C107<E103,Data!C107,#N/A))","v":""},{"$f":"IF(AND(Data!C107>=E103,Data!C107<=F103)=TRUE,Data!C107,#N/A)","v":0},{"$f":"IF(B103=\"\",\"\",IF(Data!C107>F103,Data!C107,#N/A))","v":""},{"$f":"STDEV(Data!C:C)/SQRT(Data!B107)","v":{"$error":"#DIV/0!"}},{"$f":"IF(AND(Data!A107<>\"\",Chart!$O$2=\"Yes\"),Data!A107,\"\")","v":""}]
["",{"$f":"IF(Data!B108=\"\",\"\",Data!B108)","v":""},{"$f":"IF(Data!C108=\"\",\"\",Data!C108)","v":""},{"$f":"IF(B104=\"\",\"\",AVERAGE(Data!C:C))","v":""},{"$f":"IF(B104=\"\",\"\",IF((AVERAGE(Data!C:C)-2*J104)<0,0,AVERAGE(Data!C:C)-2*J104))","v":""},{"$f":"IF(B104=\"\",\"\",AVERAGE(Data!C:C)+2*J104)","v":""},{"$f":"IF(B104=\"\",\"\",IF(Data!C108<E104,Data!C108,#N/A))","v":""},{"$f":"IF(AND(Data!C108>=E104,Data!C108<=F104)=TRUE,Data!C108,#N/A)","v":0},{"$f":"IF(B104=\"\",\"\",IF(Data!C108>F104,Data!C108,#N/A))","v":""},{"$f":"STDEV(Data!C:C)/SQRT(Data!B108)","v":{"$error":"#DIV/0!"}},{"$f":"IF(AND(Data!A108<>\"\",Chart!$O$2=\"Yes\"),Data!A108,\"\")","v":""}]
["",{"$f":"IF(Data!B109=\"\",\"\",Data!B109)","v":""},{"$f":"IF(Data!C109=\"\",\"\",Data!C109)","v":""},{"$f":"IF(B105=\"\",\"\",AVERAGE(Data!C:C))","v":""},{"$f":"IF(B105=\"\",\"\",IF((AVERAGE(Data!C:C)-2*J105)<0,0,AVERAGE(Data!C:C)-2*J105))","v":""},{"$f":"IF(B105=\"\",\"\",AVERAGE(Data!C:C)+2*J105)","v":""},{"$f":"IF(B105=\"\",\"\",IF(Data!C109<E105,Data!C109,#N/A))","v":""},{"$f":"IF(AND(Data!C109>=E105,Data!C109<=F105)=TRUE,Data!C109,#N/A)","v":0},{"$f":"IF(B105=\"\",\"\",IF(Data!C109>F105,Data!C109,#N/A))","v":""},{"$f":"STDEV(Data!C:C)/SQRT(Data!B109)","v":{"$error":"#DIV/0!"}},{"$f":"IF(AND(Data!A109<>\"\",Chart!$O$2=\"Yes\"),Data!A109,\"\")","v":""}]
["",{"$f":"IF(Data!B110=\"\",\"\",Data!B110)","v":""},{"$f":"IF(Data!C110=\"\",\"\",Data!C110)","v":""},{"$f":"IF(B106=\"\",\"\",AVERAGE(Data!C:C))","v":""},{"$f":"IF(B106=\"\",\"\",IF((AVERAGE(Data!C:C)-2*J106)<0,0,AVERAGE(Data!C:C)-2*J106))","v":""},{"$f":"IF(B106=\"\",\"\",AVERAGE(Data!C:C)+2*J106)","v":""},{"$f":"IF(B106=\"\",\"\",IF(Data!C110<E106,Data!C110,#N/A))","v":""},{"$f":"IF(AND(Data!C110>=E106,Data!C110<=F106)=TRUE,Data!C110,#N/A)","v":0},{"$f":"IF(B106=\"\",\"\",IF(Data!C110>F106,Data!C110,#N/A))","v":""},{"$f":"STDEV(Data!C:C)/SQRT(Data!B110)","v":{"$error":"#DIV/0!"}},{"$f":"IF(AND(Data!A110<>\"\",Chart!$O$2=\"Yes\"),Data!A110,\"\")","v":""}]
["",{"$f":"IF(Data!B111=\"\",\"\",Data!B111)","v":""},{"$f":"IF(Data!C111=\"\",\"\",Data!C111)","v":""},{"$f":"IF(B107=\"\",\"\",AVERAGE(Data!C:C))","v":""},{"$f":"IF(B107=\"\",\"\",IF((AVERAGE(Data!C:C)-2*J107)<0,0,AVERAGE(Data!C:C)-2*J107))","v":""},{"$f":"IF(B107=\"\",\"\",AVERAGE(Data!C:C)+2*J107)","v":""},{"$f":"IF(B107=\"\",\"\",IF(Data!C111<E107,Data!C111,#N/A))","v":""},{"$f":"IF(AND(Data!C111>=E107,Data!C111<=F107)=TRUE,Data!C111,#N/A)","v":0},{"$f":"IF(B107=\"\",\"\",IF(Data!C111>F107,Data!C111,#N/A))","v":""},{"$f":"STDEV(Data!C:C)/SQRT(Data!B111)","v":{"$error":"#DIV/0!"}},{"$f":"IF(AND(Data!A111<>\"\",Chart!$O$2=\"Yes\"),Data!A111,\"\")","v":""}]
["",{"$f":"IF(Data!B112=\"\",\"\",Data!B112)","v":""},{"$f":"IF(Data!C112=\"\",\"\",Data!C112)","v":""},{"$f":"IF(B108=\"\",\"\",AVERAGE(Data!C:C))","v":""},{"$f":"IF(B108=\"\",\"\",IF((AVERAGE(Data!C:C)-2*J108)<0,0,AVERAGE(Data!C:C)-2*J108))","v":""},{"$f":"IF(B108=\"\",\"\",AVERAGE(Data!C:C)+2*J108)","v":""},{"$f":"IF(B108=\"\",\"\",IF(Data!C112<E108,Data!C112,#N/A))","v":""},{"$f":"IF(AND(Data!C112>=E108,Data!C112<=F108)=TRUE,Data!C112,#N/A)","v":0},{"$f":"IF(B108=\"\",\"\",IF(Data!C112>F108,Data!C112,#N/A))","v":""},{"$f":"STDEV(Data!C:C)/SQRT(Data!B112)","v":{"$error":"#DIV/0!"}},{"$f":"IF(AND(Data!A112<>\"\",Chart!$O$2=\"Yes\"),Data!A112,\"\")","v":""}]
["",{"$f":"IF(Data!B113=\"\",\"\",Data!B113)","v":""},{"$f":"IF(Data!C113=\"\",\"\",Data!C113)","v":""},{"$f":"IF(B109=\"\",\"\",AVERAGE(Data!C:C))","v":""},{"$f":"IF(B109=\"\",\"\",IF((AVERAGE(Data!C:C)-2*J109)<0,0,AVERAGE(Data!C:C)-2*J109))","v":""},{"$f":"IF(B109=\"\",\"\",AVERAGE(Data!C:C)+2*J109)","v":""},{"$f":"IF(B109=\"\",\"\",IF(Data!C113<E109,Data!C113,#N/A))","v":""},{"$f":"IF(AND(Data!C113>=E109,Data!C113<=F109)=TRUE,Data!C113,#N/A)","v":0},{"$f":"IF(B109=\"\",\"\",IF(Data!C113>F109,Data!C113,#N/A))","v":""},{"$f":"STDEV(Data!C:C)/SQRT(Data!B113)","v":{"$error":"#DIV/0!"}},{"$f":"IF(AND(Data!A113<>\"\",Chart!$O$2=\"Yes\"),Data!A113,\"\")","v":""}]
["",{"$f":"IF(Data!B114=\"\",\"\",Data!B114)","v":""},{"$f":"IF(Data!C114=\"\",\"\",Data!C114)","v":""},{"$f":"IF(B110=\"\",\"\",AVERAGE(Data!C:C))","v":""},{"$f":"IF(B110=\"\",\"\",IF((AVERAGE(Data!C:C)-2*J110)<0,0,AVERAGE(Data!C:C)-2*J110))","v":""},{"$f":"IF(B110=\"\",\"\",AVERAGE(Data!C:C)+2*J110)","v":""},{"$f":"IF(B110=\"\",\"\",IF(Data!C114<E110,Data!C114,#N/A))","v":""},{"$f":"IF(AND(Data!C114>=E110,Data!C114<=F110)=TRUE,Data!C114,#N/A)","v":0},{"$f":"IF(B110=\"\",\"\",IF(Data!C114>F110,Data!C114,#N/A))","v":""},{"$f":"STDEV(Data!C:C)/SQRT(Data!B114)","v":{"$error":"#DIV/0!"}},{"$f":"IF(AND(Data!A114<>\"\",Chart!$O$2=\"Yes\"),Data!A114,\"\")","v":""}]
["",{"$f":"IF(Data!B115=\"\",\"\",Data!B115)","v":""},{"$f":"IF(Data!C115=\"\",\"\",Data!C115)","v":""},{"$f":"IF(B111=\"\",\"\",AVERAGE(Data!C:C))","v":""},{"$f":"IF(B111=\"\",\"\",IF((AVERAGE(Data!C:C)-2*J111)<0,0,AVERAGE(Data!C:C)-2*J111))","v":""},{"$f":"IF(B111=\"\",\"\",AVERAGE(Data!C:C)+2*J111)","v":""},{"$f":"IF(B111=\"\",\"\",IF(Data!C115<E111,Data!C115,#N/A))","v":""},{"$f":"IF(AND(Data!C115>=E111,Data!C115<=F111)=TRUE,Data!C115,#N/A)","v":0},{"$f":"IF(B111=\"\",\"\",IF(Data!C115>F111,Data!C115,#N/A))","v":""},{"$f":"STDEV(Data!C:C)/SQRT(Data!B115)","v":{"$error":"#DIV/0!"}},{"$f":"IF(AND(Data!A115<>\"\",Chart!$O$2=\"Yes\"),Data!A115,\"\")","v":""}]
["",{"$f":"IF(Data!B116=\"\",\"\",Data!B116)","v":""},{"$f":"IF(Data!C116=\"\",\"\",Data!C116)","v":""},{"$f":"IF(B112=\"\",\"\",AVERAGE(Data!C:C))","v":""},{"$f":"IF(B112=\"\",\"\",IF((AVERAGE(Data!C:C)-2*J112)<0,0,AVERAGE(Data!C:C)-2*J112))","v":""},{"$f":"IF(B112=\"\",\"\",AVERAGE(Data!C:C)+2*J112)","v":""},{"$f":"IF(B112=\"\",\"\",IF(Data!C116<E112,Data!C116,#N/A))","v":""},{"$f":"IF(AND(Data!C116>=E112,Data!C116<=F112)=TRUE,Data!C116,#N/A)","v":0},{"$f":"IF(B112=\"\",\"\",IF(Data!C116>F112,Data!C116,#N/A))","v":""},{"$f":"STDEV(Data!C:C)/SQRT(Data!B116)","v":{"$error":"#DIV/0!"}},{"$f":"IF(AND(Data!A116<>\"\",Chart!$O$2=\"Yes\"),Data!A116,\"\")","v":""}]
["",{"$f":"IF(Data!B117=\"\",\"\",Data!B117)","v":""},{"$f":"IF(Data!C117=\"\",\"\",Data!C117)","v":""},{"$f":"IF(B113=\"\",\"\",AVERAGE(Data!C:C))","v":""},{"$f":"IF(B113=\"\",\"\",IF((AVERAGE(Data!C:C)-2*J113)<0,0,AVERAGE(Data!C:C)-2*J113))","v":""},{"$f":"IF(B113=\"\",\"\",AVERAGE(Data!C:C)+2*J113)","v":""},{"$f":"IF(B113=\"\",\"\",IF(Data!C117<E113,Data!C117,#N/A))","v":""},{"$f":"IF(AND(Data!C117>=E113,Data!C117<=F113)=TRUE,Data!C117,#N/A)","v":0},{"$f":"IF(B113=\"\",\"\",IF(Data!C117>F113,Data!C117,#N/A))","v":""},{"$f":"STDEV(Data!C:C)/SQRT(Data!B117)","v":{"$error":"#DIV/0!"}},{"$f":"IF(AND(Data!A117<>\"\",Chart!$O$2=\"Yes\"),Data!A117,\"\")","v":""}]
["",{"$f":"IF(Data!B118=\"\",\"\",Data!B118)","v":""},{"$f":"IF(Data!C118=\"\",\"\",Data!C118)","v":""},{"$f":"IF(B114=\"\",\"\",AVERAGE(Data!C:C))","v":""},{"$f":"IF(B114=\"\",\"\",IF((AVERAGE(Data!C:C)-2*J114)<0,0,AVERAGE(Data!C:C)-2*J114))","v":""},{"$f":"IF(B114=\"\",\"\",AVERAGE(Data!C:C)+2*J114)","v":""},{"$f":"IF(B114=\"\",\"\",IF(Data!C118<E114,Data!C118,#N/A))","v":""},{"$f":"IF(AND(Data!C118>=E114,Data!C118<=F114)=TRUE,Data!C118,#N/A)","v":0},{"$f":"IF(B114=\"\",\"\",IF(Data!C118>F114,Data!C118,#N/A))","v":""},{"$f":"STDEV(Data!C:C)/SQRT(Data!B118)","v":{"$error":"#DIV/0!"}},{"$f":"IF(AND(Data!A118<>\"\",Chart!$O$2=\"Yes\"),Data!A118,\"\")","v":""}]
["",{"$f":"IF(Data!B119=\"\",\"\",Data!B119)","v":""},{"$f":"IF(Data!C119=\"\",\"\",Data!C119)","v":""},{"$f":"IF(B115=\"\",\"\",AVERAGE(Data!C:C))","v":""},{"$f":"IF(B115=\"\",\"\",IF((AVERAGE(Data!C:C)-2*J115)<0,0,AVERAGE(Data!C:C)-2*J115))","v":""},{"$f":"IF(B115=\"\",\"\",AVERAGE(Data!C:C)+2*J115)","v":""},{"$f":"IF(B115=\"\",\"\",IF(Data!C119<E115,Data!C119,#N/A))","v":""},{"$f":"IF(AND(Data!C119>=E115,Data!C119<=F115)=TRUE,Data!C119,#N/A)","v":0},{"$f":"IF(B115=\"\",\"\",IF(Data!C119>F115,Data!C119,#N/A))","v":""},{"$f":"STDEV(Data!C:C)/SQRT(Data!B119)","v":{"$error":"#DIV/0!"}},{"$f":"IF(AND(Data!A119<>\"\",Chart!$O$2=\"Yes\"),Data!A119,\"\")","v":""}]
["",{"$f":"IF(Data!B120=\"\",\"\",Data!B120)","v":""},{"$f":"IF(Data!C120=\"\",\"\",Data!C120)","v":""},{"$f":"IF(B116=\"\",\"\",AVERAGE(Data!C:C))","v":""},{"$f":"IF(B116=\"\",\"\",IF((AVERAGE(Data!C:C)-2*J116)<0,0,AVERAGE(Data!C:C)-2*J116))","v":""},{"$f":"IF(B116=\"\",\"\",AVERAGE(Data!C:C)+2*J116)","v":""},{"$f":"IF(B116=\"\",\"\",IF(Data!C120<E116,Data!C120,#N/A))","v":""},{"$f":"IF(AND(Data!C120>=E116,Data!C120<=F116)=TRUE,Data!C120,#N/A)","v":0},{"$f":"IF(B116=\"\",\"\",IF(Data!C120>F116,Data!C120,#N/A))","v":""},{"$f":"STDEV(Data!C:C)/SQRT(Data!B120)","v":{"$error":"#DIV/0!"}},{"$f":"IF(AND(Data!A120<>\"\",Chart!$O$2=\"Yes\"),Data!A120,\"\")","v":""}]
["",{"$f":"IF(Data!B121=\"\",\"\",Data!B121)","v":""},{"$f":"IF(Data!C121=\"\",\"\",Data!C121)","v":""},{"$f":"IF(B117=\"\",\"\",AVERAGE(Data!C:C))","v":""},{"$f":"IF(B117=\"\",\"\",IF((AVERAGE(Data!C:C)-2*J117)<0,0,AVERAGE(Data!C:C)-2*J117))","v":""},{"$f":"IF(B117=\"\",\"\",AVERAGE(Data!C:C)+2*J117)","v":""},{"$f":"IF(B117=\"\",\"\",IF(Data!C121<E117,Data!C121,#N/A))","v":""},{"$f":"IF(AND(Data!C121>=E117,Data!C121<=F117)=TRUE,Data!C121,#N/A)","v":0},{"$f":"IF(B117=\"\",\"\",IF(Data!C121>F117,Data!C121,#N/A))","v":""},{"$f":"STDEV(Data!C:C)/SQRT(Data!B121)","v":{"$error":"#DIV/0!"}},{"$f":"IF(AND(Data!A121<>\"\",Chart!$O$2=\"Yes\"),Data!A121,\"\")","v":""}]
["",{"$f":"IF(Data!B122=\"\",\"\",Data!B122)","v":""},{"$f":"IF(Data!C122=\"\",\"\",Data!C122)","v":""},{"$f":"IF(B118=\"\",\"\",AVERAGE(Data!C:C))","v":""},{"$f":"IF(B118=\"\",\"\",IF((AVERAGE(Data!C:C)-2*J118)<0,0,AVERAGE(Data!C:C)-2*J118))","v":""},{"$f":"IF(B118=\"\",\"\",AVERAGE(Data!C:C)+2*J118)","v":""},{"$f":"IF(B118=\"\",\"\",IF(Data!C122<E118,Data!C122,#N/A))","v":""},{"$f":"IF(AND(Data!C122>=E118,Data!C122<=F118)=TRUE,Data!C122,#N/A)","v":0},{"$f":"IF(B118=\"\",\"\",IF(Data!C122>F118,Data!C122,#N/A))","v":""},{"$f":"STDEV(Data!C:C)/SQRT(Data!B122)","v":{"$error":"#DIV/0!"}},{"$f":"IF(AND(Data!A122<>\"\",Chart!$O$2=\"Yes\"),Data!A122,\"\")","v":""}]
["",{"$f":"IF(Data!B123=\"\",\"\",Data!B123)","v":""},{"$f":"IF(Data!C123=\"\",\"\",Data!C123)","v":""},{"$f":"IF(B119=\"\",\"\",AVERAGE(Data!C:C))","v":""},{"$f":"IF(B119=\"\",\"\",IF((AVERAGE(Data!C:C)-2*J119)<0,0,AVERAGE(Data!C:C)-2*J119))","v":""},{"$f":"IF(B119=\"\",\"\",AVERAGE(Data!C:C)+2*J119)","v":""},{"$f":"IF(B119=\"\",\"\",IF(Data!C123<E119,Data!C123,#N/A))","v":""},{"$f":"IF(AND(Data!C123>=E119,Data!C123<=F119)=TRUE,Data!C123,#N/A)","v":0},{"$f":"IF(B119=\"\",\"\",IF(Data!C123>F119,Data!C123,#N/A))","v":""},{"$f":"STDEV(Data!C:C)/SQRT(Data!B123)","v":{"$error":"#DIV/0!"}},{"$f":"IF(AND(Data!A123<>\"\",Chart!$O$2=\"Yes\"),Data!A123,\"\")","v":""}]
["",{"$f":"IF(Data!B124=\"\",\"\",Data!B124)","v":""},{"$f":"IF(Data!C124=\"\",\"\",Data!C124)","v":""},{"$f":"IF(B120=\"\",\"\",AVERAGE(Data!C:C))","v":""},{"$f":"IF(B120=\"\",\"\",IF((AVERAGE(Data!C:C)-2*J120)<0,0,AVERAGE(Data!C:C)-2*J120))","v":""},{"$f":"IF(B120=\"\",\"\",AVERAGE(Data!C:C)+2*J120)","v":""},{"$f":"IF(B120=\"\",\"\",IF(Data!C124<E120,Data!C124,#N/A))","v":""},{"$f":"IF(AND(Data!C124>=E120,Data!C124<=F120)=TRUE,Data!C124,#N/A)","v":0},{"$f":"IF(B120=\"\",\"\",IF(Data!C124>F120,Data!C124,#N/A))","v":""},{"$f":"STDEV(Data!C:C)/SQRT(Data!B124)","v":{"$error":"#DIV/0!"}},{"$f":"IF(AND(Data!A124<>\"\",Chart!$O$2=\"Yes\"),Data!A124,\"\")","v":""}]
["",{"$f":"IF(Data!B125=\"\",\"\",Data!B125)","v":""},{"$f":"IF(Data!C125=\"\",\"\",Data!C125)","v":""},{"$f":"IF(B121=\"\",\"\",AVERAGE(Data!C:C))","v":""},{"$f":"IF(B121=\"\",\"\",IF((AVERAGE(Data!C:C)-2*J121)<0,0,AVERAGE(Data!C:C)-2*J121))","v":""},{"$f":"IF(B121=\"\",\"\",AVERAGE(Data!C:C)+2*J121)","v":""},{"$f":"IF(B121=\"\",\"\",IF(Data!C125<E121,Data!C125,#N/A))","v":""},{"$f":"IF(AND(Data!C125>=E121,Data!C125<=F121)=TRUE,Data!C125,#N/A)","v":0},{"$f":"IF(B121=\"\",\"\",IF(Data!C125>F121,Data!C125,#N/A))","v":""},{"$f":"STDEV(Data!C:C)/SQRT(Data!B125)","v":{"$error":"#DIV/0!"}},{"$f":"IF(AND(Data!A125<>\"\",Chart!$O$2=\"Yes\"),Data!A125,\"\")","v":""}]
["",{"$f":"IF(Data!B126=\"\",\"\",Data!B126)","v":""},{"$f":"IF(Data!C126=\"\",\"\",Data!C126)","v":""},{"$f":"IF(B122=\"\",\"\",AVERAGE(Data!C:C))","v":""},{"$f":"IF(B122=\"\",\"\",IF((AVERAGE(Data!C:C)-2*J122)<0,0,AVERAGE(Data!C:C)-2*J122))","v":""},{"$f":"IF(B122=\"\",\"\",AVERAGE(Data!C:C)+2*J122)","v":""},{"$f":"IF(B122=\"\",\"\",IF(Data!C126<E122,Data!C126,#N/A))","v":""},{"$f":"IF(AND(Data!C126>=E122,Data!C126<=F122)=TRUE,Data!C126,#N/A)","v":0},{"$f":"IF(B122=\"\",\"\",IF(Data!C126>F122,Data!C126,#N/A))","v":""},{"$f":"STDEV(Data!C:C)/SQRT(Data!B126)","v":{"$error":"#DIV/0!"}},{"$f":"IF(AND(Data!A126<>\"\",Chart!$O$2=\"Yes\"),Data!A126,\"\")","v":""}]
["",{"$f":"IF(Data!B127=\"\",\"\",Data!B127)","v":""},{"$f":"IF(Data!C127=\"\",\"\",Data!C127)","v":""},{"$f":"IF(B123=\"\",\"\",AVERAGE(Data!C:C))","v":""},{"$f":"IF(B123=\"\",\"\",IF((AVERAGE(Data!C:C)-2*J123)<0,0,AVERAGE(Data!C:C)-2*J123))","v":""},{"$f":"IF(B123=\"\",\"\",AVERAGE(Data!C:C)+2*J123)","v":""},{"$f":"IF(B123=\"\",\"\",IF(Data!C127<E123,Data!C127,#N/A))","v":""},{"$f":"IF(AND(Data!C127>=E123,Data!C127<=F123)=TRUE,Data!C127,#N/A)","v":0},{"$f":"IF(B123=\"\",\"\",IF(Data!C127>F123,Data!C127,#N/A))","v":""},{"$f":"STDEV(Data!C:C)/SQRT(Data!B127)","v":{"$error":"#DIV/0!"}},{"$f":"IF(AND(Data!A127<>\"\",Chart!$O$2=\"Yes\"),Data!A127,\"\")","v":""}]
["",{"$f":"IF(Data!B128=\"\",\"\",Data!B128)","v":""},{"$f":"IF(Data!C128=\"\",\"\",Data!C128)","v":""},{"$f":"IF(B124=\"\",\"\",AVERAGE(Data!C:C))","v":""},{"$f":"IF(B124=\"\",\"\",IF((AVERAGE(Data!C:C)-2*J124)<0,0,AVERAGE(Data!C:C)-2*J124))","v":""},{"$f":"IF(B124=\"\",\"\",AVERAGE(Data!C:C)+2*J124)","v":""},{"$f":"IF(B124=\"\",\"\",IF(Data!C128<E124,Data!C128,#N/A))","v":""},{"$f":"IF(AND(Data!C128>=E124,Data!C128<=F124)=TRUE,Data!C128,#N/A)","v":0},{"$f":"IF(B124=\"\",\"\",IF(Data!C128>F124,Data!C128,#N/A))","v":""},{"$f":"STDEV(Data!C:C)/SQRT(Data!B128)","v":{"$error":"#DIV/0!"}},{"$f":"IF(AND(Data!A128<>\"\",Chart!$O$2=\"Yes\"),Data!A128,\"\")","v":""}]
["",{"$f":"IF(Data!B129=\"\",\"\",Data!B129)","v":""},{"$f":"IF(Data!C129=\"\",\"\",Data!C129)","v":""},{"$f":"IF(B125=\"\",\"\",AVERAGE(Data!C:C))","v":""},{"$f":"IF(B125=\"\",\"\",IF((AVERAGE(Data!C:C)-2*J125)<0,0,AVERAGE(Data!C:C)-2*J125))","v":""},{"$f":"IF(B125=\"\",\"\",AVERAGE(Data!C:C)+2*J125)","v":""},{"$f":"IF(B125=\"\",\"\",IF(Data!C129<E125,Data!C129,#N/A))","v":""},{"$f":"IF(AND(Data!C129>=E125,Data!C129<=F125)=TRUE,Data!C129,#N/A)","v":0},{"$f":"IF(B125=\"\",\"\",IF(Data!C129>F125,Data!C129,#N/A))","v":""},{"$f":"STDEV(Data!C:C)/SQRT(Data!B129)","v":{"$error":"#DIV/0!"}},{"$f":"IF(AND(Data!A129<>\"\",Chart!$O$2=\"Yes\"),Data!A129,\"\")","v":""}]
["",{"$f":"IF(Data!B130=\"\",\"\",Data!B130)","v":""},{"$f":"IF(Data!C130=\"\",\"\",Data!C130)","v":""},{"$f":"IF(B126=\"\",\"\",AVERAGE(Data!C:C))","v":""},{"$f":"IF(B126=\"\",\"\",IF((AVERAGE(Data!C:C)-2*J126)<0,0,AVERAGE(Data!C:C)-2*J126))","v":""},{"$f":"IF(B126=\"\",\"\",AVERAGE(Data!C:C)+2*J126)","v":""},{"$f":"IF(B126=\"\",\"\",IF(Data!C130<E126,Data!C130,#N/A))","v":""},{"$f":"IF(AND(Data!C130>=E126,Data!C130<=F126)=TRUE,Data!C130,#N/A)","v":0},{"$f":"IF(B126=\"\",\"\",IF(Data!C130>F126,Data!C130,#N/A))","v":""},{"$f":"STDEV(Data!C:C)/SQRT(Data!B130)","v":{"$error":"#DIV/0!"}},{"$f":"IF(AND(Data!A130<>\"\",Chart!$O$2=\"Yes\"),Data!A130,\"\")","v":""}]
["",{"$f":"IF(Data!B131=\"\",\"\",Data!B131)","v":""},{"$f":"IF(Data!C131=\"\",\"\",Data!C131)","v":""},{"$f":"IF(B127=\"\",\"\",AVERAGE(Data!C:C))","v":""},{"$f":"IF(B127=\"\",\"\",IF((AVERAGE(Data!C:C)-2*J127)<0,0,AVERAGE(Data!C:C)-2*J127))","v":""},{"$f":"IF(B127=\"\",\"\",AVERAGE(Data!C:C)+2*J127)","v":""},{"$f":"IF(B127=\"\",\"\",IF(Data!C131<E127,Data!C131,#N/A))","v":""},{"$f":"IF(AND(Data!C131>=E127,Data!C131<=F127)=TRUE,Data!C131,#N/A)","v":0},{"$f":"IF(B127=\"\",\"\",IF(Data!C131>F127,Data!C131,#N/A))","v":""},{"$f":"STDEV(Data!C:C)/SQRT(Data!B131)","v":{"$error":"#DIV/0!"}},{"$f":"IF(AND(Data!A131<>\"\",Chart!$O$2=\"Yes\"),Data!A131,\"\")","v":""}]
["",{"$f":"IF(Data!B132=\"\",\"\",Data!B132)","v":""},{"$f":"IF(Data!C132=\"\",\"\",Data!C132)","v":""},{"$f":"IF(B128=\"\",\"\",AVERAGE(Data!C:C))","v":""},{"$f":"IF(B128=\"\",\"\",IF((AVERAGE(Data!C:C)-2*J128)<0,0,AVERAGE(Data!C:C)-2*J128))","v":""},{"$f":"IF(B128=\"\",\"\",AVERAGE(Data!C:C)+2*J128)","v":""},{"$f":"IF(B128=\"\",\"\",IF(Data!C132<E128,Data!C132,#N/A))","v":""},{"$f":"IF(AND(Data!C132>=E128,Data!C132<=F128)=TRUE,Data!C132,#N/A)","v":0},{"$f":"IF(B128=\"\",\"\",IF(Data!C132>F128,Data!C132,#N/A))","v":""},{"$f":"STDEV(Data!C:C)/SQRT(Data!B132)","v":{"$error":"#DIV/0!"}},{"$f":"IF(AND(Data!A132<>\"\",Chart!$O$2=\"Yes\"),Data!A132,\"\")","v":""}]
["",{"$f":"IF(Data!B133=\"\",\"\",Data!B133)","v":""},{"$f":"IF(Data!C133=\"\",\"\",Data!C133)","v":""},{"$f":"IF(B129=\"\",\"\",AVERAGE(Data!C:C))","v":""},{"$f":"IF(B129=\"\",\"\",IF((AVERAGE(Data!C:C)-2*J129)<0,0,AVERAGE(Data!C:C)-2*J129))","v":""},{"$f":"IF(B129=\"\",\"\",AVERAGE(Data!C:C)+2*J129)","v":""},{"$f":"IF(B129=\"\",\"\",IF(Data!C133<E129,Data!C133,#N/A))","v":""},{"$f":"IF(AND(Data!C133>=E129,Data!C133<=F129)=TRUE,Data!C133,#N/A)","v":0},{"$f":"IF(B129=\"\",\"\",IF(Data!C133>F129,Data!C133,#N/A))","v":""},{"$f":"STDEV(Data!C:C)/SQRT(Data!B133)","v":{"$error":"#DIV/0!"}},{"$f":"IF(AND(Data!A133<>\"\",Chart!$O$2=\"Yes\"),Data!A133,\"\")","v":""}]
["",{"$f":"IF(Data!B134=\"\",\"\",Data!B134)","v":""},{"$f":"IF(Data!C134=\"\",\"\",Data!C134)","v":""},{"$f":"IF(B130=\"\",\"\",AVERAGE(Data!C:C))","v":""},{"$f":"IF(B130=\"\",\"\",IF((AVERAGE(Data!C:C)-2*J130)<0,0,AVERAGE(Data!C:C)-2*J130))","v":""},{"$f":"IF(B130=\"\",\"\",AVERAGE(Data!C:C)+2*J130)","v":""},{"$f":"IF(B130=\"\",\"\",IF(Data!C134<E130,Data!C134,#N/A))","v":""},{"$f":"IF(AND(Data!C134>=E130,Data!C134<=F130)=TRUE,Data!C134,#N/A)","v":0},{"$f":"IF(B130=\"\",\"\",IF(Data!C134>F130,Data!C134,#N/A))","v":""},{"$f":"STDEV(Data!C:C)/SQRT(Data!B134)","v":{"$error":"#DIV/0!"}},{"$f":"IF(AND(Data!A134<>\"\",Chart!$O$2=\"Yes\"),Data!A134,\"\")","v":""}]
[{"$f":"IF(B131=\"\",\"\",1)","v":""},{"$f":"IF(Data!B135=\"\",\"\",Data!B135)","v":""},{"$f":"IF(Data!C135=\"\",\"\",Data!C135)","v":""},{"$f":"IF(B131=\"\",\"\",AVERAGE(Data!C:C))","v":""},{"$f":"IF(B131=\"\",\"\",IF((AVERAGE(Data!C:C)-2*J131)<0,0,AVERAGE(Data!C:C)-2*J131))","v":""},{"$f":"IF(B131=\"\",\"\",AVERAGE(Data!C:C)+2*J131)","v":""},{"$f":"IF(B131=\"\",\"\",IF(Data!C135<E131,Data!C135,#N/A))","v":""},{"$f":"IF(AND(Data!C135>=E131,Data!C135<=F131)=TRUE,Data!C135,#N/A)","v":0},{"$f":"IF(B131=\"\",\"\",IF(Data!C135>F131,Data!C135,#N/A))","v":""},{"$f":"STDEV(Data!C:C)/SQRT(Data!B135)","v":{"$error":"#DIV/0!"}},{"$f":"IF(AND(Data!A135<>\"\",Chart!$O$2=\"Yes\"),Data!A135,\"\")","v":""}]
["",{"$f":"IF(Data!B136=\"\",\"\",Data!B136)","v":""},{"$f":"IF(Data!C136=\"\",\"\",Data!C136)","v":""},{"$f":"IF(B132=\"\",\"\",AVERAGE(Data!C:C))","v":""},{"$f":"IF(B132=\"\",\"\",IF((AVERAGE(Data!C:C)-2*J132)<0,0,AVERAGE(Data!C:C)-2*J132))","v":""},{"$f":"IF(B132=\"\",\"\",AVERAGE(Data!C:C)+2*J132)","v":""},{"$f":"IF(B132=\"\",\"\",IF(Data!C136<E132,Data!C136,#N/A))","v":""},{"$f":"IF(AND(Data!C136>=E132,Data!C136<=F132)=TRUE,Data!C136,#N/A)","v":0},{"$f":"IF(B132=\"\",\"\",IF(Data!C136>F132,Data!C136,#N/A))","v":""},{"$f":"STDEV(Data!C:C)/SQRT(Data!B136)","v":{"$error":"#DIV/0!"}},{"$f":"IF(AND(Data!A136<>\"\",Chart!$O$2=\"Yes\"),Data!A136,\"\")","v":""}]
["",{"$f":"IF(Data!B137=\"\",\"\",Data!B137)","v":""},{"$f":"IF(Data!C137=\"\",\"\",Data!C137)","v":""},{"$f":"IF(B133=\"\",\"\",AVERAGE(Data!C:C))","v":""},{"$f":"IF(B133=\"\",\"\",IF((AVERAGE(Data!C:C)-2*J133)<0,0,AVERAGE(Data!C:C)-2*J133))","v":""},{"$f":"IF(B133=\"\",\"\",AVERAGE(Data!C:C)+2*J133)","v":""},{"$f":"IF(B133=\"\",\"\",IF(Data!C137<E133,Data!C137,#N/A))","v":""},{"$f":"IF(AND(Data!C137>=E133,Data!C137<=F133)=TRUE,Data!C137,#N/A)","v":0},{"$f":"IF(B133=\"\",\"\",IF(Data!C137>F133,Data!C137,#N/A))","v":""},{"$f":"STDEV(Data!C:C)/SQRT(Data!B137)","v":{"$error":"#DIV/0!"}},{"$f":"IF(AND(Data!A137<>\"\",Chart!$O$2=\"Yes\"),Data!A137,\"\")","v":""}]
["",{"$f":"IF(Data!B138=\"\",\"\",Data!B138)","v":""},{"$f":"IF(Data!C138=\"\",\"\",Data!C138)","v":""},{"$f":"IF(B134=\"\",\"\",AVERAGE(Data!C:C))","v":""},{"$f":"IF(B134=\"\",\"\",IF((AVERAGE(Data!C:C)-2*J134)<0,0,AVERAGE(Data!C:C)-2*J134))","v":""},{"$f":"IF(B134=\"\",\"\",AVERAGE(Data!C:C)+2*J134)","v":""},{"$f":"IF(B134=\"\",\"\",IF(Data!C138<E134,Data!C138,#N/A))","v":""},{"$f":"IF(AND(Data!C138>=E134,Data!C138<=F134)=TRUE,Data!C138,#N/A)","v":0},{"$f":"IF(B134=\"\",\"\",IF(Data!C138>F134,Data!C138,#N/A))","v":""},{"$f":"STDEV(Data!C:C)/SQRT(Data!B138)","v":{"$error":"#DIV/0!"}},{"$f":"IF(AND(Data!A138<>\"\",Chart!$O$2=\"Yes\"),Data!A138,\"\")","v":""}]
["",{"$f":"IF(Data!B139=\"\",\"\",Data!B139)","v":""},{"$f":"IF(Data!C139=\"\",\"\",Data!C139)","v":""},{"$f":"IF(B135=\"\",\"\",AVERAGE(Data!C:C))","v":""},{"$f":"IF(B135=\"\",\"\",IF((AVERAGE(Data!C:C)-2*J135)<0,0,AVERAGE(Data!C:C)-2*J135))","v":""},{"$f":"IF(B135=\"\",\"\",AVERAGE(Data!C:C)+2*J135)","v":""},{"$f":"IF(B135=\"\",\"\",IF(Data!C139<E135,Data!C139,#N/A))","v":""},{"$f":"IF(AND(Data!C139>=E135,Data!C139<=F135)=TRUE,Data!C139,#N/A)","v":0},{"$f":"IF(B135=\"\",\"\",IF(Data!C139>F135,Data!C139,#N/A))","v":""},{"$f":"STDEV(Data!C:C)/SQRT(Data!B139)","v":{"$error":"#DIV/0!"}},{"$f":"IF(AND(Data!A139<>\"\",Chart!$O$2=\"Yes\"),Data!A139,\"\")","v":""}]
["",{"$f":"IF(Data!B140=\"\",\"\",Data!B140)","v":""},{"$f":"IF(Data!C140=\"\",\"\",Data!C140)","v":""},{"$f":"IF(B136=\"\",\"\",AVERAGE(Data!C:C))","v":""},{"$f":"IF(B136=\"\",\"\",IF((AVERAGE(Data!C:C)-2*J136)<0,0,AVERAGE(Data!C:C)-2*J136))","v":""},{"$f":"IF(B136=\"\",\"\",AVERAGE(Data!C:C)+2*J136)","v":""},{"$f":"IF(B136=\"\",\"\",IF(Data!C140<E136,Data!C140,#N/A))","v":""},{"$f":"IF(AND(Data!C140>=E136,Data!C140<=F136)=TRUE,Data!C140,#N/A)","v":0},{"$f":"IF(B136=\"\",\"\",IF(Data!C140>F136,Data!C140,#N/A))","v":""},{"$f":"STDEV(Data!C:C)/SQRT(Data!B140)","v":{"$error":"#DIV/0!"}},{"$f":"IF(AND(Data!A140<>\"\",Chart!$O$2=\"Yes\"),Data!A140,\"\")","v":""}]
["",{"$f":"IF(Data!B141=\"\",\"\",Data!B141)","v":""},{"$f":"IF(Data!C141=\"\",\"\",Data!C141)","v":""},{"$f":"IF(B137=\"\",\"\",AVERAGE(Data!C:C))","v":""},{"$f":"IF(B137=\"\",\"\",IF((AVERAGE(Data!C:C)-2*J137)<0,0,AVERAGE(Data!C:C)-2*J137))","v":""},{"$f":"IF(B137=\"\",\"\",AVERAGE(Data!C:C)+2*J137)","v":""},{"$f":"IF(B137=\"\",\"\",IF(Data!C141<E137,Data!C141,#N/A))","v":""},{"$f":"IF(AND(Data!C141>=E137,Data!C141<=F137)=TRUE,Data!C141,#N/A)","v":0},{"$f":"IF(B137=\"\",\"\",IF(Data!C141>F137,Data!C141,#N/A))","v":""},{"$f":"STDEV(Data!C:C)/SQRT(Data!B141)","v":{"$error":"#DIV/0!"}},{"$f":"IF(AND(Data!A141<>\"\",Chart!$O$2=\"Yes\"),Data!A141,\"\")","v":""}]
["",{"$f":"IF(Data!B142=\"\",\"\",Data!B142)","v":""},{"$f":"IF(Data!C142=\"\",\"\",Data!C142)","v":""},{"$f":"IF(B138=\"\",\"\",AVERAGE(Data!C:C))","v":""},{"$f":"IF(B138=\"\",\"\",IF((AVERAGE(Data!C:C)-2*J138)<0,0,AVERAGE(Data!C:C)-2*J138))","v":""},{"$f":"IF(B138=\"\",\"\",AVERAGE(Data!C:C)+2*J138)","v":""},{"$f":"IF(B138=\"\",\"\",IF(Data!C142<E138,Data!C142,#N/A))","v":""},{"$f":"IF(AND(Data!C142>=E138,Data!C142<=F138)=TRUE,Data!C142,#N/A)","v":0},{"$f":"IF(B138=\"\",\"\",IF(Data!C142>F138,Data!C142,#N/A))","v":""},{"$f":"STDEV(Data!C:C)/SQRT(Data!B142)","v":{"$error":"#DIV/0!"}},{"$f":"IF(AND(Data!A142<>\"\",Chart!$O$2=\"Yes\"),Data!A142,\"\")","v":""}]
["",{"$f":"IF(Data!B143=\"\",\"\",Data!B143)","v":""},{"$f":"IF(Data!C143=\"\",\"\",Data!C143)","v":""},{"$f":"IF(B139=\"\",\"\",AVERAGE(Data!C:C))","v":""},{"$f":"IF(B139=\"\",\"\",IF((AVERAGE(Data!C:C)-2*J139)<0,0,AVERAGE(Data!C:C)-2*J139))","v":""},{"$f":"IF(B139=\"\",\"\",AVERAGE(Data!C:C)+2*J139)","v":""},{"$f":"IF(B139=\"\",\"\",IF(Data!C143<E139,Data!C143,#N/A))","v":""},{"$f":"IF(AND(Data!C143>=E139,Data!C143<=F139)=TRUE,Data!C143,#N/A)","v":0},{"$f":"IF(B139=\"\",\"\",IF(Data!C143>F139,Data!C143,#N/A))","v":""},{"$f":"STDEV(Data!C:C)/SQRT(Data!B143)","v":{"$error":"#DIV/0!"}},{"$f":"IF(AND(Data!A143<>\"\",Chart!$O$2=\"Yes\"),Data!A143,\"\")","v":""}]
["",{"$f":"IF(Data!B144=\"\",\"\",Data!B144)","v":""},{"$f":"IF(Data!C144=\"\",\"\",Data!C144)","v":""},{"$f":"IF(B140=\"\",\"\",AVERAGE(Data!C:C))","v":""},{"$f":"IF(B140=\"\",\"\",IF((AVERAGE(Data!C:C)-2*J140)<0,0,AVERAGE(Data!C:C)-2*J140))","v":""},{"$f":"IF(B140=\"\",\"\",AVERAGE(Data!C:C)+2*J140)","v":""},{"$f":"IF(B140=\"\",\"\",IF(Data!C144<E140,Data!C144,#N/A))","v":""},{"$f":"IF(AND(Data!C144>=E140,Data!C144<=F140)=TRUE,Data!C144,#N/A)","v":0},{"$f":"IF(B140=\"\",\"\",IF(Data!C144>F140,Data!C144,#N/A))","v":""},{"$f":"STDEV(Data!C:C)/SQRT(Data!B144)","v":{"$error":"#DIV/0!"}},{"$f":"IF(AND(Data!A144<>\"\",Chart!$O$2=\"Yes\"),Data!A144,\"\")","v":""}]
["",{"$f":"IF(Data!B145=\"\",\"\",Data!B145)","v":""},{"$f":"IF(Data!C145=\"\",\"\",Data!C145)","v":""},{"$f":"IF(B141=\"\",\"\",AVERAGE(Data!C:C))","v":""},{"$f":"IF(B141=\"\",\"\",IF((AVERAGE(Data!C:C)-2*J141)<0,0,AVERAGE(Data!C:C)-2*J141))","v":""},{"$f":"IF(B141=\"\",\"\",AVERAGE(Data!C:C)+2*J141)","v":""},{"$f":"IF(B141=\"\",\"\",IF(Data!C145<E141,Data!C145,#N/A))","v":""},{"$f":"IF(AND(Data!C145>=E141,Data!C145<=F141)=TRUE,Data!C145,#N/A)","v":0},{"$f":"IF(B141=\"\",\"\",IF(Data!C145>F141,Data!C145,#N/A))","v":""},{"$f":"STDEV(Data!C:C)/SQRT(Data!B145)","v":{"$error":"#DIV/0!"}},{"$f":"IF(AND(Data!A145<>\"\",Chart!$O$2=\"Yes\"),Data!A145,\"\")","v":""}]
["",{"$f":"IF(Data!B146=\"\",\"\",Data!B146)","v":""},{"$f":"IF(Data!C146=\"\",\"\",Data!C146)","v":""},{"$f":"IF(B142=\"\",\"\",AVERAGE(Data!C:C))","v":""},{"$f":"IF(B142=\"\",\"\",IF((AVERAGE(Data!C:C)-2*J142)<0,0,AVERAGE(Data!C:C)-2*J142))","v":""},{"$f":"IF(B142=\"\",\"\",AVERAGE(Data!C:C)+2*J142)","v":""},{"$f":"IF(B142=\"\",\"\",IF(Data!C146<E142,Data!C146,#N/A))","v":""},{"$f":"IF(AND(Data!C146>=E142,Data!C146<=F142)=TRUE,Data!C146,#N/A)","v":0},{"$f":"IF(B142=\"\",\"\",IF(Data!C146>F142,Data!C146,#N/A))","v":""},{"$f":"STDEV(Data!C:C)/SQRT(Data!B146)","v":{"$error":"#DIV/0!"}},{"$f":"IF(AND(Data!A146<>\"\",Chart!$O$2=\"Yes\"),Data!A146,\"\")","v":""}]
["",{"$f":"IF(Data!B147=\"\",\"\",Data!B147)","v":""},{"$f":"IF(Data!C147=\"\",\"\",Data!C147)","v":""},{"$f":"IF(B143=\"\",\"\",AVERAGE(Data!C:C))","v":""},{"$f":"IF(B143=\"\",\"\",IF((AVERAGE(Data!C:C)-2*J143)<0,0,AVERAGE(Data!C:C)-2*J143))","v":""},{"$f":"IF(B143=\"\",\"\",AVERAGE(Data!C:C)+2*J143)","v":""},{"$f":"IF(B143=\"\",\"\",IF(Data!C147<E143,Data!C147,#N/A))","v":""},{"$f":"IF(AND(Data!C147>=E143,Data!C147<=F143)=TRUE,Data!C147,#N/A)","v":0},{"$f":"IF(B143=\"\",\"\",IF(Data!C147>F143,Data!C147,#N/A))","v":""},{"$f":"STDEV(Data!C:C)/SQRT(Data!B147)","v":{"$error":"#DIV/0!"}},{"$f":"IF(AND(Data!A147<>\"\",Chart!$O$2=\"Yes\"),Data!A147,\"\")","v":""}]
["",{"$f":"IF(Data!B148=\"\",\"\",Data!B148)","v":""},{"$f":"IF(Data!C148=\"\",\"\",Data!C148)","v":""},{"$f":"IF(B144=\"\",\"\",AVERAGE(Data!C:C))","v":""},{"$f":"IF(B144=\"\",\"\",IF((AVERAGE(Data!C:C)-2*J144)<0,0,AVERAGE(Data!C:C)-2*J144))","v":""},{"$f":"IF(B144=\"\",\"\",AVERAGE(Data!C:C)+2*J144)","v":""},{"$f":"IF(B144=\"\",\"\",IF(Data!C148<E144,Data!C148,#N/A))","v":""},{"$f":"IF(AND(Data!C148>=E144,Data!C148<=F144)=TRUE,Data!C148,#N/A)","v":0},{"$f":"IF(B144=\"\",\"\",IF(Data!C148>F144,Data!C148,#N/A))","v":""},{"$f":"STDEV(Data!C:C)/SQRT(Data!B148)","v":{"$error":"#DIV/0!"}},{"$f":"IF(AND(Data!A148<>\"\",Chart!$O$2=\"Yes\"),Data!A148,\"\")","v":""}]
["",{"$f":"IF(Data!B149=\"\",\"\",Data!B149)","v":""},{"$f":"IF(Data!C149=\"\",\"\",Data!C149)","v":""},{"$f":"IF(B145=\"\",\"\",AVERAGE(Data!C:C))","v":""},{"$f":"IF(B145=\"\",\"\",IF((AVERAGE(Data!C:C)-2*J145)<0,0,AVERAGE(Data!C:C)-2*J145))","v":""},{"$f":"IF(B145=\"\",\"\",AVERAGE(Data!C:C)+2*J145)","v":""},{"$f":"IF(B145=\"\",\"\",IF(Data!C149<E145,Data!C149,#N/A))","v":""},{"$f":"IF(AND(Data!C149>=E145,Data!C149<=F145)=TRUE,Data!C149,#N/A)","v":0},{"$f":"IF(B145=\"\",\"\",IF(Data!C149>F145,Data!C149,#N/A))","v":""},{"$f":"STDEV(Data!C:C)/SQRT(Data!B149)","v":{"$error":"#DIV/0!"}},{"$f":"IF(AND(Data!A149<>\"\",Chart!$O$2=\"Yes\"),Data!A149,\"\")","v":""}]
["",{"$f":"IF(Data!B150=\"\",\"\",Data!B150)","v":""},{"$f":"IF(Data!C150=\"\",\"\",Data!C150)","v":""},{"$f":"IF(B146=\"\",\"\",AVERAGE(Data!C:C))","v":""},{"$f":"IF(B146=\"\",\"\",IF((AVERAGE(Data!C:C)-2*J146)<0,0,AVERAGE(Data!C:C)-2*J146))","v":""},{"$f":"IF(B146=\"\",\"\",AVERAGE(Data!C:C)+2*J146)","v":""},{"$f":"IF(B146=\"\",\"\",IF(Data!C150<E146,Data!C150,#N/A))","v":""},{"$f":"IF(AND(Data!C150>=E146,Data!C150<=F146)=TRUE,Data!C150,#N/A)","v":0},{"$f":"IF(B146=\"\",\"\",IF(Data!C150>F146,Data!C150,#N/A))","v":""},{"$f":"STDEV(Data!C:C)/SQRT(Data!B150)","v":{"$error":"#DIV/0!"}},{"$f":"IF(AND(Data!A150<>\"\",Chart!$O$2=\"Yes\"),Data!A150,\"\")","v":""}]
["",{"$f":"IF(Data!B151=\"\",\"\",Data!B151)","v":""},{"$f":"IF(Data!C151=\"\",\"\",Data!C151)","v":""},{"$f":"IF(B147=\"\",\"\",AVERAGE(Data!C:C))","v":""},{"$f":"IF(B147=\"\",\"\",IF((AVERAGE(Data!C:C)-2*J147)<0,0,AVERAGE(Data!C:C)-2*J147))","v":""},{"$f":"IF(B147=\"\",\"\",AVERAGE(Data!C:C)+2*J147)","v":""},{"$f":"IF(B147=\"\",\"\",IF(Data!C151<E147,Data!C151,#N/A))","v":""},{"$f":"IF(AND(Data!C151>=E147,Data!C151<=F147)=TRUE,Data!C151,#N/A)","v":0},{"$f":"IF(B147=\"\",\"\",IF(Data!C151>F147,Data!C151,#N/A))","v":""},{"$f":"STDEV(Data!C:C)/SQRT(Data!B151)","v":{"$error":"#DIV/0!"}},{"$f":"IF(AND(Data!A151<>\"\",Chart!$O$2=\"Yes\"),Data!A151,\"\")","v":""}]
["",{"$f":"IF(Data!B152=\"\",\"\",Data!B152)","v":""},{"$f":"IF(Data!C152=\"\",\"\",Data!C152)","v":""},{"$f":"IF(B148=\"\",\"\",AVERAGE(Data!C:C))","v":""},{"$f":"IF(B148=\"\",\"\",IF((AVERAGE(Data!C:C)-2*J148)<0,0,AVERAGE(Data!C:C)-2*J148))","v":""},{"$f":"IF(B148=\"\",\"\",AVERAGE(Data!C:C)+2*J148)","v":""},{"$f":"IF(B148=\"\",\"\",IF(Data!C152<E148,Data!C152,#N/A))","v":""},{"$f":"IF(AND(Data!C152>=E148,Data!C152<=F148)=TRUE,Data!C152,#N/A)","v":0},{"$f":"IF(B148=\"\",\"\",IF(Data!C152>F148,Data!C152,#N/A))","v":""},{"$f":"STDEV(Data!C:C)/SQRT(Data!B152)","v":{"$error":"#DIV/0!"}},{"$f":"IF(AND(Data!A152<>\"\",Chart!$O$2=\"Yes\"),Data!A152,\"\")","v":""}]
["",{"$f":"IF(Data!B153=\"\",\"\",Data!B153)","v":""},{"$f":"IF(Data!C153=\"\",\"\",Data!C153)","v":""},{"$f":"IF(B149=\"\",\"\",AVERAGE(Data!C:C))","v":""},{"$f":"IF(B149=\"\",\"\",IF((AVERAGE(Data!C:C)-2*J149)<0,0,AVERAGE(Data!C:C)-2*J149))","v":""},{"$f":"IF(B149=\"\",\"\",AVERAGE(Data!C:C)+2*J149)","v":""},{"$f":"IF(B149=\"\",\"\",IF(Data!C153<E149,Data!C153,#N/A))","v":""},{"$f":"IF(AND(Data!C153>=E149,Data!C153<=F149)=TRUE,Data!C153,#N/A)","v":0},{"$f":"IF(B149=\"\",\"\",IF(Data!C153>F149,Data!C153,#N/A))","v":""},{"$f":"STDEV(Data!C:C)/SQRT(Data!B153)","v":{"$error":"#DIV/0!"}},{"$f":"IF(AND(Data!A153<>\"\",Chart!$O$2=\"Yes\"),Data!A153,\"\")","v":""}]
["",{"$f":"IF(Data!B154=\"\",\"\",Data!B154)","v":""},{"$f":"IF(Data!C154=\"\",\"\",Data!C154)","v":""},{"$f":"IF(B150=\"\",\"\",AVERAGE(Data!C:C))","v":""},{"$f":"IF(B150=\"\",\"\",IF((AVERAGE(Data!C:C)-2*J150)<0,0,AVERAGE(Data!C:C)-2*J150))","v":""},{"$f":"IF(B150=\"\",\"\",AVERAGE(Data!C:C)+2*J150)","v":""},{"$f":"IF(B150=\"\",\"\",IF(Data!C154<E150,Data!C154,#N/A))","v":""},{"$f":"IF(AND(Data!C154>=E150,Data!C154<=F150)=TRUE,Data!C154,#N/A)","v":0},{"$f":"IF(B150=\"\",\"\",IF(Data!C154>F150,Data!C154,#N/A))","v":""},{"$f":"STDEV(Data!C:C)/SQRT(Data!B154)","v":{"$error":"#DIV/0!"}},{"$f":"IF(AND(Data!A154<>\"\",Chart!$O$2=\"Yes\"),Data!A154,\"\")","v":""}]
["",{"$f":"IF(Data!B155=\"\",\"\",Data!B155)","v":""},{"$f":"IF(Data!C155=\"\",\"\",Data!C155)","v":""},{"$f":"IF(B151=\"\",\"\",AVERAGE(Data!C:C))","v":""},{"$f":"IF(B151=\"\",\"\",IF((AVERAGE(Data!C:C)-2*J151)<0,0,AVERAGE(Data!C:C)-2*J151))","v":""},{"$f":"IF(B151=\"\",\"\",AVERAGE(Data!C:C)+2*J151)","v":""},{"$f":"IF(B151=\"\",\"\",IF(Data!C155<E151,Data!C155,#N/A))","v":""},{"$f":"IF(AND(Data!C155>=E151,Data!C155<=F151)=TRUE,Data!C155,#N/A)","v":0},{"$f":"IF(B151=\"\",\"\",IF(Data!C155>F151,Data!C155,#N/A))","v":""},{"$f":"STDEV(Data!C:C)/SQRT(Data!B155)","v":{"$error":"#DIV/0!"}},{"$f":"IF(AND(Data!A155<>\"\",Chart!$O$2=\"Yes\"),Data!A155,\"\")","v":""}]
["",{"$f":"IF(Data!B156=\"\",\"\",Data!B156)","v":""},{"$f":"IF(Data!C156=\"\",\"\",Data!C156)","v":""},{"$f":"IF(B152=\"\",\"\",AVERAGE(Data!C:C))","v":""},{"$f":"IF(B152=\"\",\"\",IF((AVERAGE(Data!C:C)-2*J152)<0,0,AVERAGE(Data!C:C)-2*J152))","v":""},{"$f":"IF(B152=\"\",\"\",AVERAGE(Data!C:C)+2*J152)","v":""},{"$f":"IF(B152=\"\",\"\",IF(Data!C156<E152,Data!C156,#N/A))","v":""},{"$f":"IF(AND(Data!C156>=E152,Data!C156<=F152)=TRUE,Data!C156,#N/A)","v":0},{"$f":"IF(B152=\"\",\"\",IF(Data!C156>F152,Data!C156,#N/A))","v":""},{"$f":"STDEV(Data!C:C)/SQRT(Data!B156)","v":{"$error":"#DIV/0!"}},{"$f":"IF(AND(Data!A156<>\"\",Chart!$O$2=\"Yes\"),Data!A156,\"\")","v":""}]
["",{"$f":"IF(Data!B157=\"\",\"\",Data!B157)","v":""},{"$f":"IF(Data!C157=\"\",\"\",Data!C157)","v":""},{"$f":"IF(B153=\"\",\"\",AVERAGE(Data!C:C))","v":""},{"$f":"IF(B153=\"\",\"\",IF((AVERAGE(Data!C:C)-2*J153)<0,0,AVERAGE(Data!C:C)-2*J153))","v":""},{"$f":"IF(B153=\"\",\"\",AVERAGE(Data!C:C)+2*J153)","v":""},{"$f":"IF(B153=\"\",\"\",IF(Data!C157<E153,Data!C157,#N/A))","v":""},{"$f":"IF(AND(Data!C157>=E153,Data!C157<=F153)=TRUE,Data!C157,#N/A)","v":0},{"$f":"IF(B153=\"\",\"\",IF(Data!C157>F153,Data!C157,#N/A))","v":""},{"$f":"STDEV(Data!C:C)/SQRT(Data!B157)","v":{"$error":"#DIV/0!"}},{"$f":"IF(AND(Data!A157<>\"\",Chart!$O$2=\"Yes\"),Data!A157,\"\")","v":""}]
["",{"$f":"IF(Data!B158=\"\",\"\",Data!B158)","v":""},{"$f":"IF(Data!C158=\"\",\"\",Data!C158)","v":""},{"$f":"IF(B154=\"\",\"\",AVERAGE(Data!C:C))","v":""},{"$f":"IF(B154=\"\",\"\",IF((AVERAGE(Data!C:C)-2*J154)<0,0,AVERAGE(Data!C:C)-2*J154))","v":""},{"$f":"IF(B154=\"\",\"\",AVERAGE(Data!C:C)+2*J154)","v":""},{"$f":"IF(B154=\"\",\"\",IF(Data!C158<E154,Data!C158,#N/A))","v":""},{"$f":"IF(AND(Data!C158>=E154,Data!C158<=F154)=TRUE,Data!C158,#N/A)","v":0},{"$f":"IF(B154=\"\",\"\",IF(Data!C158>F154,Data!C158,#N/A))","v":""},{"$f":"STDEV(Data!C:C)/SQRT(Data!B158)","v":{"$error":"#DIV/0!"}},{"$f":"IF(AND(Data!A158<>\"\",Chart!$O$2=\"Yes\"),Data!A158,\"\")","v":""}]
["",{"$f":"IF(Data!B159=\"\",\"\",Data!B159)","v":""},{"$f":"IF(Data!C159=\"\",\"\",Data!C159)","v":""},{"$f":"IF(B155=\"\",\"\",AVERAGE(Data!C:C))","v":""},{"$f":"IF(B155=\"\",\"\",IF((AVERAGE(Data!C:C)-2*J155)<0,0,AVERAGE(Data!C:C)-2*J155))","v":""},{"$f":"IF(B155=\"\",\"\",AVERAGE(Data!C:C)+2*J155)","v":""},{"$f":"IF(B155=\"\",\"\",IF(Data!C159<E155,Data!C159,#N/A))","v":""},{"$f":"IF(AND(Data!C159>=E155,Data!C159<=F155)=TRUE,Data!C159,#N/A)","v":0},{"$f":"IF(B155=\"\",\"\",IF(Data!C159>F155,Data!C159,#N/A))","v":""},{"$f":"STDEV(Data!C:C)/SQRT(Data!B159)","v":{"$error":"#DIV/0!"}},{"$f":"IF(AND(Data!A159<>\"\",Chart!$O$2=\"Yes\"),Data!A159,\"\")","v":""}]
["",{"$f":"IF(Data!B160=\"\",\"\",Data!B160)","v":""},{"$f":"IF(Data!C160=\"\",\"\",Data!C160)","v":""},{"$f":"IF(B156=\"\",\"\",AVERAGE(Data!C:C))","v":""},{"$f":"IF(B156=\"\",\"\",IF((AVERAGE(Data!C:C)-2*J156)<0,0,AVERAGE(Data!C:C)-2*J156))","v":""},{"$f":"IF(B156=\"\",\"\",AVERAGE(Data!C:C)+2*J156)","v":""},{"$f":"IF(B156=\"\",\"\",IF(Data!C160<E156,Data!C160,#N/A))","v":""},{"$f":"IF(AND(Data!C160>=E156,Data!C160<=F156)=TRUE,Data!C160,#N/A)","v":0},{"$f":"IF(B156=\"\",\"\",IF(Data!C160>F156,Data!C160,#N/A))","v":""},{"$f":"STDEV(Data!C:C)/SQRT(Data!B160)","v":{"$error":"#DIV/0!"}},{"$f":"IF(AND(Data!A160<>\"\",Chart!$O$2=\"Yes\"),Data!A160,\"\")","v":""}]
["",{"$f":"IF(Data!B161=\"\",\"\",Data!B161)","v":""},{"$f":"IF(Data!C161=\"\",\"\",Data!C161)","v":""},{"$f":"IF(B157=\"\",\"\",AVERAGE(Data!C:C))","v":""},{"$f":"IF(B157=\"\",\"\",IF((AVERAGE(Data!C:C)-2*J157)<0,0,AVERAGE(Data!C:C)-2*J157))","v":""},{"$f":"IF(B157=\"\",\"\",AVERAGE(Data!C:C)+2*J157)","v":""},{"$f":"IF(B157=\"\",\"\",IF(Data!C161<E157,Data!C161,#N/A))","v":""},{"$f":"IF(AND(Data!C161>=E157,Data!C161<=F157)=TRUE,Data!C161,#N/A)","v":0},{"$f":"IF(B157=\"\",\"\",IF(Data!C161>F157,Data!C161,#N/A))","v":""},{"$f":"STDEV(Data!C:C)/SQRT(Data!B161)","v":{"$error":"#DIV/0!"}},{"$f":"IF(AND(Data!A161<>\"\",Chart!$O$2=\"Yes\"),Data!A161,\"\")","v":""}]
["",{"$f":"IF(Data!B162=\"\",\"\",Data!B162)","v":""},{"$f":"IF(Data!C162=\"\",\"\",Data!C162)","v":""},{"$f":"IF(B158=\"\",\"\",AVERAGE(Data!C:C))","v":""},{"$f":"IF(B158=\"\",\"\",IF((AVERAGE(Data!C:C)-2*J158)<0,0,AVERAGE(Data!C:C)-2*J158))","v":""},{"$f":"IF(B158=\"\",\"\",AVERAGE(Data!C:C)+2*J158)","v":""},{"$f":"IF(B158=\"\",\"\",IF(Data!C162<E158,Data!C162,#N/A))","v":""},{"$f":"IF(AND(Data!C162>=E158,Data!C162<=F158)=TRUE,Data!C162,#N/A)","v":0},{"$f":"IF(B158=\"\",\"\",IF(Data!C162>F158,Data!C162,#N/A))","v":""},{"$f":"STDEV(Data!C:C)/SQRT(Data!B162)","v":{"$error":"#DIV/0!"}},{"$f":"IF(AND(Data!A162<>\"\",Chart!$O$2=\"Yes\"),Data!A162,\"\")","v":""}]
["",{"$f":"IF(Data!B163=\"\",\"\",Data!B163)","v":""},{"$f":"IF(Data!C163=\"\",\"\",Data!C163)","v":""},{"$f":"IF(B159=\"\",\"\",AVERAGE(Data!C:C))","v":""},{"$f":"IF(B159=\"\",\"\",IF((AVERAGE(Data!C:C)-2*J159)<0,0,AVERAGE(Data!C:C)-2*J159))","v":""},{"$f":"IF(B159=\"\",\"\",AVERAGE(Data!C:C)+2*J159)","v":""},{"$f":"IF(B159=\"\",\"\",IF(Data!C163<E159,Data!C163,#N/A))","v":""},{"$f":"IF(AND(Data!C163>=E159,Data!C163<=F159)=TRUE,Data!C163,#N/A)","v":0},{"$f":"IF(B159=\"\",\"\",IF(Data!C163>F159,Data!C163,#N/A))","v":""},{"$f":"STDEV(Data!C:C)/SQRT(Data!B163)","v":{"$error":"#DIV/0!"}},{"$f":"IF(AND(Data!A163<>\"\",Chart!$O$2=\"Yes\"),Data!A163,\"\")","v":""}]
["",{"$f":"IF(Data!B164=\"\",\"\",Data!B164)","v":""},{"$f":"IF(Data!C164=\"\",\"\",Data!C164)","v":""},{"$f":"IF(B160=\"\",\"\",AVERAGE(Data!C:C))","v":""},{"$f":"IF(B160=\"\",\"\",IF((AVERAGE(Data!C:C)-2*J160)<0,0,AVERAGE(Data!C:C)-2*J160))","v":""},{"$f":"IF(B160=\"\",\"\",AVERAGE(Data!C:C)+2*J160)","v":""},{"$f":"IF(B160=\"\",\"\",IF(Data!C164<E160,Data!C164,#N/A))","v":""},{"$f":"IF(AND(Data!C164>=E160,Data!C164<=F160)=TRUE,Data!C164,#N/A)","v":0},{"$f":"IF(B160=\"\",\"\",IF(Data!C164>F160,Data!C164,#N/A))","v":""},{"$f":"STDEV(Data!C:C)/SQRT(Data!B164)","v":{"$error":"#DIV/0!"}},{"$f":"IF(AND(Data!A164<>\"\",Chart!$O$2=\"Yes\"),Data!A164,\"\")","v":""}]
["",{"$f":"IF(Data!B165=\"\",\"\",Data!B165)","v":""},{"$f":"IF(Data!C165=\"\",\"\",Data!C165)","v":""},{"$f":"IF(B161=\"\",\"\",AVERAGE(Data!C:C))","v":""},{"$f":"IF(B161=\"\",\"\",IF((AVERAGE(Data!C:C)-2*J161)<0,0,AVERAGE(Data!C:C)-2*J161))","v":""},{"$f":"IF(B161=\"\",\"\",AVERAGE(Data!C:C)+2*J161)","v":""},{"$f":"IF(B161=\"\",\"\",IF(Data!C165<E161,Data!C165,#N/A))","v":""},{"$f":"IF(AND(Data!C165>=E161,Data!C165<=F161)=TRUE,Data!C165,#N/A)","v":0},{"$f":"IF(B161=\"\",\"\",IF(Data!C165>F161,Data!C165,#N/A))","v":""},{"$f":"STDEV(Data!C:C)/SQRT(Data!B165)","v":{"$error":"#DIV/0!"}},{"$f":"IF(AND(Data!A165<>\"\",Chart!$O$2=\"Yes\"),Data!A165,\"\")","v":""}]
["",{"$f":"IF(Data!B166=\"\",\"\",Data!B166)","v":""},{"$f":"IF(Data!C166=\"\",\"\",Data!C166)","v":""},{"$f":"IF(B162=\"\",\"\",AVERAGE(Data!C:C))","v":""},{"$f":"IF(B162=\"\",\"\",IF((AVERAGE(Data!C:C)-2*J162)<0,0,AVERAGE(Data!C:C)-2*J162))","v":""},{"$f":"IF(B162=\"\",\"\",AVERAGE(Data!C:C)+2*J162)","v":""},{"$f":"IF(B162=\"\",\"\",IF(Data!C166<E162,Data!C166,#N/A))","v":""},{"$f":"IF(AND(Data!C166>=E162,Data!C166<=F162)=TRUE,Data!C166,#N/A)","v":0},{"$f":"IF(B162=\"\",\"\",IF(Data!C166>F162,Data!C166,#N/A))","v":""},{"$f":"STDEV(Data!C:C)/SQRT(Data!B166)","v":{"$error":"#DIV/0!"}},{"$f":"IF(AND(Data!A166<>\"\",Chart!$O$2=\"Yes\"),Data!A166,\"\")","v":""}]
["",{"$f":"IF(Data!B167=\"\",\"\",Data!B167)","v":""},{"$f":"IF(Data!C167=\"\",\"\",Data!C167)","v":""},{"$f":"IF(B163=\"\",\"\",AVERAGE(Data!C:C))","v":""},{"$f":"IF(B163=\"\",\"\",IF((AVERAGE(Data!C:C)-2*J163)<0,0,AVERAGE(Data!C:C)-2*J163))","v":""},{"$f":"IF(B163=\"\",\"\",AVERAGE(Data!C:C)+2*J163)","v":""},{"$f":"IF(B163=\"\",\"\",IF(Data!C167<E163,Data!C167,#N/A))","v":""},{"$f":"IF(AND(Data!C167>=E163,Data!C167<=F163)=TRUE,Data!C167,#N/A)","v":0},{"$f":"IF(B163=\"\",\"\",IF(Data!C167>F163,Data!C167,#N/A))","v":""},{"$f":"STDEV(Data!C:C)/SQRT(Data!B167)","v":{"$error":"#DIV/0!"}},{"$f":"IF(AND(Data!A167<>\"\",Chart!$O$2=\"Yes\"),Data!A167,\"\")","v":""}]
["",{"$f":"IF(Data!B168=\"\",\"\",Data!B168)","v":""},{"$f":"IF(Data!C168=\"\",\"\",Data!C168)","v":""},{"$f":"IF(B164=\"\",\"\",AVERAGE(Data!C:C))","v":""},{"$f":"IF(B164=\"\",\"\",IF((AVERAGE(Data!C:C)-2*J164)<0,0,AVERAGE(Data!C:C)-2*J164))","v":""},{"$f":"IF(B164=\"\",\"\",AVERAGE(Data!C:C)+2*J164)","v":""},{"$f":"IF(B164=\"\",\"\",IF(Data!C168<E164,Data!C168,#N/A))","v":""},{"$f":"IF(AND(Data!C168>=E164,Data!C168<=F164)=TRUE,Data!C168,#N/A)","v":0},{"$f":"IF(B164=\"\",\"\",IF(Data!C168>F164,Data!C168,#N/A))","v":""},{"$f":"STDEV(Data!C:C)/SQRT(Data!B168)","v":{"$error":"#DIV/0!"}},{"$f":"IF(AND(Data!A168<>\"\",Chart!$O$2=\"Yes\"),Data!A168,\"\")","v":""}]
["",{"$f":"IF(Data!B169=\"\",\"\",Data!B169)","v":""},{"$f":"IF(Data!C169=\"\",\"\",Data!C169)","v":""},{"$f":"IF(B165=\"\",\"\",AVERAGE(Data!C:C))","v":""},{"$f":"IF(B165=\"\",\"\",IF((AVERAGE(Data!C:C)-2*J165)<0,0,AVERAGE(Data!C:C)-2*J165))","v":""},{"$f":"IF(B165=\"\",\"\",AVERAGE(Data!C:C)+2*J165)","v":""},{"$f":"IF(B165=\"\",\"\",IF(Data!C169<E165,Data!C169,#N/A))","v":""},{"$f":"IF(AND(Data!C169>=E165,Data!C169<=F165)=TRUE,Data!C169,#N/A)","v":0},{"$f":"IF(B165=\"\",\"\",IF(Data!C169>F165,Data!C169,#N/A))","v":""},{"$f":"STDEV(Data!C:C)/SQRT(Data!B169)","v":{"$error":"#DIV/0!"}},{"$f":"IF(AND(Data!A169<>\"\",Chart!$O$2=\"Yes\"),Data!A169,\"\")","v":""}]
["",{"$f":"IF(Data!B170=\"\",\"\",Data!B170)","v":""},{"$f":"IF(Data!C170=\"\",\"\",Data!C170)","v":""},{"$f":"IF(B166=\"\",\"\",AVERAGE(Data!C:C))","v":""},{"$f":"IF(B166=\"\",\"\",IF((AVERAGE(Data!C:C)-2*J166)<0,0,AVERAGE(Data!C:C)-2*J166))","v":""},{"$f":"IF(B166=\"\",\"\",AVERAGE(Data!C:C)+2*J166)","v":""},{"$f":"IF(B166=\"\",\"\",IF(Data!C170<E166,Data!C170,#N/A))","v":""},{"$f":"IF(AND(Data!C170>=E166,Data!C170<=F166)=TRUE,Data!C170,#N/A)","v":0},{"$f":"IF(B166=\"\",\"\",IF(Data!C170>F166,Data!C170,#N/A))","v":""},{"$f":"STDEV(Data!C:C)/SQRT(Data!B170)","v":{"$error":"#DIV/0!"}},{"$f":"IF(AND(Data!A170<>\"\",Chart!$O$2=\"Yes\"),Data!A170,\"\")","v":""}]
["",{"$f":"IF(Data!B171=\"\",\"\",Data!B171)","v":""},{"$f":"IF(Data!C171=\"\",\"\",Data!C171)","v":""},{"$f":"IF(B167=\"\",\"\",AVERAGE(Data!C:C))","v":""},{"$f":"IF(B167=\"\",\"\",IF((AVERAGE(Data!C:C)-2*J167)<0,0,AVERAGE(Data!C:C)-2*J167))","v":""},{"$f":"IF(B167=\"\",\"\",AVERAGE(Data!C:C)+2*J167)","v":""},{"$f":"IF(B167=\"\",\"\",IF(Data!C171<E167,Data!C171,#N/A))","v":""},{"$f":"IF(AND(Data!C171>=E167,Data!C171<=F167)=TRUE,Data!C171,#N/A)","v":0},{"$f":"IF(B167=\"\",\"\",IF(Data!C171>F167,Data!C171,#N/A))","v":""},{"$f":"STDEV(Data!C:C)/SQRT(Data!B171)","v":{"$error":"#DIV/0!"}},{"$f":"IF(AND(Data!A171<>\"\",Chart!$O$2=\"Yes\"),Data!A171,\"\")","v":""}]
["",{"$f":"IF(Data!B172=\"\",\"\",Data!B172)","v":""},{"$f":"IF(Data!C172=\"\",\"\",Data!C172)","v":""},{"$f":"IF(B168=\"\",\"\",AVERAGE(Data!C:C))","v":""},{"$f":"IF(B168=\"\",\"\",IF((AVERAGE(Data!C:C)-2*J168)<0,0,AVERAGE(Data!C:C)-2*J168))","v":""},{"$f":"IF(B168=\"\",\"\",AVERAGE(Data!C:C)+2*J168)","v":""},{"$f":"IF(B168=\"\",\"\",IF(Data!C172<E168,Data!C172,#N/A))","v":""},{"$f":"IF(AND(Data!C172>=E168,Data!C172<=F168)=TRUE,Data!C172,#N/A)","v":0},{"$f":"IF(B168=\"\",\"\",IF(Data!C172>F168,Data!C172,#N/A))","v":""},{"$f":"STDEV(Data!C:C)/SQRT(Data!B172)","v":{"$error":"#DIV/0!"}},{"$f":"IF(AND(Data!A172<>\"\",Chart!$O$2=\"Yes\"),Data!A172,\"\")","v":""}]
["",{"$f":"IF(Data!B173=\"\",\"\",Data!B173)","v":""},{"$f":"IF(Data!C173=\"\",\"\",Data!C173)","v":""},{"$f":"IF(B169=\"\",\"\",AVERAGE(Data!C:C))","v":""},{"$f":"IF(B169=\"\",\"\",IF((AVERAGE(Data!C:C)-2*J169)<0,0,AVERAGE(Data!C:C)-2*J169))","v":""},{"$f":"IF(B169=\"\",\"\",AVERAGE(Data!C:C)+2*J169)","v":""},{"$f":"IF(B169=\"\",\"\",IF(Data!C173<E169,Data!C173,#N/A))","v":""},{"$f":"IF(AND(Data!C173>=E169,Data!C173<=F169)=TRUE,Data!C173,#N/A)","v":0},{"$f":"IF(B169=\"\",\"\",IF(Data!C173>F169,Data!C173,#N/A))","v":""},{"$f":"STDEV(Data!C:C)/SQRT(Data!B173)","v":{"$error":"#DIV/0!"}},{"$f":"IF(AND(Data!A173<>\"\",Chart!$O$2=\"Yes\"),Data!A173,\"\")","v":""}]
["",{"$f":"IF(Data!B174=\"\",\"\",Data!B174)","v":""},{"$f":"IF(Data!C174=\"\",\"\",Data!C174)","v":""},{"$f":"IF(B170=\"\",\"\",AVERAGE(Data!C:C))","v":""},{"$f":"IF(B170=\"\",\"\",IF((AVERAGE(Data!C:C)-2*J170)<0,0,AVERAGE(Data!C:C)-2*J170))","v":""},{"$f":"IF(B170=\"\",\"\",AVERAGE(Data!C:C)+2*J170)","v":""},{"$f":"IF(B170=\"\",\"\",IF(Data!C174<E170,Data!C174,#N/A))","v":""},{"$f":"IF(AND(Data!C174>=E170,Data!C174<=F170)=TRUE,Data!C174,#N/A)","v":0},{"$f":"IF(B170=\"\",\"\",IF(Data!C174>F170,Data!C174,#N/A))","v":""},{"$f":"STDEV(Data!C:C)/SQRT(Data!B174)","v":{"$error":"#DIV/0!"}},{"$f":"IF(AND(Data!A174<>\"\",Chart!$O$2=\"Yes\"),Data!A174,\"\")","v":""}]
["",{"$f":"IF(Data!B175=\"\",\"\",Data!B175)","v":""},{"$f":"IF(Data!C175=\"\",\"\",Data!C175)","v":""},{"$f":"IF(B171=\"\",\"\",AVERAGE(Data!C:C))","v":""},{"$f":"IF(B171=\"\",\"\",IF((AVERAGE(Data!C:C)-2*J171)<0,0,AVERAGE(Data!C:C)-2*J171))","v":""},{"$f":"IF(B171=\"\",\"\",AVERAGE(Data!C:C)+2*J171)","v":""},{"$f":"IF(B171=\"\",\"\",IF(Data!C175<E171,Data!C175,#N/A))","v":""},{"$f":"IF(AND(Data!C175>=E171,Data!C175<=F171)=TRUE,Data!C175,#N/A)","v":0},{"$f":"IF(B171=\"\",\"\",IF(Data!C175>F171,Data!C175,#N/A))","v":""},{"$f":"STDEV(Data!C:C)/SQRT(Data!B175)","v":{"$error":"#DIV/0!"}},{"$f":"IF(AND(Data!A175<>\"\",Chart!$O$2=\"Yes\"),Data!A175,\"\")","v":""}]
["",{"$f":"IF(Data!B176=\"\",\"\",Data!B176)","v":""},{"$f":"IF(Data!C176=\"\",\"\",Data!C176)","v":""},{"$f":"IF(B172=\"\",\"\",AVERAGE(Data!C:C))","v":""},{"$f":"IF(B172=\"\",\"\",IF((AVERAGE(Data!C:C)-2*J172)<0,0,AVERAGE(Data!C:C)-2*J172))","v":""},{"$f":"IF(B172=\"\",\"\",AVERAGE(Data!C:C)+2*J172)","v":""},{"$f":"IF(B172=\"\",\"\",IF(Data!C176<E172,Data!C176,#N/A))","v":""},{"$f":"IF(AND(Data!C176>=E172,Data!C176<=F172)=TRUE,Data!C176,#N/A)","v":0},{"$f":"IF(B172=\"\",\"\",IF(Data!C176>F172,Data!C176,#N/A))","v":""},{"$f":"STDEV(Data!C:C)/SQRT(Data!B176)","v":{"$error":"#DIV/0!"}},{"$f":"IF(AND(Data!A176<>\"\",Chart!$O$2=\"Yes\"),Data!A176,\"\")","v":""}]
["",{"$f":"IF(Data!B177=\"\",\"\",Data!B177)","v":""},{"$f":"IF(Data!C177=\"\",\"\",Data!C177)","v":""},{"$f":"IF(B173=\"\",\"\",AVERAGE(Data!C:C))","v":""},{"$f":"IF(B173=\"\",\"\",IF((AVERAGE(Data!C:C)-2*J173)<0,0,AVERAGE(Data!C:C)-2*J173))","v":""},{"$f":"IF(B173=\"\",\"\",AVERAGE(Data!C:C)+2*J173)","v":""},{"$f":"IF(B173=\"\",\"\",IF(Data!C177<E173,Data!C177,#N/A))","v":""},{"$f":"IF(AND(Data!C177>=E173,Data!C177<=F173)=TRUE,Data!C177,#N/A)","v":0},{"$f":"IF(B173=\"\",\"\",IF(Data!C177>F173,Data!C177,#N/A))","v":""},{"$f":"STDEV(Data!C:C)/SQRT(Data!B177)","v":{"$error":"#DIV/0!"}},{"$f":"IF(AND(Data!A177<>\"\",Chart!$O$2=\"Yes\"),Data!A177,\"\")","v":""}]
["",{"$f":"IF(Data!B178=\"\",\"\",Data!B178)","v":""},{"$f":"IF(Data!C178=\"\",\"\",Data!C178)","v":""},{"$f":"IF(B174=\"\",\"\",AVERAGE(Data!C:C))","v":""},{"$f":"IF(B174=\"\",\"\",IF((AVERAGE(Data!C:C)-2*J174)<0,0,AVERAGE(Data!C:C)-2*J174))","v":""},{"$f":"IF(B174=\"\",\"\",AVERAGE(Data!C:C)+2*J174)","v":""},{"$f":"IF(B174=\"\",\"\",IF(Data!C178<E174,Data!C178,#N/A))","v":""},{"$f":"IF(AND(Data!C178>=E174,Data!C178<=F174)=TRUE,Data!C178,#N/A)","v":0},{"$f":"IF(B174=\"\",\"\",IF(Data!C178>F174,Data!C178,#N/A))","v":""},{"$f":"STDEV(Data!C:C)/SQRT(Data!B178)","v":{"$error":"#DIV/0!"}},{"$f":"IF(AND(Data!A178<>\"\",Chart!$O$2=\"Yes\"),Data!A178,\"\")","v":""}]
["",{"$f":"IF(Data!B179=\"\",\"\",Data!B179)","v":""},{"$f":"IF(Data!C179=\"\",\"\",Data!C179)","v":""},{"$f":"IF(B175=\"\",\"\",AVERAGE(Data!C:C))","v":""},{"$f":"IF(B175=\"\",\"\",IF((AVERAGE(Data!C:C)-2*J175)<0,0,AVERAGE(Data!C:C)-2*J175))","v":""},{"$f":"IF(B175=\"\",\"\",AVERAGE(Data!C:C)+2*J175)","v":""},{"$f":"IF(B175=\"\",\"\",IF(Data!C179<E175,Data!C179,#N/A))","v":""},{"$f":"IF(AND(Data!C179>=E175,Data!C179<=F175)=TRUE,Data!C179,#N/A)","v":0},{"$f":"IF(B175=\"\",\"\",IF(Data!C179>F175,Data!C179,#N/A))","v":""},{"$f":"STDEV(Data!C:C)/SQRT(Data!B179)","v":{"$error":"#DIV/0!"}},{"$f":"IF(AND(Data!A179<>\"\",Chart!$O$2=\"Yes\"),Data!A179,\"\")","v":""}]
["",{"$f":"IF(Data!B180=\"\",\"\",Data!B180)","v":""},{"$f":"IF(Data!C180=\"\",\"\",Data!C180)","v":""},{"$f":"IF(B176=\"\",\"\",AVERAGE(Data!C:C))","v":""},{"$f":"IF(B176=\"\",\"\",IF((AVERAGE(Data!C:C)-2*J176)<0,0,AVERAGE(Data!C:C)-2*J176))","v":""},{"$f":"IF(B176=\"\",\"\",AVERAGE(Data!C:C)+2*J176)","v":""},{"$f":"IF(B176=\"\",\"\",IF(Data!C180<E176,Data!C180,#N/A))","v":""},{"$f":"IF(AND(Data!C180>=E176,Data!C180<=F176)=TRUE,Data!C180,#N/A)","v":0},{"$f":"IF(B176=\"\",\"\",IF(Data!C180>F176,Data!C180,#N/A))","v":""},{"$f":"STDEV(Data!C:C)/SQRT(Data!B180)","v":{"$error":"#DIV/0!"}},{"$f":"IF(AND(Data!A180<>\"\",Chart!$O$2=\"Yes\"),Data!A180,\"\")","v":""}]
["",{"$f":"IF(Data!B181=\"\",\"\",Data!B181)","v":""},{"$f":"IF(Data!C181=\"\",\"\",Data!C181)","v":""},{"$f":"IF(B177=\"\",\"\",AVERAGE(Data!C:C))","v":""},{"$f":"IF(B177=\"\",\"\",IF((AVERAGE(Data!C:C)-2*J177)<0,0,AVERAGE(Data!C:C)-2*J177))","v":""},{"$f":"IF(B177=\"\",\"\",AVERAGE(Data!C:C)+2*J177)","v":""},{"$f":"IF(B177=\"\",\"\",IF(Data!C181<E177,Data!C181,#N/A))","v":""},{"$f":"IF(AND(Data!C181>=E177,Data!C181<=F177)=TRUE,Data!C181,#N/A)","v":0},{"$f":"IF(B177=\"\",\"\",IF(Data!C181>F177,Data!C181,#N/A))","v":""},{"$f":"STDEV(Data!C:C)/SQRT(Data!B181)","v":{"$error":"#DIV/0!"}},{"$f":"IF(AND(Data!A181<>\"\",Chart!$O$2=\"Yes\"),Data!A181,\"\")","v":""}]
["",{"$f":"IF(Data!B182=\"\",\"\",Data!B182)","v":""},{"$f":"IF(Data!C182=\"\",\"\",Data!C182)","v":""},{"$f":"IF(B178=\"\",\"\",AVERAGE(Data!C:C))","v":""},{"$f":"IF(B178=\"\",\"\",IF((AVERAGE(Data!C:C)-2*J178)<0,0,AVERAGE(Data!C:C)-2*J178))","v":""},{"$f":"IF(B178=\"\",\"\",AVERAGE(Data!C:C)+2*J178)","v":""},{"$f":"IF(B178=\"\",\"\",IF(Data!C182<E178,Data!C182,#N/A))","v":""},{"$f":"IF(AND(Data!C182>=E178,Data!C182<=F178)=TRUE,Data!C182,#N/A)","v":0},{"$f":"IF(B178=\"\",\"\",IF(Data!C182>F178,Data!C182,#N/A))","v":""},{"$f":"STDEV(Data!C:C)/SQRT(Data!B182)","v":{"$error":"#DIV/0!"}},{"$f":"IF(AND(Data!A182<>\"\",Chart!$O$2=\"Yes\"),Data!A182,\"\")","v":""}]
["",{"$f":"IF(Data!B183=\"\",\"\",Data!B183)","v":""},{"$f":"IF(Data!C183=\"\",\"\",Data!C183)","v":""},{"$f":"IF(B179=\"\",\"\",AVERAGE(Data!C:C))","v":""},{"$f":"IF(B179=\"\",\"\",IF((AVERAGE(Data!C:C)-2*J179)<0,0,AVERAGE(Data!C:C)-2*J179))","v":""},{"$f":"IF(B179=\"\",\"\",AVERAGE(Data!C:C)+2*J179)","v":""},{"$f":"IF(B179=\"\",\"\",IF(Data!C183<E179,Data!C183,#N/A))","v":""},{"$f":"IF(AND(Data!C183>=E179,Data!C183<=F179)=TRUE,Data!C183,#N/A)","v":0},{"$f":"IF(B179=\"\",\"\",IF(Data!C183>F179,Data!C183,#N/A))","v":""},{"$f":"STDEV(Data!C:C)/SQRT(Data!B183)","v":{"$error":"#DIV/0!"}},{"$f":"IF(AND(Data!A183<>\"\",Chart!$O$2=\"Yes\"),Data!A183,\"\")","v":""}]
["",{"$f":"IF(Data!B184=\"\",\"\",Data!B184)","v":""},{"$f":"IF(Data!C184=\"\",\"\",Data!C184)","v":""},{"$f":"IF(B180=\"\",\"\",AVERAGE(Data!C:C))","v":""},{"$f":"IF(B180=\"\",\"\",IF((AVERAGE(Data!C:C)-2*J180)<0,0,AVERAGE(Data!C:C)-2*J180))","v":""},{"$f":"IF(B180=\"\",\"\",AVERAGE(Data!C:C)+2*J180)","v":""},{"$f":"IF(B180=\"\",\"\",IF(Data!C184<E180,Data!C184,#N/A))","v":""},{"$f":"IF(AND(Data!C184>=E180,Data!C184<=F180)=TRUE,Data!C184,#N/A)","v":0},{"$f":"IF(B180=\"\",\"\",IF(Data!C184>F180,Data!C184,#N/A))","v":""},{"$f":"STDEV(Data!C:C)/SQRT(Data!B184)","v":{"$error":"#DIV/0!"}},{"$f":"IF(AND(Data!A184<>\"\",Chart!$O$2=\"Yes\"),Data!A184,\"\")","v":""}]
["",{"$f":"IF(Data!B185=\"\",\"\",Data!B185)","v":""},{"$f":"IF(Data!C185=\"\",\"\",Data!C185)","v":""},{"$f":"IF(B181=\"\",\"\",AVERAGE(Data!C:C))","v":""},{"$f":"IF(B181=\"\",\"\",IF((AVERAGE(Data!C:C)-2*J181)<0,0,AVERAGE(Data!C:C)-2*J181))","v":""},{"$f":"IF(B181=\"\",\"\",AVERAGE(Data!C:C)+2*J181)","v":""},{"$f":"IF(B181=\"\",\"\",IF(Data!C185<E181,Data!C185,#N/A))","v":""},{"$f":"IF(AND(Data!C185>=E181,Data!C185<=F181)=TRUE,Data!C185,#N/A)","v":0},{"$f":"IF(B181=\"\",\"\",IF(Data!C185>F181,Data!C185,#N/A))","v":""},{"$f":"STDEV(Data!C:C)/SQRT(Data!B185)","v":{"$error":"#DIV/0!"}},{"$f":"IF(AND(Data!A185<>\"\",Chart!$O$2=\"Yes\"),Data!A185,\"\")","v":""}]
["",{"$f":"IF(Data!B186=\"\",\"\",Data!B186)","v":""},{"$f":"IF(Data!C186=\"\",\"\",Data!C186)","v":""},{"$f":"IF(B182=\"\",\"\",AVERAGE(Data!C:C))","v":""},{"$f":"IF(B182=\"\",\"\",IF((AVERAGE(Data!C:C)-2*J182)<0,0,AVERAGE(Data!C:C)-2*J182))","v":""},{"$f":"IF(B182=\"\",\"\",AVERAGE(Data!C:C)+2*J182)","v":""},{"$f":"IF(B182=\"\",\"\",IF(Data!C186<E182,Data!C186,#N/A))","v":""},{"$f":"IF(AND(Data!C186>=E182,Data!C186<=F182)=TRUE,Data!C186,#N/A)","v":0},{"$f":"IF(B182=\"\",\"\",IF(Data!C186>F182,Data!C186,#N/A))","v":""},{"$f":"STDEV(Data!C:C)/SQRT(Data!B186)","v":{"$error":"#DIV/0!"}},{"$f":"IF(AND(Data!A186<>\"\",Chart!$O$2=\"Yes\"),Data!A186,\"\")","v":""}]
["",{"$f":"IF(Data!B187=\"\",\"\",Data!B187)","v":""},{"$f":"IF(Data!C187=\"\",\"\",Data!C187)","v":""},{"$f":"IF(B183=\"\",\"\",AVERAGE(Data!C:C))","v":""},{"$f":"IF(B183=\"\",\"\",IF((AVERAGE(Data!C:C)-2*J183)<0,0,AVERAGE(Data!C:C)-2*J183))","v":""},{"$f":"IF(B183=\"\",\"\",AVERAGE(Data!C:C)+2*J183)","v":""},{"$f":"IF(B183=\"\",\"\",IF(Data!C187<E183,Data!C187,#N/A))","v":""},{"$f":"IF(AND(Data!C187>=E183,Data!C187<=F183)=TRUE,Data!C187,#N/A)","v":0},{"$f":"IF(B183=\"\",\"\",IF(Data!C187>F183,Data!C187,#N/A))","v":""},{"$f":"STDEV(Data!C:C)/SQRT(Data!B187)","v":{"$error":"#DIV/0!"}},{"$f":"IF(AND(Data!A187<>\"\",Chart!$O$2=\"Yes\"),Data!A187,\"\")","v":""}]
["",{"$f":"IF(Data!B188=\"\",\"\",Data!B188)","v":""},{"$f":"IF(Data!C188=\"\",\"\",Data!C188)","v":""},{"$f":"IF(B184=\"\",\"\",AVERAGE(Data!C:C))","v":""},{"$f":"IF(B184=\"\",\"\",IF((AVERAGE(Data!C:C)-2*J184)<0,0,AVERAGE(Data!C:C)-2*J184))","v":""},{"$f":"IF(B184=\"\",\"\",AVERAGE(Data!C:C)+2*J184)","v":""},{"$f":"IF(B184=\"\",\"\",IF(Data!C188<E184,Data!C188,#N/A))","v":""},{"$f":"IF(AND(Data!C188>=E184,Data!C188<=F184)=TRUE,Data!C188,#N/A)","v":0},{"$f":"IF(B184=\"\",\"\",IF(Data!C188>F184,Data!C188,#N/A))","v":""},{"$f":"STDEV(Data!C:C)/SQRT(Data!B188)","v":{"$error":"#DIV/0!"}},{"$f":"IF(AND(Data!A188<>\"\",Chart!$O$2=\"Yes\"),Data!A188,\"\")","v":""}]
["",{"$f":"IF(Data!B189=\"\",\"\",Data!B189)","v":""},{"$f":"IF(Data!C189=\"\",\"\",Data!C189)","v":""},{"$f":"IF(B185=\"\",\"\",AVERAGE(Data!C:C))","v":""},{"$f":"IF(B185=\"\",\"\",IF((AVERAGE(Data!C:C)-2*J185)<0,0,AVERAGE(Data!C:C)-2*J185))","v":""},{"$f":"IF(B185=\"\",\"\",AVERAGE(Data!C:C)+2*J185)","v":""},{"$f":"IF(B185=\"\",\"\",IF(Data!C189<E185,Data!C189,#N/A))","v":""},{"$f":"IF(AND(Data!C189>=E185,Data!C189<=F185)=TRUE,Data!C189,#N/A)","v":0},{"$f":"IF(B185=\"\",\"\",IF(Data!C189>F185,Data!C189,#N/A))","v":""},{"$f":"STDEV(Data!C:C)/SQRT(Data!B189)","v":{"$error":"#DIV/0!"}},{"$f":"IF(AND(Data!A189<>\"\",Chart!$O$2=\"Yes\"),Data!A189,\"\")","v":""}]
["",{"$f":"IF(Data!B190=\"\",\"\",Data!B190)","v":""},{"$f":"IF(Data!C190=\"\",\"\",Data!C190)","v":""},{"$f":"IF(B186=\"\",\"\",AVERAGE(Data!C:C))","v":""},{"$f":"IF(B186=\"\",\"\",IF((AVERAGE(Data!C:C)-2*J186)<0,0,AVERAGE(Data!C:C)-2*J186))","v":""},{"$f":"IF(B186=\"\",\"\",AVERAGE(Data!C:C)+2*J186)","v":""},{"$f":"IF(B186=\"\",\"\",IF(Data!C190<E186,Data!C190,#N/A))","v":""},{"$f":"IF(AND(Data!C190>=E186,Data!C190<=F186)=TRUE,Data!C190,#N/A)","v":0},{"$f":"IF(B186=\"\",\"\",IF(Data!C190>F186,Data!C190,#N/A))","v":""},{"$f":"STDEV(Data!C:C)/SQRT(Data!B190)","v":{"$error":"#DIV/0!"}},{"$f":"IF(AND(Data!A190<>\"\",Chart!$O$2=\"Yes\"),Data!A190,\"\")","v":""}]
["",{"$f":"IF(Data!B191=\"\",\"\",Data!B191)","v":""},{"$f":"IF(Data!C191=\"\",\"\",Data!C191)","v":""},{"$f":"IF(B187=\"\",\"\",AVERAGE(Data!C:C))","v":""},{"$f":"IF(B187=\"\",\"\",IF((AVERAGE(Data!C:C)-2*J187)<0,0,AVERAGE(Data!C:C)-2*J187))","v":""},{"$f":"IF(B187=\"\",\"\",AVERAGE(Data!C:C)+2*J187)","v":""},{"$f":"IF(B187=\"\",\"\",IF(Data!C191<E187,Data!C191,#N/A))","v":""},{"$f":"IF(AND(Data!C191>=E187,Data!C191<=F187)=TRUE,Data!C191,#N/A)","v":0},{"$f":"IF(B187=\"\",\"\",IF(Data!C191>F187,Data!C191,#N/A))","v":""},{"$f":"STDEV(Data!C:C)/SQRT(Data!B191)","v":{"$error":"#DIV/0!"}},{"$f":"IF(AND(Data!A191<>\"\",Chart!$O$2=\"Yes\"),Data!A191,\"\")","v":""}]
["",{"$f":"IF(Data!B192=\"\",\"\",Data!B192)","v":""},{"$f":"IF(Data!C192=\"\",\"\",Data!C192)","v":""},{"$f":"IF(B188=\"\",\"\",AVERAGE(Data!C:C))","v":""},{"$f":"IF(B188=\"\",\"\",IF((AVERAGE(Data!C:C)-2*J188)<0,0,AVERAGE(Data!C:C)-2*J188))","v":""},{"$f":"IF(B188=\"\",\"\",AVERAGE(Data!C:C)+2*J188)","v":""},{"$f":"IF(B188=\"\",\"\",IF(Data!C192<E188,Data!C192,#N/A))","v":""},{"$f":"IF(AND(Data!C192>=E188,Data!C192<=F188)=TRUE,Data!C192,#N/A)","v":0},{"$f":"IF(B188=\"\",\"\",IF(Data!C192>F188,Data!C192,#N/A))","v":""},{"$f":"STDEV(Data!C:C)/SQRT(Data!B192)","v":{"$error":"#DIV/0!"}},{"$f":"IF(AND(Data!A192<>\"\",Chart!$O$2=\"Yes\"),Data!A192,\"\")","v":""}]
["",{"$f":"IF(Data!B193=\"\",\"\",Data!B193)","v":""},{"$f":"IF(Data!C193=\"\",\"\",Data!C193)","v":""},{"$f":"IF(B189=\"\",\"\",AVERAGE(Data!C:C))","v":""},{"$f":"IF(B189=\"\",\"\",IF((AVERAGE(Data!C:C)-2*J189)<0,0,AVERAGE(Data!C:C)-2*J189))","v":""},{"$f":"IF(B189=\"\",\"\",AVERAGE(Data!C:C)+2*J189)","v":""},{"$f":"IF(B189=\"\",\"\",IF(Data!C193<E189,Data!C193,#N/A))","v":""},{"$f":"IF(AND(Data!C193>=E189,Data!C193<=F189)=TRUE,Data!C193,#N/A)","v":0},{"$f":"IF(B189=\"\",\"\",IF(Data!C193>F189,Data!C193,#N/A))","v":""},{"$f":"STDEV(Data!C:C)/SQRT(Data!B193)","v":{"$error":"#DIV/0!"}},{"$f":"IF(AND(Data!A193<>\"\",Chart!$O$2=\"Yes\"),Data!A193,\"\")","v":""}]
["",{"$f":"IF(Data!B194=\"\",\"\",Data!B194)","v":""},{"$f":"IF(Data!C194=\"\",\"\",Data!C194)","v":""},{"$f":"IF(B190=\"\",\"\",AVERAGE(Data!C:C))","v":""},{"$f":"IF(B190=\"\",\"\",IF((AVERAGE(Data!C:C)-2*J190)<0,0,AVERAGE(Data!C:C)-2*J190))","v":""},{"$f":"IF(B190=\"\",\"\",AVERAGE(Data!C:C)+2*J190)","v":""},{"$f":"IF(B190=\"\",\"\",IF(Data!C194<E190,Data!C194,#N/A))","v":""},{"$f":"IF(AND(Data!C194>=E190,Data!C194<=F190)=TRUE,Data!C194,#N/A)","v":0},{"$f":"IF(B190=\"\",\"\",IF(Data!C194>F190,Data!C194,#N/A))","v":""},{"$f":"STDEV(Data!C:C)/SQRT(Data!B194)","v":{"$error":"#DIV/0!"}},{"$f":"IF(AND(Data!A194<>\"\",Chart!$O$2=\"Yes\"),Data!A194,\"\")","v":""}]
["",{"$f":"IF(Data!B195=\"\",\"\",Data!B195)","v":""},{"$f":"IF(Data!C195=\"\",\"\",Data!C195)","v":""},{"$f":"IF(B191=\"\",\"\",AVERAGE(Data!C:C))","v":""},{"$f":"IF(B191=\"\",\"\",IF((AVERAGE(Data!C:C)-2*J191)<0,0,AVERAGE(Data!C:C)-2*J191))","v":""},{"$f":"IF(B191=\"\",\"\",AVERAGE(Data!C:C)+2*J191)","v":""},{"$f":"IF(B191=\"\",\"\",IF(Data!C195<E191,Data!C195,#N/A))","v":""},{"$f":"IF(AND(Data!C195>=E191,Data!C195<=F191)=TRUE,Data!C195,#N/A)","v":0},{"$f":"IF(B191=\"\",\"\",IF(Data!C195>F191,Data!C195,#N/A))","v":""},{"$f":"STDEV(Data!C:C)/SQRT(Data!B195)","v":{"$error":"#DIV/0!"}},{"$f":"IF(AND(Data!A195<>\"\",Chart!$O$2=\"Yes\"),Data!A195,\"\")","v":""}]
["",{"$f":"IF(Data!B196=\"\",\"\",Data!B196)","v":""},{"$f":"IF(Data!C196=\"\",\"\",Data!C196)","v":""},{"$f":"IF(B192=\"\",\"\",AVERAGE(Data!C:C))","v":""},{"$f":"IF(B192=\"\",\"\",IF((AVERAGE(Data!C:C)-2*J192)<0,0,AVERAGE(Data!C:C)-2*J192))","v":""},{"$f":"IF(B192=\"\",\"\",AVERAGE(Data!C:C)+2*J192)","v":""},{"$f":"IF(B192=\"\",\"\",IF(Data!C196<E192,Data!C196,#N/A))","v":""},{"$f":"IF(AND(Data!C196>=E192,Data!C196<=F192)=TRUE,Data!C196,#N/A)","v":0},{"$f":"IF(B192=\"\",\"\",IF(Data!C196>F192,Data!C196,#N/A))","v":""},{"$f":"STDEV(Data!C:C)/SQRT(Data!B196)","v":{"$error":"#DIV/0!"}},{"$f":"IF(AND(Data!A196<>\"\",Chart!$O$2=\"Yes\"),Data!A196,\"\")","v":""}]
["",{"$f":"IF(Data!B197=\"\",\"\",Data!B197)","v":""},{"$f":"IF(Data!C197=\"\",\"\",Data!C197)","v":""},{"$f":"IF(B193=\"\",\"\",AVERAGE(Data!C:C))","v":""},{"$f":"IF(B193=\"\",\"\",IF((AVERAGE(Data!C:C)-2*J193)<0,0,AVERAGE(Data!C:C)-2*J193))","v":""},{"$f":"IF(B193=\"\",\"\",AVERAGE(Data!C:C)+2*J193)","v":""},{"$f":"IF(B193=\"\",\"\",IF(Data!C197<E193,Data!C197,#N/A))","v":""},{"$f":"IF(AND(Data!C197>=E193,Data!C197<=F193)=TRUE,Data!C197,#N/A)","v":0},{"$f":"IF(B193=\"\",\"\",IF(Data!C197>F193,Data!C197,#N/A))","v":""},{"$f":"STDEV(Data!C:C)/SQRT(Data!B197)","v":{"$error":"#DIV/0!"}},{"$f":"IF(AND(Data!A197<>\"\",Chart!$O$2=\"Yes\"),Data!A197,\"\")","v":""}]
["",{"$f":"IF(Data!B198=\"\",\"\",Data!B198)","v":""},{"$f":"IF(Data!C198=\"\",\"\",Data!C198)","v":""},{"$f":"IF(B194=\"\",\"\",AVERAGE(Data!C:C))","v":""},{"$f":"IF(B194=\"\",\"\",IF((AVERAGE(Data!C:C)-2*J194)<0,0,AVERAGE(Data!C:C)-2*J194))","v":""},{"$f":"IF(B194=\"\",\"\",AVERAGE(Data!C:C)+2*J194)","v":""},{"$f":"IF(B194=\"\",\"\",IF(Data!C198<E194,Data!C198,#N/A))","v":""},{"$f":"IF(AND(Data!C198>=E194,Data!C198<=F194)=TRUE,Data!C198,#N/A)","v":0},{"$f":"IF(B194=\"\",\"\",IF(Data!C198>F194,Data!C198,#N/A))","v":""},{"$f":"STDEV(Data!C:C)/SQRT(Data!B198)","v":{"$error":"#DIV/0!"}},{"$f":"IF(AND(Data!A198<>\"\",Chart!$O$2=\"Yes\"),Data!A198,\"\")","v":""}]
[{"$f":"IF(B195=\"\",\"\",1)","v":""},{"$f":"IF(Data!B199=\"\",\"\",Data!B199)","v":""},{"$f":"IF(Data!C199=\"\",\"\",Data!C199)","v":""},{"$f":"IF(B195=\"\",\"\",AVERAGE(Data!C:C))","v":""},{"$f":"IF(B195=\"\",\"\",IF((AVERAGE(Data!C:C)-2*J195)<0,0,AVERAGE(Data!C:C)-2*J195))","v":""},{"$f":"IF(B195=\"\",\"\",AVERAGE(Data!C:C)+2*J195)","v":""},{"$f":"IF(B195=\"\",\"\",IF(Data!C199<E195,Data!C199,#N/A))","v":""},{"$f":"IF(AND(Data!C199>=E195,Data!C199<=F195)=TRUE,Data!C199,#N/A)","v":0},{"$f":"IF(B195=\"\",\"\",IF(Data!C199>F195,Data!C199,#N/A))","v":""},{"$f":"STDEV(Data!C:C)/SQRT(Data!B199)","v":{"$error":"#DIV/0!"}},{"$f":"IF(AND(Data!A199<>\"\",Chart!$O$2=\"Yes\"),Data!A199,\"\")","v":""}]
["",{"$f":"IF(Data!B200=\"\",\"\",Data!B200)","v":""},{"$f":"IF(Data!C200=\"\",\"\",Data!C200)","v":""},{"$f":"IF(B196=\"\",\"\",AVERAGE(Data!C:C))","v":""},{"$f":"IF(B196=\"\",\"\",IF((AVERAGE(Data!C:C)-2*J196)<0,0,AVERAGE(Data!C:C)-2*J196))","v":""},{"$f":"IF(B196=\"\",\"\",AVERAGE(Data!C:C)+2*J196)","v":""},{"$f":"IF(B196=\"\",\"\",IF(Data!C200<E196,Data!C200,#N/A))","v":""},{"$f":"IF(AND(Data!C200>=E196,Data!C200<=F196)=TRUE,Data!C200,#N/A)","v":0},{"$f":"IF(B196=\"\",\"\",IF(Data!C200>F196,Data!C200,#N/A))","v":""},{"$f":"STDEV(Data!C:C)/SQRT(Data!B200)","v":{"$error":"#DIV/0!"}},{"$f":"IF(AND(Data!A200<>\"\",Chart!$O$2=\"Yes\"),Data!A200,\"\")","v":""}]
["",{"$f":"IF(Data!B201=\"\",\"\",Data!B201)","v":""},{"$f":"IF(Data!C201=\"\",\"\",Data!C201)","v":""},{"$f":"IF(B197=\"\",\"\",AVERAGE(Data!C:C))","v":""},{"$f":"IF(B197=\"\",\"\",IF((AVERAGE(Data!C:C)-2*J197)<0,0,AVERAGE(Data!C:C)-2*J197))","v":""},{"$f":"IF(B197=\"\",\"\",AVERAGE(Data!C:C)+2*J197)","v":""},{"$f":"IF(B197=\"\",\"\",IF(Data!C201<E197,Data!C201,#N/A))","v":""},{"$f":"IF(AND(Data!C201>=E197,Data!C201<=F197)=TRUE,Data!C201,#N/A)","v":0},{"$f":"IF(B197=\"\",\"\",IF(Data!C201>F197,Data!C201,#N/A))","v":""},{"$f":"STDEV(Data!C:C)/SQRT(Data!B201)","v":{"$error":"#DIV/0!"}},{"$f":"IF(AND(Data!A201<>\"\",Chart!$O$2=\"Yes\"),Data!A201,\"\")","v":""}]
["",{"$f":"IF(Data!B202=\"\",\"\",Data!B202)","v":""},{"$f":"IF(Data!C202=\"\",\"\",Data!C202)","v":""},{"$f":"IF(B198=\"\",\"\",AVERAGE(Data!C:C))","v":""},{"$f":"IF(B198=\"\",\"\",IF((AVERAGE(Data!C:C)-2*J198)<0,0,AVERAGE(Data!C:C)-2*J198))","v":""},{"$f":"IF(B198=\"\",\"\",AVERAGE(Data!C:C)+2*J198)","v":""},{"$f":"IF(B198=\"\",\"\",IF(Data!C202<E198,Data!C202,#N/A))","v":""},{"$f":"IF(AND(Data!C202>=E198,Data!C202<=F198)=TRUE,Data!C202,#N/A)","v":0},{"$f":"IF(B198=\"\",\"\",IF(Data!C202>F198,Data!C202,#N/A))","v":""},{"$f":"STDEV(Data!C:C)/SQRT(Data!B202)","v":{"$error":"#DIV/0!"}},{"$f":"IF(AND(Data!A202<>\"\",Chart!$O$2=\"Yes\"),Data!A202,\"\")","v":""}]
["",{"$f":"IF(Data!B203=\"\",\"\",Data!B203)","v":""},{"$f":"IF(Data!C203=\"\",\"\",Data!C203)","v":""},{"$f":"IF(B199=\"\",\"\",AVERAGE(Data!C:C))","v":""},{"$f":"IF(B199=\"\",\"\",IF((AVERAGE(Data!C:C)-2*J199)<0,0,AVERAGE(Data!C:C)-2*J199))","v":""},{"$f":"IF(B199=\"\",\"\",AVERAGE(Data!C:C)+2*J199)","v":""},{"$f":"IF(B199=\"\",\"\",IF(Data!C203<E199,Data!C203,#N/A))","v":""},{"$f":"IF(AND(Data!C203>=E199,Data!C203<=F199)=TRUE,Data!C203,#N/A)","v":0},{"$f":"IF(B199=\"\",\"\",IF(Data!C203>F199,Data!C203,#N/A))","v":""},{"$f":"STDEV(Data!C:C)/SQRT(Data!B203)","v":{"$error":"#DIV/0!"}},{"$f":"IF(AND(Data!A203<>\"\",Chart!$O$2=\"Yes\"),Data!A203,\"\")","v":""}]
["",{"$f":"IF(Data!B204=\"\",\"\",Data!B204)","v":""},{"$f":"IF(Data!C204=\"\",\"\",Data!C204)","v":""},{"$f":"IF(B200=\"\",\"\",AVERAGE(Data!C:C))","v":""},{"$f":"IF(B200=\"\",\"\",IF((AVERAGE(Data!C:C)-2*J200)<0,0,AVERAGE(Data!C:C)-2*J200))","v":""},{"$f":"IF(B200=\"\",\"\",AVERAGE(Data!C:C)+2*J200)","v":""},{"$f":"IF(B200=\"\",\"\",IF(Data!C204<E200,Data!C204,#N/A))","v":""},{"$f":"IF(AND(Data!C204>=E200,Data!C204<=F200)=TRUE,Data!C204,#N/A)","v":0},{"$f":"IF(B200=\"\",\"\",IF(Data!C204>F200,Data!C204,#N/A))","v":""},{"$f":"STDEV(Data!C:C)/SQRT(Data!B204)","v":{"$error":"#DIV/0!"}},{"$f":"IF(AND(Data!A204<>\"\",Chart!$O$2=\"Yes\"),Data!A204,\"\")","v":""}]
["",{"$f":"IF(Data!B205=\"\",\"\",Data!B205)","v":""},{"$f":"IF(Data!C205=\"\",\"\",Data!C205)","v":""},{"$f":"IF(B201=\"\",\"\",AVERAGE(Data!C:C))","v":""},{"$f":"IF(B201=\"\",\"\",IF((AVERAGE(Data!C:C)-2*J201)<0,0,AVERAGE(Data!C:C)-2*J201))","v":""},{"$f":"IF(B201=\"\",\"\",AVERAGE(Data!C:C)+2*J201)","v":""},{"$f":"IF(B201=\"\",\"\",IF(Data!C205<E201,Data!C205,#N/A))","v":""},{"$f":"IF(AND(Data!C205>=E201,Data!C205<=F201)=TRUE,Data!C205,#N/A)","v":0},{"$f":"IF(B201=\"\",\"\",IF(Data!C205>F201,Data!C205,#N/A))","v":""},{"$f":"STDEV(Data!C:C)/SQRT(Data!B205)","v":{"$error":"#DIV/0!"}},{"$f":"IF(AND(Data!A205<>\"\",Chart!$O$2=\"Yes\"),Data!A205,\"\")","v":""}]
["",{"$f":"IF(Data!B206=\"\",\"\",Data!B206)","v":""},{"$f":"IF(Data!C206=\"\",\"\",Data!C206)","v":""},{"$f":"IF(B202=\"\",\"\",AVERAGE(Data!C:C))","v":""},{"$f":"IF(B202=\"\",\"\",IF((AVERAGE(Data!C:C)-2*J202)<0,0,AVERAGE(Data!C:C)-2*J202))","v":""},{"$f":"IF(B202=\"\",\"\",AVERAGE(Data!C:C)+2*J202)","v":""},{"$f":"IF(B202=\"\",\"\",IF(Data!C206<E202,Data!C206,#N/A))","v":""},{"$f":"IF(AND(Data!C206>=E202,Data!C206<=F202)=TRUE,Data!C206,#N/A)","v":0},{"$f":"IF(B202=\"\",\"\",IF(Data!C206>F202,Data!C206,#N/A))","v":""},{"$f":"STDEV(Data!C:C)/SQRT(Data!B206)","v":{"$error":"#DIV/0!"}},{"$f":"IF(AND(Data!A206<>\"\",Chart!$O$2=\"Yes\"),Data!A206,\"\")","v":""}]
["",{"$f":"IF(Data!B207=\"\",\"\",Data!B207)","v":""},{"$f":"IF(Data!C207=\"\",\"\",Data!C207)","v":""},{"$f":"IF(B203=\"\",\"\",AVERAGE(Data!C:C))","v":""},{"$f":"IF(B203=\"\",\"\",IF((AVERAGE(Data!C:C)-2*J203)<0,0,AVERAGE(Data!C:C)-2*J203))","v":""},{"$f":"IF(B203=\"\",\"\",AVERAGE(Data!C:C)+2*J203)","v":""},{"$f":"IF(B203=\"\",\"\",IF(Data!C207<E203,Data!C207,#N/A))","v":""},{"$f":"IF(AND(Data!C207>=E203,Data!C207<=F203)=TRUE,Data!C207,#N/A)","v":0},{"$f":"IF(B203=\"\",\"\",IF(Data!C207>F203,Data!C207,#N/A))","v":""},{"$f":"STDEV(Data!C:C)/SQRT(Data!B207)","v":{"$error":"#DIV/0!"}},{"$f":"IF(AND(Data!A207<>\"\",Chart!$O$2=\"Yes\"),Data!A207,\"\")","v":""}]
["",{"$f":"IF(Data!B208=\"\",\"\",Data!B208)","v":""},{"$f":"IF(Data!C208=\"\",\"\",Data!C208)","v":""},{"$f":"IF(B204=\"\",\"\",AVERAGE(Data!C:C))","v":""},{"$f":"IF(B204=\"\",\"\",IF((AVERAGE(Data!C:C)-2*J204)<0,0,AVERAGE(Data!C:C)-2*J204))","v":""},{"$f":"IF(B204=\"\",\"\",AVERAGE(Data!C:C)+2*J204)","v":""},{"$f":"IF(B204=\"\",\"\",IF(Data!C208<E204,Data!C208,#N/A))","v":""},{"$f":"IF(AND(Data!C208>=E204,Data!C208<=F204)=TRUE,Data!C208,#N/A)","v":0},{"$f":"IF(B204=\"\",\"\",IF(Data!C208>F204,Data!C208,#N/A))","v":""},{"$f":"STDEV(Data!C:C)/SQRT(Data!B208)","v":{"$error":"#DIV/0!"}},{"$f":"IF(AND(Data!A208<>\"\",Chart!$O$2=\"Yes\"),Data!A208,\"\")","v":""}]
["",{"$f":"IF(Data!B209=\"\",\"\",Data!B209)","v":""},{"$f":"IF(Data!C209=\"\",\"\",Data!C209)","v":""},{"$f":"IF(B205=\"\",\"\",AVERAGE(Data!C:C))","v":""},{"$f":"IF(B205=\"\",\"\",IF((AVERAGE(Data!C:C)-2*J205)<0,0,AVERAGE(Data!C:C)-2*J205))","v":""},{"$f":"IF(B205=\"\",\"\",AVERAGE(Data!C:C)+2*J205)","v":""},{"$f":"IF(B205=\"\",\"\",IF(Data!C209<E205,Data!C209,#N/A))","v":""},{"$f":"IF(AND(Data!C209>=E205,Data!C209<=F205)=TRUE,Data!C209,#N/A)","v":0},{"$f":"IF(B205=\"\",\"\",IF(Data!C209>F205,Data!C209,#N/A))","v":""},{"$f":"STDEV(Data!C:C)/SQRT(Data!B209)","v":{"$error":"#DIV/0!"}},{"$f":"IF(AND(Data!A209<>\"\",Chart!$O$2=\"Yes\"),Data!A209,\"\")","v":""}]